Uber Exif Photo
Make : Panasonic
Camera Model Name : DMC-FZ200
Orientation : Horizontal (normal)
Exposure Time : 1/15
Shutter Speed Value : 1/15
F Number : 2.8
Aperture Value : 2.8
Exposure Program : Aperture-priority AE
Date/Time Original : 2014:01:06 15:23:54+01:00
Date/Time Digitized : 2014:01:06 15:23:54+01:00
Exposure Compensation : 0
Max Aperture Value : 2.8
Metering Mode : Multi-segment
Light Source : Flash
Focal Length : 4.5 mm
Sensing Method : One-chip color area
Scene Type : Directly photographed
Focal Length In 35mm Format : 25 mm
Custom Rendered : Custom
Exposure Mode : Auto
White Balance : Manual
Scene Capture Type : Standard
Gain Control : High gain up
Contrast : High
Saturation : Normal
Sharpness : Hard
Digital Zoom Ratio : 0
Exif Image Width : 4038
Exif Image Height : 3038
Color Space : sRGB
Modify Date : 2014:01:09 21:51:16+01:00
Creator Tool : Adobe Photoshop CS3 Windows
Rating : 0
Create Date : 2014:01:06 15:23:54+01:00
Raw File Name : P1000397.JPG
Version : 4.4.1
Incremental Temperature : 0
Incremental Tint : 0
Exposure : 0.00
Shadows : 4
Brightness : 0
Luminance Smoothing : 0
Color Noise Reduction : 0
Chromatic Aberration R : 0
Chromatic Aberration B : 0
Vignette Amount : 0
Shadow Tint : 0
Red Hue : 0
Red Saturation : 0
Green Hue : 0
Green Saturation : 0
Blue Hue : 0
Blue Saturation : 0
Fill Light : 0
Vibrance : 0
Highlight Recovery : 56
Clarity : 55
Defringe : 0
Hue Adjustment Red : 0
Hue Adjustment Orange : 0
Hue Adjustment Yellow : 0
Hue Adjustment Green : 0
Hue Adjustment Aqua : 0
Hue Adjustment Blue : 0
Hue Adjustment Purple : 0
Hue Adjustment Magenta : 0
Saturation Adjustment Red : 0
Saturation Adjustment Orange : 0
Saturation Adjustment Yellow : 0
Saturation Adjustment Green : 0
Saturation Adjustment Aqua : 0
Saturation Adjustment Blue : 0
Saturation Adjustment Purple : 0
Saturation Adjustment Magenta : 0
Luminance Adjustment Red : 0
Luminance Adjustment Orange : 0
Luminance Adjustment Yellow : 0
Luminance Adjustment Green : 0
Luminance Adjustment Aqua : 0
Luminance Adjustment Blue : 0
Luminance Adjustment Purple : 0
Luminance Adjustment Magenta : 0
Split Toning Shadow Hue : 0
Split Toning Shadow Saturation : 0
Split Toning Highlight Hue : 0
Split Toning Highlight Saturation : 0
Split Toning Balance : 0
Parametric Shadows : 0
Parametric Darks : 0
Parametric Lights : 0
Parametric Highlights : 0
Parametric Shadow Split : 25
Parametric Midtone Split : 50
Parametric Highlight Split : 75
Sharpen Radius : +1.0
Sharpen Detail : 25
Sharpen Edge Masking : 0
Convert To Grayscale : False
Tone Curve Name : Linear
Camera Profile : Embedded
Has Settings : True
Has Crop : False
Already Applied : True
Format : image/jpeg
Color Mode : RGB
ICC Profile Name : sRGB IEC61966-2.1
ISO : 800
Flash Fired : False
Flash Return : No return detection
Flash Mode : Off
Flash Function : False
Flash Red Eye Mode : False
Tone Curve : 0, 0, 255, 255
Image Width : 300
Image Height : 226
Bits Per Sample : 8
Color Components : 3
Aperture : 2.8
Image Size : 300x226
Megapixels : 0.068
Scale Factor To 35 mm Equivalent : 5.6
Shutter Speed : 1/15
Flash : Off, Did not fire
Circle Of Confusion : 0.005 mm
Field Of View : 71.5 deg
Focal Length : 4.5 mm (35 mm equivalent: 25.0 mm)
Hyperfocal Distance : 1.34 m
Light Value : 3.9