Uber Exif Photo
Copyright Flag : False
Orientation : Horizontal (normal)
Software : Adobe Photoshop CS Windows
Modify Date : 2022:12:11 00:48:35
Color Space : sRGB
Exif Image Width : 2528
Exif Image Height : 2528
Profile Description : sRGB IEC61966-2.1
Version : 6.6
Process Version : 5.7
White Balance : As Shot
Incremental Temperature : 0
Incremental Tint : 0
Exposure : 0.00
Shadows : 3
Brightness : 0
Contrast : 0
Saturation : 0
Sharpness : 21
Luminance Smoothing : 0
Color Noise Reduction : 0
Chromatic Aberration R : 0
Chromatic Aberration B : 0
Vignette Amount : 0
Shadow Tint : 0
Red Hue : 0
Red Saturation : 0
Green Hue : 0
Green Saturation : 0
Blue Hue : 0
Blue Saturation : 0
Fill Light : 0
Vibrance : 0
Highlight Recovery : 18
Clarity : +13
Defringe : 0
Hue Adjustment Red : 0
Hue Adjustment Orange : 0
Hue Adjustment Yellow : 0
Hue Adjustment Green : 0
Hue Adjustment Aqua : 0
Hue Adjustment Blue : 0
Hue Adjustment Purple : 0
Hue Adjustment Magenta : 0
Saturation Adjustment Red : 0
Saturation Adjustment Orange : 0
Saturation Adjustment Yellow : 0
Saturation Adjustment Green : 0
Saturation Adjustment Aqua : 0
Saturation Adjustment Blue : 0
Saturation Adjustment Purple : 0
Saturation Adjustment Magenta : 0
Luminance Adjustment Red : 0
Luminance Adjustment Orange : 0
Luminance Adjustment Yellow : 0
Luminance Adjustment Green : 0
Luminance Adjustment Aqua : 0
Luminance Adjustment Blue : 0
Luminance Adjustment Purple : 0
Luminance Adjustment Magenta : 0
Split Toning Shadow Hue : 0
Split Toning Shadow Saturation : 0
Split Toning Highlight Hue : 0
Split Toning Highlight Saturation : 0
Split Toning Balance : 0
Parametric Shadows : 0
Parametric Darks : 0
Parametric Lights : +5
Parametric Highlights : +9
Parametric Shadow Split : 25
Parametric Midtone Split : 50
Parametric Highlight Split : 75
Sharpen Radius : +1.1
Sharpen Detail : 11
Sharpen Edge Masking : 0
Post Crop Vignette Amount : -13
Post Crop Vignette Midpoint : 48
Post Crop Vignette Feather : 48
Post Crop Vignette Roundness : 0
Post Crop Vignette Style : Highlight Priority
Post Crop Vignette Highlight Contrast : 0
Grain Amount : 0
Lens Profile Enable : 0
Lens Manual Distortion Amount : -6
Perspective Vertical : 0
Perspective Horizontal : 0
Perspective Rotate : -2.0
Perspective Scale : 102
Convert To Grayscale : False
Tone Curve Name : Linear
Camera Profile : Embedded
Lens Profile Setup : LensDefaults
Has Settings : True
Crop Top : 0.258144
Crop Left : 0.021921
Crop Bottom : 0.922039
Crop Right : 0.991228
Crop Angle : 0
Crop Constrain To Warp : 0
Crop Width : 2522
Crop Height : 2522
Crop Unit : pixels
Has Crop : True
Already Applied : True
Tone Curve : 0, 0, 255, 255
Creator Tool : Adobe Photoshop CS Windows
Create Date : 2022:12:11 00:41:48+02:00
Format : image/jpeg
Image Width : 400
Image Height : 400
Bits Per Sample : 8
Color Components : 3
Image Size : 400x400
Megapixels : 0.160