Uber Exif Photo
Copyright Flag : False
Make : Leica Camera AG
Camera Model Name : M8 Digital Camera
Orientation : Horizontal (normal)
Software : Adobe Photoshop CS Windows
Modify Date : 2016:05:19 00:41:59
Exposure Time : 1/250
F Number : 4.8
Exposure Program : Manual
ISO : 320
Date/Time Original : 2016:05:15 16:29:50
Create Date : 2016:05:15 16:29:50
Shutter Speed Value : 1/250
Aperture Value : 4.8
Exposure Compensation : 0
Max Aperture Value : 1.0
Metering Mode : Center-weighted average
Light Source : Unknown
Color Space : sRGB
Exif Image Width : 1893
Exif Image Height : 2894
Scene Type : Directly photographed
White Balance : Manual
Digital Zoom Ratio : 0
Scene Capture Type : Standard
Serial Number : 3109179
Profile Description : sRGB IEC61966-2.1
Version : 6.5
Process Version : 5.7
Color Temperature : 5550
Tint : -4
Exposure : +0.23
Shadows : 3
Brightness : +48
Contrast : +18
Sharpness : 31
Luminance Smoothing : 0
Color Noise Reduction : 25
Chromatic Aberration R : 0
Chromatic Aberration B : 0
Vignette Amount : 0
Shadow Tint : 0
Red Hue : 0
Red Saturation : 0
Green Hue : 0
Green Saturation : 0
Blue Hue : 0
Blue Saturation : 0
Fill Light : 24
Highlight Recovery : 0
Clarity : +18
Defringe : 0
Gray Mixer Red : +39
Gray Mixer Orange : +12
Gray Mixer Yellow : -9
Gray Mixer Green : -17
Gray Mixer Aqua : -10
Gray Mixer Blue : +20
Gray Mixer Purple : +25
Gray Mixer Magenta : +32
Split Toning Shadow Hue : 37
Split Toning Shadow Saturation : 32
Split Toning Highlight Hue : 51
Split Toning Highlight Saturation : 22
Split Toning Balance : 0
Parametric Shadows : 0
Parametric Darks : -24
Parametric Lights : +24
Parametric Highlights : 0
Parametric Shadow Split : 25
Parametric Midtone Split : 50
Parametric Highlight Split : 75
Sharpen Radius : +1.1
Sharpen Detail : 21
Sharpen Edge Masking : 0
Post Crop Vignette Amount : -18
Post Crop Vignette Midpoint : 48
Post Crop Vignette Feather : 31
Post Crop Vignette Roundness : +31
Post Crop Vignette Style : Highlight Priority
Post Crop Vignette Highlight Contrast : 0
Grain Amount : 0
Color Noise Reduction Detail : 50
Lens Profile Enable : 0
Lens Manual Distortion Amount : 0
Perspective Vertical : 0
Perspective Horizontal : 0
Perspective Rotate : 0.0
Perspective Scale : 100
Convert To Grayscale : True
Tone Curve Name : Medium Contrast
Camera Profile : Adobe Standard
Lens Profile Setup : LensDefaults
Has Settings : True
Crop Top : 0.117041
Crop Left : 0.06284
Crop Bottom : 0.864278
Crop Right : 0.958438
Crop Angle : -4.23412
Crop Constrain To Warp : 0
Crop Width : 3352
Crop Height : 2222
Crop Unit : pixels
Has Crop : True
Already Applied : True
Tone Curve : 0, 0, 32, 22, 64, 56, 128, 128, 192, 196, 255, 255
Date/Time Digitized : 2016:05:15 16:29:50+02:00
Flash Fired : False
Flash Return : No return detection
Flash Mode : On
Flash Function : False
Flash Red Eye Mode : False
Date Created : 2016:05:15
Format : image/jpeg
Image Width : 308
Image Height : 467
Bits Per Sample : 8
Color Components : 3
Aperture : 4.8
Image Size : 308x467
Megapixels : 0.144
Scale Factor To 35 mm Equivalent : 1.8
Shutter Speed : 1/250
Flash : On, Did not fire
Circle Of Confusion : 0.016 mm
Light Value : 10.8