Uber Exif Photo
Copyright Flag : False
Make : Leica Camera AG
Camera Model Name : M8 Digital Camera
Orientation : Horizontal (normal)
Software : Adobe Photoshop CS Windows
Modify Date : 2016:08:28 00:09:12
Exposure Time : 1/125
F Number : 4.8
Exposure Program : Manual
ISO : 320
Date/Time Original : 2016:08:26 06:26:07
Create Date : 2016:08:26 06:26:07
Shutter Speed Value : 1/125
Aperture Value : 4.8
Exposure Compensation : +0.332
Max Aperture Value : 1.0
Metering Mode : Center-weighted average
Light Source : Unknown
Color Space : sRGB
Exif Image Width : 1677
Exif Image Height : 2432
Scene Type : Directly photographed
White Balance : Auto
Digital Zoom Ratio : 0
Scene Capture Type : Standard
Serial Number : 3109179
Profile Description : sRGB IEC61966-2.1
Version : 6.5
Process Version : 5.7
Color Temperature : 5151
Tint : -5
Exposure : -0.05
Shadows : 9
Brightness : +48
Contrast : +12
Saturation : -9
Sharpness : 52
Luminance Smoothing : 0
Color Noise Reduction : 25
Chromatic Aberration R : 0
Chromatic Aberration B : 0
Vignette Amount : 0
Shadow Tint : 0
Red Hue : 0
Red Saturation : 0
Green Hue : 0
Green Saturation : 0
Blue Hue : 0
Blue Saturation : 0
Fill Light : 11
Vibrance : 0
Highlight Recovery : 0
Clarity : +15
Defringe : 0
Hue Adjustment Red : 0
Hue Adjustment Orange : 0
Hue Adjustment Yellow : 0
Hue Adjustment Green : 0
Hue Adjustment Aqua : 0
Hue Adjustment Blue : 0
Hue Adjustment Purple : 0
Hue Adjustment Magenta : 0
Saturation Adjustment Red : 0
Saturation Adjustment Orange : 0
Saturation Adjustment Yellow : 0
Saturation Adjustment Green : 0
Saturation Adjustment Aqua : 0
Saturation Adjustment Blue : 0
Saturation Adjustment Purple : 0
Saturation Adjustment Magenta : 0
Luminance Adjustment Red : 0
Luminance Adjustment Orange : 0
Luminance Adjustment Yellow : 0
Luminance Adjustment Green : 0
Luminance Adjustment Aqua : 0
Luminance Adjustment Blue : 0
Luminance Adjustment Purple : 0
Luminance Adjustment Magenta : 0
Split Toning Shadow Hue : 0
Split Toning Shadow Saturation : 0
Split Toning Highlight Hue : 0
Split Toning Highlight Saturation : 0
Split Toning Balance : 0
Parametric Shadows : -3
Parametric Darks : 0
Parametric Lights : +9
Parametric Highlights : +6
Parametric Shadow Split : 25
Parametric Midtone Split : 50
Parametric Highlight Split : 75
Sharpen Radius : +1.1
Sharpen Detail : 22
Sharpen Edge Masking : 0
Post Crop Vignette Amount : 0
Grain Amount : 0
Color Noise Reduction Detail : 50
Lens Profile Enable : 0
Lens Manual Distortion Amount : 0
Perspective Vertical : 0
Perspective Horizontal : 0
Perspective Rotate : 0.0
Perspective Scale : 100
Convert To Grayscale : False
Tone Curve Name : Medium Contrast
Camera Profile : Adobe Standard
Lens Profile Setup : LensDefaults
Has Settings : True
Crop Top : 0
Crop Left : 0.071312
Crop Bottom : 1
Crop Right : 0.743938
Crop Angle : 0
Crop Constrain To Warp : 0
Crop Width : 2634
Crop Height : 2634
Crop Unit : pixels
Has Crop : True
Already Applied : True
Tone Curve : 0, 0, 32, 22, 64, 56, 128, 128, 192, 196, 255, 255
Date/Time Digitized : 2016:08:26 06:26:07+02:00
Flash Fired : False
Flash Return : No return detection
Flash Mode : On
Flash Function : False
Flash Red Eye Mode : False
Date Created : 2016:08:26
Format : image/jpeg
Image Width : 308
Image Height : 443
Bits Per Sample : 8
Color Components : 3
Aperture : 4.8
Image Size : 308x443
Megapixels : 0.136
Scale Factor To 35 mm Equivalent : 2.2
Shutter Speed : 1/125
Flash : On, Did not fire
Circle Of Confusion : 0.014 mm
Light Value : 9.8