Uber Exif Photo
Make : Leica Camera AG
Camera Model Name : M8 Digital Camera
Software : Adobe Photoshop Lightroom 5.0 (Macintosh)
Modify Date : 2014:03:25 18:33:53
Exposure Time : 1/30
F Number : 3.4
Exposure Program : Manual
ISO : 320
Date/Time Original : 2013:05:04 09:20:23
Create Date : 2013:05:04 09:20:23
Shutter Speed Value : 1/30
Aperture Value : 3.4
Exposure Compensation : 0
Max Aperture Value : 1.0
Metering Mode : Center-weighted average
Light Source : Unknown
Flash : On, Did not fire
Scene Type : Directly photographed
White Balance : Auto
Digital Zoom Ratio : 0
Scene Capture Type : Standard
Serial Number : 3104547
Profile Description : sRGB IEC61966-2.1
Creator Tool : Adobe Photoshop Lightroom 5.0 (Macintosh)
Date Created : 2013:05:04 09:20:23
Version : 8.1
Process Version : 5.7
Color Temperature : 4348
Tint : +8
Exposure : +0.30
Shadows : 5
Brightness : +50
Contrast : +1
Saturation : 0
Sharpness : 25
Luminance Smoothing : 93
Color Noise Reduction : 25
Vignette Amount : 0
Shadow Tint : 0
Red Hue : 0
Red Saturation : 0
Green Hue : 0
Green Saturation : 0
Blue Hue : 0
Blue Saturation : 0
Fill Light : 32
Vibrance : 0
Highlight Recovery : 0
Clarity : -29
Hue Adjustment Red : 0
Hue Adjustment Orange : 0
Hue Adjustment Yellow : 0
Hue Adjustment Green : 0
Hue Adjustment Aqua : 0
Hue Adjustment Blue : 0
Hue Adjustment Purple : 0
Hue Adjustment Magenta : 0
Saturation Adjustment Red : 0
Saturation Adjustment Orange : 0
Saturation Adjustment Yellow : 0
Saturation Adjustment Green : 0
Saturation Adjustment Aqua : 0
Saturation Adjustment Blue : 0
Saturation Adjustment Purple : 0
Saturation Adjustment Magenta : 0
Luminance Adjustment Red : 0
Luminance Adjustment Orange : 0
Luminance Adjustment Yellow : 0
Luminance Adjustment Green : 0
Luminance Adjustment Aqua : 0
Luminance Adjustment Blue : 0
Luminance Adjustment Purple : 0
Luminance Adjustment Magenta : 0
Split Toning Shadow Hue : 0
Split Toning Shadow Saturation : 0
Split Toning Highlight Hue : 0
Split Toning Highlight Saturation : 0
Split Toning Balance : 0
Parametric Shadows : 0
Parametric Darks : 0
Parametric Lights : 0
Parametric Highlights : 0
Parametric Shadow Split : 25
Parametric Midtone Split : 50
Parametric Highlight Split : 75
Sharpen Radius : +1.0
Sharpen Detail : 25
Sharpen Edge Masking : 0
Post Crop Vignette Amount : 0
Grain Amount : 0
Luminance Noise Reduction Detail : 50
Color Noise Reduction Detail : 50
Luminance Noise Reduction Contrast : 0
Lens Profile Enable : 0
Lens Manual Distortion Amount : 0
Perspective Vertical : 0
Perspective Horizontal : -11
Perspective Rotate : 0.0
Perspective Scale : 100
Perspective Aspect : 0
Perspective Upright : Off
Auto Lateral CA : 0
Defringe Purple Amount : 0
Defringe Purple Hue Lo : 30
Defringe Purple Hue Hi : 70
Defringe Green Amount : 0
Defringe Green Hue Lo : 40
Defringe Green Hue Hi : 60
Convert To Grayscale : False
Tone Curve Name : Medium Contrast
Camera Profile : Adobe Standard
Lens Profile Setup : LensDefaults
Has Settings : True
Crop Top : 0.090746
Crop Left : 0
Crop Bottom : 0.973373
Crop Right : 0.936547
Crop Angle : 0
Crop Constrain To Warp : 0
Has Crop : True
Already Applied : True
Format : image/jpeg
Tone Curve : 0, 0, 32, 22, 64, 56, 128, 128, 192, 196, 255, 255
Tone Curve Red : 0, 0, 255, 255
Tone Curve Green : 0, 0, 255, 255
Tone Curve Blue : 0, 0, 255, 255
Derived From : Image Width : 300
Image Height : 190
Bits Per Sample : 8
Color Components : 3
Aperture : 3.4
Image Size : 300x190
Megapixels : 0.057
Scale Factor To 35 mm Equivalent : 17.9
Shutter Speed : 1/30
Circle Of Confusion : 0.002 mm
Light Value : 6.8