Uber Exif Photo
Make : Leica Camera AG
Camera Model Name : M8 Digital Camera
Software : 2.005
Modify Date : 2011:06:19 17:14:18
Exposure Time : 1/8000
F Number : 1.0
Exposure Program : Aperture-priority AE
ISO : 160
Sensitivity Type : Unknown
Date/Time Original : 2011:06:19 00:44:21
Create Date : 2011:06:19 00:44:21
Shutter Speed Value : 1/8000
Aperture Value : 1.0
Exposure Compensation : 0
Max Aperture Value : 1.0
Metering Mode : Center-weighted average
Light Source : Unknown
Scene Type : Directly photographed
White Balance : Auto
Digital Zoom Ratio : 0
Scene Capture Type : Standard
Serial Number : 3101122
Profile Description : Adobe RGB (1998)
Date/Time Digitized : 2011:06:19 00:44:21-07:00
Exif Image Width : 1000
Exif Image Height : 1011
Creator Tool : Adobe Photoshop Lightroom
Version : 6.2
Process Version : 5.7
Color Temperature : 5600
Tint : +4
Exposure : 0.00
Shadows : 5
Brightness : +50
Contrast : +25
Saturation : -14
Sharpness : 25
Luminance Smoothing : 0
Color Noise Reduction : 25
Chromatic Aberration R : 0
Chromatic Aberration B : 0
Vignette Amount : 0
Shadow Tint : 0
Red Hue : 0
Red Saturation : 0
Green Hue : 0
Green Saturation : 0
Blue Hue : 0
Blue Saturation : 0
Fill Light : 10
Vibrance : 0
Highlight Recovery : 0
Clarity : +66
Defringe : 0
Hue Adjustment Red : 0
Hue Adjustment Orange : 0
Hue Adjustment Yellow : 0
Hue Adjustment Green : +12
Hue Adjustment Aqua : -26
Hue Adjustment Blue : -12
Hue Adjustment Purple : 0
Hue Adjustment Magenta : 0
Saturation Adjustment Red : -12
Saturation Adjustment Orange : 0
Saturation Adjustment Yellow : 0
Saturation Adjustment Green : +52
Saturation Adjustment Aqua : +52
Saturation Adjustment Blue : +52
Saturation Adjustment Purple : 0
Saturation Adjustment Magenta : +30
Luminance Adjustment Red : +30
Luminance Adjustment Orange : +30
Luminance Adjustment Yellow : 0
Luminance Adjustment Green : 0
Luminance Adjustment Aqua : 0
Luminance Adjustment Blue : 0
Luminance Adjustment Purple : 0
Luminance Adjustment Magenta : 0
Split Toning Shadow Hue : 231
Split Toning Shadow Saturation : 20
Split Toning Highlight Hue : 77
Split Toning Highlight Saturation : 36
Split Toning Balance : 0
Parametric Shadows : -5
Parametric Darks : -15
Parametric Lights : +20
Parametric Highlights : +5
Parametric Shadow Split : 25
Parametric Midtone Split : 50
Parametric Highlight Split : 75
Sharpen Radius : +1.0
Sharpen Detail : 25
Sharpen Edge Masking : 0
Post Crop Vignette Amount : -20
Post Crop Vignette Midpoint : 50
Post Crop Vignette Feather : 50
Post Crop Vignette Roundness : +36
Post Crop Vignette Style : Highlight Priority
Post Crop Vignette Highlight Contrast : 0
Grain Amount : 0
Color Noise Reduction Detail : 50
Lens Profile Enable : 0
Lens Manual Distortion Amount : 0
Perspective Vertical : 0
Perspective Horizontal : 0
Perspective Rotate : 0.0
Perspective Scale : 100
Convert To Grayscale : False
Tone Curve Name : Medium Contrast
Camera Profile : ACR 3.6
Lens Profile Setup : LensDefaults
Has Settings : True
Crop Top : 0.244051
Crop Left : 0.190894
Crop Bottom : 0.792486
Crop Right : 0.559335
Crop Angle : -0.289913
Crop Constrain To Warp : 0
Crop Width : 1000
Crop Height : 1011
Crop Unit : pixels
Has Crop : True
Already Applied : True
Flash Fired : False
Flash Return : No return detection
Flash Mode : Auto
Flash Function : False
Flash Red Eye Mode : False
Tone Curve : 0, 0, 32, 22, 64, 56, 128, 128, 192, 196, 255, 255
Image Width : 297
Image Height : 300
Bits Per Sample : 8
Color Components : 3
Aperture : 1.0
Image Size : 297x300
Megapixels : 0.089
Scale Factor To 35 mm Equivalent : 4.5
Shutter Speed : 1/8000
Flash : Auto, Did not fire
Circle Of Confusion : 0.007 mm
Light Value : 12.3