Uber Exif Photo
Keywords : cats mono mm leica BW Abby Tele-Elmar135 135 f4
Make : Leica Camera AG
Camera Model Name : M Monochrom
Software : Adobe Photoshop Lightroom 5.7 (Macintosh)
Modify Date : 2015:03:08 08:00:27
Exposure Time : 1/60
F Number : 6.7
Exposure Program : Aperture-priority AE
ISO : 800
Date/Time Original : 2015:03:07 15:44:33
Create Date : 2015:03:07 15:44:33
Shutter Speed Value : 1/60
Aperture Value : 6.7
Exposure Compensation : 0
Max Aperture Value : 1.0
Metering Mode : Center-weighted average
Light Source : Unknown
Flash : No Flash
Scene Type : Directly photographed
Exposure Mode : Manual
Digital Zoom Ratio : 0
Scene Capture Type : Standard
Serial Number : 4347373
Creator Tool : Adobe Photoshop Lightroom 5.7 (Macintosh)
Rating : 5
Date Created : 2015:03:07 15:44:33
Format : image/jpeg
Version : 8.7
Process Version : 6.7
Sharpness : 46
Luminance Smoothing : 0
Vignette Amount : 0
Split Toning Shadow Hue : 0
Split Toning Shadow Saturation : 0
Split Toning Highlight Hue : 0
Split Toning Highlight Saturation : 0
Split Toning Balance : 0
Parametric Shadows : 0
Parametric Darks : 0
Parametric Lights : 0
Parametric Highlights : 0
Parametric Shadow Split : 25
Parametric Midtone Split : 50
Parametric Highlight Split : 75
Sharpen Radius : +1.0
Sharpen Detail : 25
Sharpen Edge Masking : 0
Post Crop Vignette Amount : -27
Post Crop Vignette Midpoint : 50
Post Crop Vignette Feather : 50
Post Crop Vignette Roundness : 0
Post Crop Vignette Style : Highlight Priority
Post Crop Vignette Highlight Contrast : 0
Grain Amount : 0
Lens Profile Enable : 1
Lens Manual Distortion Amount : 0
Perspective Vertical : 0
Perspective Horizontal : 0
Perspective Rotate : 0.0
Perspective Scale : 100
Perspective Aspect : 0
Perspective Upright : Auto
Exposure 2012 : +0.15
Contrast 2012 : -25
Highlights 2012 : -62
Shadows 2012 : +39
Whites 2012 : +43
Blacks 2012 : -50
Clarity 2012 : -4
Tone Curve Name : Linear
Tone Curve Name 2012 : Linear
Lens Profile Setup : Custom
Lens Profile Name : Adobe (Leica APO-TELYT-M 135 mm f/3.4)
Lens Profile Filename : Leica Camera AG (Leica APO-TELYT-M 135 mm f3.4) - RAW.lcp
Lens Profile Distortion Scale : 100
Lens Profile Chromatic Aberration Scale : 100
Lens Profile Vignetting Scale : 100
Has Settings : True
Crop Top : 0.053793
Crop Left : 0.014988
Crop Bottom : 0.946207
Crop Right : 0.985012
Crop Angle : -2.16637
Crop Constrain To Warp : 0
Has Crop : True
Already Applied : True
Subject : cats mono mm leica BW Abby Tele-Elmar135 135 f4
Tone Curve : 0, 0, 255, 255
Tone Curve Red : 0, 0, 255, 255
Tone Curve Green : 0, 0, 255, 255
Tone Curve Blue : 0, 0, 255, 255
Tone Curve PV2012 : 0, 0, 255, 255
Tone Curve PV2012 Red : 0, 0, 255, 255
Tone Curve PV2012 Green : 0, 0, 255, 255
Tone Curve PV2012 Blue : 0, 0, 255, 255
Image Width : 255
Image Height : 170
Bits Per Sample : 8
Color Components : 1
Aperture : 6.7
Image Size : 255x170
Megapixels : 0.043
Scale Factor To 35 mm Equivalent : 20.5
Shutter Speed : 1/60
Circle Of Confusion : 0.001 mm
Light Value : 8.4