Uber Exif Photo
Keywords : portra160 portra 160 kodak m4p test fault leica
By-line : Only the Best :-))
Caption-Abstract : Autosave-File vom d-lab2/3 der AgfaPhoto GmbH
Image Description : Autosave-File vom d-lab2/3 der AgfaPhoto GmbH
Make : AgfaPhoto GmbH
Camera Model Name : d-lab.2/3
Software : Adobe Photoshop Lightroom 5.7 (Macintosh)
Modify Date : 2015:02:22 15:13:16
Artist : Only the Best :-))
Color Space : sRGB
Profile Description : sRGB IEC61966-2.1
Format : image/jpeg
Creator Tool : Adobe Photoshop Lightroom 5.7 (Macintosh)
Rating : 5
Version : 8.7
Process Version : 6.7
White Balance : As Shot
Auto White Version : 134348800
Incremental Temperature : 0
Incremental Tint : 0
Saturation : +6
Sharpness : 0
Luminance Smoothing : 0
Color Noise Reduction : 25
Vignette Amount : 0
Shadow Tint : 0
Red Hue : +30
Red Saturation : +5
Green Hue : +55
Green Saturation : +5
Blue Hue : -5
Blue Saturation : -10
Vibrance : 0
Hue Adjustment Red : +11
Hue Adjustment Orange : 0
Hue Adjustment Yellow : 0
Hue Adjustment Green : +1
Hue Adjustment Aqua : 0
Hue Adjustment Blue : 0
Hue Adjustment Purple : +21
Hue Adjustment Magenta : +29
Saturation Adjustment Red : -9
Saturation Adjustment Orange : +4
Saturation Adjustment Yellow : 0
Saturation Adjustment Green : -19
Saturation Adjustment Aqua : -21
Saturation Adjustment Blue : -14
Saturation Adjustment Purple : -46
Saturation Adjustment Magenta : -39
Luminance Adjustment Red : -9
Luminance Adjustment Orange : -3
Luminance Adjustment Yellow : +11
Luminance Adjustment Green : 0
Luminance Adjustment Aqua : +21
Luminance Adjustment Blue : 0
Luminance Adjustment Purple : +19
Luminance Adjustment Magenta : +16
Split Toning Shadow Hue : 0
Split Toning Shadow Saturation : 0
Split Toning Highlight Hue : 0
Split Toning Highlight Saturation : 0
Split Toning Balance : 0
Parametric Shadows : 0
Parametric Darks : 0
Parametric Lights : 0
Parametric Highlights : 0
Parametric Shadow Split : 25
Parametric Midtone Split : 50
Parametric Highlight Split : 75
Sharpen Radius : +1.0
Sharpen Detail : 25
Sharpen Edge Masking : 0
Post Crop Vignette Amount : 0
Grain Amount : 25
Grain Size : 30
Grain Frequency : 35
Color Noise Reduction Detail : 50
Color Noise Reduction Smoothness : 50
Lens Profile Enable : 0
Lens Manual Distortion Amount : 0
Perspective Vertical : 0
Perspective Horizontal : 0
Perspective Rotate : 0.0
Perspective Scale : 100
Perspective Aspect : 0
Perspective Upright : Off
Auto Lateral CA : 0
Exposure 2012 : -0.20
Contrast 2012 : -19
Highlights 2012 : -63
Shadows 2012 : +91
Whites 2012 : +27
Blacks 2012 : -40
Clarity 2012 : 0
Defringe Purple Amount : 0
Defringe Purple Hue Lo : 30
Defringe Purple Hue Hi : 70
Defringe Green Amount : 0
Defringe Green Hue Lo : 40
Defringe Green Hue Hi : 60
Convert To Grayscale : False
Tone Curve Name : Linear
Tone Curve Name 2012 : Ektar 100
Camera Profile : Embedded
Lens Profile Setup : LensDefaults
Has Settings : True
Crop Top : 0
Crop Left : 0
Crop Bottom : 1
Crop Right : 0.895519
Crop Angle : 0
Crop Constrain To Warp : 0
Has Crop : True
Already Applied : True
Creator : Only the Best :-))
Subject : portra160 portra 160 kodak m4p test fault leica
Description : Autosave-File vom d-lab2/3 der AgfaPhoto GmbH
Tone Curve : 0, 0, 255, 255
Tone Curve Red : 0, 0, 255, 255
Tone Curve Green : 0, 0, 255, 255
Tone Curve Blue : 0, 0, 255, 255
Tone Curve PV2012 : 0, 1, 255, 253
Tone Curve PV2012 Red : 0, 0, 44, 11, 70, 38, 96, 88, 149, 179, 191, 223, 255, 255
Tone Curve PV2012 Green : 0, 0, 28, 7, 61, 35, 92, 82, 149, 181, 189, 221, 255, 255
Tone Curve PV2012 Blue : 0, 0, 24, 10, 93, 82, 148, 177, 198, 226, 255, 255
Image Width : 255
Image Height : 190
Bits Per Sample : 8
Color Components : 3
Image Size : 255x190
Megapixels : 0.048