Uber Exif Photo
Make : Leica Camera AG
Camera Model Name : M9 Digital Camera
Software : Adobe Photoshop Lightroom 4.4 (Macintosh)
Modify Date : 2013:04:22 06:43:48
Exposure Time : 1/1500
F Number : 1.4
Exposure Program : Aperture-priority AE
ISO : 160
Date/Time Original : 2010:11:08 13:22:41
Create Date : 2010:11:08 13:22:41
Shutter Speed Value : 1/1500
Aperture Value : 1.4
Exposure Compensation : 0
Max Aperture Value : 1.4
Metering Mode : Center-weighted average
Light Source : Unknown
Flash : No Flash
Focal Length : 35.0 mm
Contrast : Normal
Sharpening : Normal
Saturation : Normal
White Balance : Auto
JPEG Quality : Fine
WB RGB Levels : 0.4807229623 1 0.7277896233
User Profile : Antique 3
JPEG Size : 5216x3472
Firmware Version : 1.138
Base ISO : 160
Sensor Width : 5270
Sensor Height : 3516
Sensor Bit Depth : 14
Camera Temperature : 35 C
Lens Type : Summilux-M 35mm f/1.4 ASPH.
Approximate F Number : 1.0
Measured LV : 6.58
External Sensor Brightness Value : 4.26
Scene Type : Directly photographed
Exposure Mode : Manual
Digital Zoom Ratio : 0
Focal Length In 35mm Format : 35 mm
Scene Capture Type : Standard
Serial Number : 3970368
Lens Model : Leica Summilux-M 35mm f/1.4 ASPH.
Maker Note Safety : Safe
Profile Description : sRGB IEC61966-2.1
Creator Tool : Adobe Photoshop Lightroom 4.4 (Macintosh)
Rating : 5
Lens : Leica Summilux-M 35mm f/1.4 ASPH.
Version : 7.4
Process Version : 6.7
Color Temperature : 4450
Tint : +1
Sharpness : 30
Luminance Smoothing : 0
Color Noise Reduction : 25
Vignette Amount : 0
Shadow Tint : 0
Red Hue : +20
Red Saturation : 0
Green Hue : -15
Green Saturation : 0
Blue Hue : -5
Blue Saturation : 0
Vibrance : 0
Hue Adjustment Red : -10
Hue Adjustment Orange : 0
Hue Adjustment Yellow : 0
Hue Adjustment Green : -5
Hue Adjustment Aqua : 0
Hue Adjustment Blue : 0
Hue Adjustment Purple : 0
Hue Adjustment Magenta : +15
Saturation Adjustment Red : 0
Saturation Adjustment Orange : -6
Saturation Adjustment Yellow : +5
Saturation Adjustment Green : -10
Saturation Adjustment Aqua : -25
Saturation Adjustment Blue : -20
Saturation Adjustment Purple : -15
Saturation Adjustment Magenta : -20
Luminance Adjustment Red : -35
Luminance Adjustment Orange : 0
Luminance Adjustment Yellow : -10
Luminance Adjustment Green : -25
Luminance Adjustment Aqua : -5
Luminance Adjustment Blue : -25
Luminance Adjustment Purple : +10
Luminance Adjustment Magenta : -20
Split Toning Shadow Hue : 0
Split Toning Shadow Saturation : 0
Split Toning Highlight Hue : 0
Split Toning Highlight Saturation : 0
Split Toning Balance : 0
Parametric Shadows : 0
Parametric Darks : 0
Parametric Lights : +20
Parametric Highlights : -10
Parametric Shadow Split : 18
Parametric Midtone Split : 45
Parametric Highlight Split : 75
Sharpen Radius : +1.2
Sharpen Detail : 25
Sharpen Edge Masking : 0
Post Crop Vignette Amount : 0
Grain Amount : 10
Grain Size : 60
Grain Frequency : 40
Color Noise Reduction Detail : 50
Lens Profile Enable : 1
Lens Manual Distortion Amount : 0
Perspective Vertical : 0
Perspective Horizontal : 0
Perspective Rotate : 0.0
Perspective Scale : 100
Auto Lateral CA : 0
Exposure 2012 : 0.00
Contrast 2012 : 0
Highlights 2012 : -10
Shadows 2012 : +15
Whites 2012 : -10
Blacks 2012 : 0
Clarity 2012 : -10
Defringe Purple Amount : 0
Defringe Purple Hue Lo : 30
Defringe Purple Hue Hi : 70
Defringe Green Amount : 0
Defringe Green Hue Lo : 40
Defringe Green Hue Hi : 60
Convert To Grayscale : False
Tone Curve Name 2012 : Polaroid 690 Cold
Camera Profile : Adobe Standard
Lens Profile Setup : Custom
Lens Profile Name : Adobe (Leica SUMMILUX-M 35 mm f/1.4 ASPH.)
Lens Profile Filename : Leica Camera AG (Leica SUMMILUX-M 35 mm f1.4 ASPH.) - RAW.lcp
Lens Profile Distortion Scale : 100
Lens Profile Chromatic Aberration Scale : 100
Lens Profile Vignetting Scale : 100
Has Settings : True
Has Crop : False
Already Applied : True
Format : image/jpeg
Date Created : 2010:11:08 13:22:41+02:00
Tone Curve PV2012 : 0, 52, 61, 73, 129, 130, 255, 255
Tone Curve PV2012 Red : 0, 0, 52, 17, 123, 124, 217, 225, 255, 247
Tone Curve PV2012 Green : 0, 7, 45, 25, 121, 120, 150, 164, 187, 198, 229, 231, 255, 255
Tone Curve PV2012 Blue : 0, 0, 47, 25, 115, 125, 190, 219, 255, 252
Derived From : Image Width : 300
Image Height : 200
Bits Per Sample : 8
Color Components : 3
Aperture : 1.4
Blue Balance : 0.72779
Image Size : 300x200
Lens ID : Leica Summilux-M 35mm f/1.4 ASPH.
Megapixels : 0.060
Red Balance : 0.480723
Scale Factor To 35 mm Equivalent : 1.0
Shutter Speed : 1/1500
Circle Of Confusion : 0.030 mm
Field Of View : 54.4 deg
Focal Length : 35.0 mm (35 mm equivalent: 35.0 mm)
Hyperfocal Distance : 29.12 m
Light Value : 10.8