Uber Exif Photo
Keywords : Autumn leaves lake colour ducks water 35mm lux fle
By-line : Ross Funnell
Copyright Notice : © 2012 Ross Funnell
Copyright Flag : True
URL : http://www.funnell.com.au
Make : Leica Camera AG
Camera Model Name : M9 Digital Camera
Software : Adobe Photoshop Lightroom 4.1 (Macintosh)
Modify Date : 2012:06:16 06:17:35
Artist : Ross Funnell
Copyright : © 2012 Ross Funnell
Exposure Time : 1/3000
F Number : 1.7
Exposure Program : Aperture-priority AE
ISO : 160
Date/Time Original : 2012:05:06 14:52:52
Create Date : 2012:05:06 14:52:52
Shutter Speed Value : 1/3000
Aperture Value : 1.7
Exposure Compensation : 0
Max Aperture Value : 1.4
Metering Mode : Center-weighted average
Light Source : Unknown
Flash : No Flash
Focal Length : 35.0 mm
Contrast : Normal
Sharpening : Normal
Saturation : Normal
White Balance : Auto
JPEG Quality : Fine
WB RGB Levels : 0.4780299936 1 0.6662600138
User Profile : Main DNG1
JPEG Size : 5216x3472
Firmware Version : 1.176
Base ISO : 160
Sensor Width : 5270
Sensor Height : 3516
Sensor Bit Depth : 14
Camera Temperature : 23 C
Lens Type : Summilux-M 35mm f/1.4 ASPH.
Approximate F Number : 1.5
Measured LV : 6.99
External Sensor Brightness Value : 4.75
Scene Type : Directly photographed
Exposure Mode : Manual
Digital Zoom Ratio : 0
Focal Length In 35mm Format : 35 mm
Scene Capture Type : Standard
Serial Number : 3970368
Lens Model : Leica Summilux-M 35mm f/1.4 ASPH.
Maker Note Safety : Safe
Profile Description : sRGB IEC61966-2.1
Creator Tool : Adobe Photoshop Lightroom 4.1 (Macintosh)
Rating : 5
Lens : Leica Summilux-M 35mm f/1.4 ASPH.
Date Created : 2012:05:06 14:52:52
Format : image/jpeg
Marked : True
Web Statement : http://www.funnell.com.au
Version : 7.1
Process Version : 6.7
Color Temperature : 4250
Tint : +17
Sharpness : 30
Luminance Smoothing : 0
Color Noise Reduction : 25
Vignette Amount : 0
Shadow Tint : 0
Red Hue : 0
Red Saturation : 0
Green Hue : 0
Green Saturation : 0
Blue Hue : 0
Blue Saturation : 0
Vibrance : 0
Hue Adjustment Red : 0
Hue Adjustment Orange : 0
Hue Adjustment Yellow : 0
Hue Adjustment Green : 0
Hue Adjustment Aqua : 0
Hue Adjustment Blue : 0
Hue Adjustment Purple : 0
Hue Adjustment Magenta : 0
Saturation Adjustment Red : 0
Saturation Adjustment Orange : 0
Saturation Adjustment Yellow : 0
Saturation Adjustment Green : 0
Saturation Adjustment Aqua : 0
Saturation Adjustment Blue : 0
Saturation Adjustment Purple : 0
Saturation Adjustment Magenta : 0
Luminance Adjustment Red : 0
Luminance Adjustment Orange : 0
Luminance Adjustment Yellow : 0
Luminance Adjustment Green : 0
Luminance Adjustment Aqua : 0
Luminance Adjustment Blue : 0
Luminance Adjustment Purple : 0
Luminance Adjustment Magenta : 0
Split Toning Shadow Hue : 0
Split Toning Shadow Saturation : 0
Split Toning Highlight Hue : 0
Split Toning Highlight Saturation : 0
Split Toning Balance : 0
Parametric Shadows : 0
Parametric Darks : 0
Parametric Lights : 0
Parametric Highlights : 0
Parametric Shadow Split : 25
Parametric Midtone Split : 50
Parametric Highlight Split : 75
Sharpen Radius : +1.0
Sharpen Detail : 25
Sharpen Edge Masking : 0
Post Crop Vignette Amount : -17
Post Crop Vignette Midpoint : 50
Post Crop Vignette Feather : 50
Post Crop Vignette Roundness : 0
Post Crop Vignette Style : Highlight Priority
Post Crop Vignette Highlight Contrast : 0
Grain Amount : 0
Color Noise Reduction Detail : 50
Lens Profile Enable : 1
Lens Manual Distortion Amount : 0
Perspective Vertical : 0
Perspective Horizontal : 0
Perspective Rotate : 0.0
Perspective Scale : 100
Auto Lateral CA : 0
Exposure 2012 : -0.35
Contrast 2012 : 0
Highlights 2012 : 0
Shadows 2012 : +8
Whites 2012 : +6
Blacks 2012 : 0
Clarity 2012 : +13
Defringe Purple Amount : 0
Defringe Purple Hue Lo : 30
Defringe Purple Hue Hi : 70
Defringe Green Amount : 0
Defringe Green Hue Lo : 40
Defringe Green Hue Hi : 60
Convert To Grayscale : False
Tone Curve Name 2012 : Linear
Camera Profile : Adobe Standard
Lens Profile Setup : LensDefaults
Lens Profile Name : Adobe (Leica SUMMILUX-M 35 mm f/1.4 ASPH.)
Lens Profile Filename : Leica Camera AG (Leica SUMMILUX-M 35 mm f1.4 ASPH.) - RAW.lcp
Lens Profile Distortion Scale : 100
Lens Profile Chromatic Aberration Scale : 100
Lens Profile Vignetting Scale : 100
Has Settings : True
Has Crop : False
Already Applied : True
Creator : Ross Funnell
Rights : © 2012 Ross Funnell
Subject : Autumn leaves lake colour ducks water 35mm lux fle
Creator Postal Code : 6168
Creator Work Email : ross.funnell@funnellchiropractic.com
Creator Work Telephone : +61 8 9527 6168
Creator Region : Western Australia
Creator City : Rockingham
Creator Address : 23 Chalgrove Avenue
Creator Country : Australia
Creator Work URL : http://www.funnell.com.au
Tone Curve PV2012 : 0, 0, 255, 255
Tone Curve PV2012 Red : 0, 0, 255, 255
Tone Curve PV2012 Green : 0, 0, 255, 255
Tone Curve PV2012 Blue : 0, 0, 255, 255
Image Width : 300
Image Height : 200
Bits Per Sample : 8
Color Components : 3
Aperture : 1.7
Blue Balance : 0.66626
Image Size : 300x200
Lens ID : Leica Summilux-M 35mm f/1.4 ASPH.
Megapixels : 0.060
Red Balance : 0.47803
Scale Factor To 35 mm Equivalent : 1.0
Shutter Speed : 1/3000
Circle Of Confusion : 0.030 mm
Field Of View : 54.4 deg
Focal Length : 35.0 mm (35 mm equivalent: 35.0 mm)
Hyperfocal Distance : 23.98 m
Light Value : 12.4