Uber Exif Photo
Make : Leica Camera AG
Camera Model Name : M9 Digital Camera
Software : Adobe Photoshop Lightroom 3.4
Modify Date : 2011:05:08 18:31:08
Exposure Time : 1/2000
F Number : 2.4
Exposure Program : Aperture-priority AE
ISO : 160
Date/Time Original : 2011:04:06 12:30:16
Create Date : 2011:04:06 12:30:16
Shutter Speed Value : 1/2000
Aperture Value : 2.4
Exposure Compensation : 0
Max Aperture Value : 2.0
Metering Mode : Center-weighted average
Light Source : Unknown
Flash : No Flash
Focal Length : 35.0 mm
Contrast : Normal
Sharpening : Normal
Saturation : Normal
White Balance : Auto
JPEG Quality : Fine
WB RGB Levels : 0.4328665786 1 0.784937479
User Profile : Main DNG1
JPEG Size : 5216x3472
Firmware Version : 1.138
Base ISO : 160
Sensor Width : 5270
Sensor Height : 3516
Sensor Bit Depth : 14
Camera Temperature : 24 C
Lens Type : Summicron-M 35mm f/2 ASPH.
Approximate F Number : 2.5
Measured LV : 6.70
External Sensor Brightness Value : 5.21
Scene Type : Directly photographed
Exposure Mode : Manual
Digital Zoom Ratio : 0
Focal Length In 35mm Format : 35 mm
Scene Capture Type : Standard
Serial Number : 3970368
Lens Model : Leica Summicron-M 35mm f/2 ASPH.
Maker Note Safety : Safe
Profile Description : sRGB IEC61966-2.1
Creator Tool : Adobe Photoshop Lightroom 3.4
Rating : 5
Lens : Leica Summicron-M 35mm f/2 ASPH.
Version : 6.4
Process Version : 5.7
Color Temperature : 6200
Tint : +27
Exposure : +0.45
Shadows : 53
Brightness : 0
Sharpness : 0
Luminance Smoothing : 0
Color Noise Reduction : 0
Chromatic Aberration R : 0
Chromatic Aberration B : 0
Vignette Amount : -100
Vignette Midpoint : 52
Shadow Tint : 0
Red Hue : 0
Red Saturation : 0
Green Hue : 0
Green Saturation : 0
Blue Hue : 0
Blue Saturation : 0
Fill Light : 100
Vibrance : -43
Highlight Recovery : 100
Clarity : +100
Defringe : 0
Hue Adjustment Red : 0
Hue Adjustment Orange : 0
Hue Adjustment Yellow : 0
Hue Adjustment Green : 0
Hue Adjustment Aqua : 0
Hue Adjustment Blue : 0
Hue Adjustment Purple : 0
Hue Adjustment Magenta : 0
Saturation Adjustment Red : 0
Saturation Adjustment Orange : 0
Saturation Adjustment Yellow : 0
Saturation Adjustment Green : 0
Saturation Adjustment Aqua : 0
Saturation Adjustment Blue : 0
Saturation Adjustment Purple : 0
Saturation Adjustment Magenta : 0
Luminance Adjustment Red : 0
Luminance Adjustment Orange : 0
Luminance Adjustment Yellow : 0
Luminance Adjustment Green : 0
Luminance Adjustment Aqua : 0
Luminance Adjustment Blue : 0
Luminance Adjustment Purple : 0
Luminance Adjustment Magenta : 0
Split Toning Shadow Hue : 0
Split Toning Shadow Saturation : 0
Split Toning Highlight Hue : 0
Split Toning Highlight Saturation : 0
Split Toning Balance : 0
Parametric Shadows : 0
Parametric Darks : 0
Parametric Lights : 0
Parametric Highlights : 0
Parametric Shadow Split : 25
Parametric Midtone Split : 50
Parametric Highlight Split : 75
Sharpen Radius : +1.0
Sharpen Detail : 25
Sharpen Edge Masking : 0
Post Crop Vignette Amount : 0
Grain Amount : 0
Lens Profile Enable : 0
Lens Manual Distortion Amount : 0
Perspective Vertical : 0
Perspective Horizontal : 0
Perspective Rotate : 0.0
Perspective Scale : 100
Convert To Grayscale : False
Tone Curve Name : Linear
Camera Profile : Embedded
Lens Profile Setup : LensDefaults
Has Settings : True
Crop Top : 0
Crop Left : 0.025771
Crop Bottom : 1
Crop Right : 0.974229
Crop Angle : 1.41213
Crop Constrain To Warp : 0
Crop Width : 5028
Crop Height : 3345
Crop Unit : pixels
Has Crop : True
Already Applied : True
Date Created : 2011:04:06 12:30:16+01:00
Tone Curve : 0, 0, 255, 255
Image Width : 300
Image Height : 200
Bits Per Sample : 8
Color Components : 3
Aperture : 2.4
Blue Balance : 0.784937
Image Size : 300x200
Lens ID : Leica Summicron-M 35mm f/2 ASPH.
Megapixels : 0.060
Red Balance : 0.432867
Scale Factor To 35 mm Equivalent : 1.0
Shutter Speed : 1/2000
Circle Of Confusion : 0.030 mm
Field Of View : 54.4 deg
Focal Length : 35.0 mm (35 mm equivalent: 35.0 mm)
Hyperfocal Distance : 16.99 m
Light Value : 12.8