Uber Exif Photo
By-line : Ross Funnell
By-line Title : Dr Ross Funnell, Chiropractor
Copyright Notice : Ross Funnell
Copyright Flag : True
URL : ross.funnell@funnellchiropractic.com
Make : Leica Camera AG
Camera Model Name : M9 Digital Camera
Software : Adobe Photoshop Lightroom 3.3
Modify Date : 2011:02:02 05:46:55
Copyright : Ross Funnell
Exposure Time : 1/1500
F Number : 6.7
Exposure Program : Aperture-priority AE
ISO : 160
Sensitivity Type : Unknown
Date/Time Original : 2010:11:20 11:57:22
Create Date : 2010:11:20 11:57:22
Shutter Speed Value : 1/1500
Aperture Value : 6.7
Exposure Compensation : 0
Max Aperture Value : 1.4
Metering Mode : Center-weighted average
Light Source : Unknown
Focal Length : 35.0 mm
Exposure Mode : Manual
White Balance : Auto
Digital Zoom Ratio : 0
Focal Length In 35mm Format : 35 mm
Scene Capture Type : Standard
Contrast : Unknown (30)
Saturation : Normal
Sharpness : Unknown (25)
Profile Description : sRGB IEC61966-2.1
Rating : 5
Creator Tool : Adobe Photoshop Lightroom 3.3
Format : image/tiff
Date Created : 2010:11:20 11:57:22
Authors Position : Dr Ross Funnell, Chiropractor
Date/Time Digitized : 2010:11:20 11:57:22+08:00
Exif Image Width : 4325
Exif Image Height : 3392
Marked : True
Web Statement : ross.funnell@funnellchiropractic.com
Version : 6.3
Process Version : 5.7
Incremental Temperature : 0
Incremental Tint : 0
Exposure : 0.00
Shadows : 0
Brightness : 0
Luminance Smoothing : 0
Color Noise Reduction : 0
Chromatic Aberration R : 0
Chromatic Aberration B : 0
Vignette Amount : 0
Shadow Tint : 0
Red Hue : 0
Red Saturation : 0
Green Hue : 0
Green Saturation : 0
Blue Hue : 0
Blue Saturation : 0
Fill Light : 0
Highlight Recovery : 0
Clarity : 0
Defringe : 0
Gray Mixer Red : -10
Gray Mixer Orange : -19
Gray Mixer Yellow : -23
Gray Mixer Green : -27
Gray Mixer Aqua : -18
Gray Mixer Blue : +9
Gray Mixer Purple : +15
Gray Mixer Magenta : +3
Split Toning Shadow Hue : 37
Split Toning Shadow Saturation : 25
Split Toning Highlight Hue : 0
Split Toning Highlight Saturation : 0
Split Toning Balance : -59
Parametric Shadows : 0
Parametric Darks : -5
Parametric Lights : +5
Parametric Highlights : 0
Parametric Shadow Split : 25
Parametric Midtone Split : 50
Parametric Highlight Split : 75
Sharpen Radius : +1.0
Sharpen Detail : 25
Sharpen Edge Masking : 0
Post Crop Vignette Amount : 0
Grain Amount : 0
Lens Profile Enable : 0
Lens Manual Distortion Amount : 0
Perspective Vertical : 0
Perspective Horizontal : 0
Perspective Rotate : 0.0
Perspective Scale : 100
Convert To Grayscale : True
Tone Curve Name : Strong Contrast
Camera Profile : Embedded
Lens Profile Setup : LensDefaults
Has Settings : True
Has Crop : False
Already Applied : True
Creator : Ross Funnell
Rights : Ross Funnell
Flash Fired : False
Flash Return : No return detection
Flash Mode : Unknown
Flash Function : False
Flash Red Eye Mode : False
Creator Postal Code : 6968
Creator Work Telephone : 08 9527 6168
Creator Region : W Australia
Creator City : Rockingham
Creator Country : Australia
Creator Work Email : ross.funnell@funnellchiropractic.com
Creator Address : 23 Chalgrove Ave
Creator Work URL : funnell.com.au
Tone Curve : 0, 0, 32, 16, 64, 50, 128, 128, 192, 202, 255, 255
Image Width : 300
Image Height : 235
Bits Per Sample : 8
Color Components : 3
Aperture : 6.7
Image Size : 300x235
Megapixels : 0.070
Scale Factor To 35 mm Equivalent : 1.0
Shutter Speed : 1/1500
Flash : No Flash
Circle Of Confusion : 0.030 mm
Field Of View : 54.4 deg
Focal Length : 35.0 mm (35 mm equivalent: 35.0 mm)
Hyperfocal Distance : 6.09 m
Light Value : 15.4