Uber Exif Photo
Keywords : wellard
By-line : Ross Funnell
By-line Title : Dr Ross Funnell, Chiropractor
Copyright Notice : Ross Funnell
Copyright Flag : True
URL : ross.funnell@funnellchiropractic.com
Make : Leica Camera AG
Camera Model Name : M9 Digital Camera
Software : 1.138
Modify Date : 2011:01:03 15:41:06
Copyright : Ross Funnell
Exposure Time : 1/3000
F Number : 3.4
Exposure Program : Aperture-priority AE
ISO : 160
Sensitivity Type : Unknown
Date/Time Original : 2011:01:03 14:33:11
Create Date : 2011:01:03 14:33:11
Shutter Speed Value : 1/3000
Aperture Value : 3.4
Exposure Compensation : 0
Max Aperture Value : 2.0
Metering Mode : Center-weighted average
Light Source : Unknown
Focal Length : 35.0 mm
Contrast : Normal
Sharpening : Normal
Saturation : Normal
White Balance : Auto
JPEG Quality : Fine
WB RGB Levels : 0.4370232062 1 0.7739619255
User Profile : Main DNG1
JPEG Size : 5216x3472
Firmware Version : 1.138
Base ISO : 160
Sensor Width : 5270
Sensor Height : 3516
Sensor Bit Depth : 14
Camera Temperature : 32 C
Lens Type : Summicron-M 35mm f/2 ASPH.
Approximate F Number : 3.5
Measured LV : 7.20
External Sensor Brightness Value : 6.20
Scene Type : Directly photographed
Exposure Mode : Manual
Digital Zoom Ratio : 0
Focal Length In 35mm Format : 35 mm
Scene Capture Type : Standard
Serial Number : 3970368
Lens Model : Leica Summicron-M 35mm f/2 ASPH.
Maker Note Safety : Safe
Profile Description : sRGB IEC61966-2.1
Date/Time Digitized : 2011:01:03 14:33:11+08:00
Exif Image Width : 5212
Exif Image Height : 3468
Creator Tool : Adobe Photoshop Lightroom 3.3
Rating : 5
Lens : Leica Summicron-M 35mm f/2 ASPH.
Marked : True
Web Statement : ross.funnell@funnellchiropractic.com
Authors Position : Dr Ross Funnell, Chiropractor
Version : 6.3
Process Version : 5.7
Color Temperature : 6050
Tint : +27
Exposure : 0.00
Shadows : 15
Brightness : +37
Sharpness : 39
Luminance Smoothing : 0
Color Noise Reduction : 25
Chromatic Aberration R : 0
Chromatic Aberration B : 0
Vignette Amount : 0
Shadow Tint : 0
Red Hue : 0
Red Saturation : 0
Green Hue : 0
Green Saturation : 0
Blue Hue : 0
Blue Saturation : 0
Fill Light : 0
Vibrance : 0
Highlight Recovery : 20
Clarity : 0
Defringe : 0
Hue Adjustment Red : 0
Hue Adjustment Orange : 0
Hue Adjustment Yellow : 0
Hue Adjustment Green : 0
Hue Adjustment Aqua : 0
Hue Adjustment Blue : 0
Hue Adjustment Purple : 0
Hue Adjustment Magenta : 0
Saturation Adjustment Red : 0
Saturation Adjustment Orange : 0
Saturation Adjustment Yellow : 0
Saturation Adjustment Green : 0
Saturation Adjustment Aqua : 0
Saturation Adjustment Blue : 0
Saturation Adjustment Purple : 0
Saturation Adjustment Magenta : 0
Luminance Adjustment Red : 0
Luminance Adjustment Orange : 0
Luminance Adjustment Yellow : 0
Luminance Adjustment Green : 0
Luminance Adjustment Aqua : 0
Luminance Adjustment Blue : 0
Luminance Adjustment Purple : 0
Luminance Adjustment Magenta : 0
Split Toning Shadow Hue : 0
Split Toning Shadow Saturation : 0
Split Toning Highlight Hue : 0
Split Toning Highlight Saturation : 0
Split Toning Balance : 0
Parametric Shadows : 0
Parametric Darks : 0
Parametric Lights : 0
Parametric Highlights : 0
Parametric Shadow Split : 25
Parametric Midtone Split : 50
Parametric Highlight Split : 75
Sharpen Radius : +1.0
Sharpen Detail : 25
Sharpen Edge Masking : 0
Post Crop Vignette Amount : 0
Grain Amount : 0
Color Noise Reduction Detail : 50
Lens Profile Enable : 0
Lens Manual Distortion Amount : 0
Perspective Vertical : 0
Perspective Horizontal : 0
Perspective Rotate : 0.0
Perspective Scale : 100
Convert To Grayscale : False
Tone Curve Name : Medium Contrast
Camera Profile : Embedded
Lens Profile Setup : LensDefaults
Has Settings : True
Has Crop : False
Already Applied : True
Flash Fired : False
Flash Return : No return detection
Flash Mode : Unknown
Flash Function : False
Flash Red Eye Mode : False
Creator Postal Code : 6968
Creator Work Telephone : 08 9527 6168
Creator Region : W Australia
Creator City : Rockingham
Creator Country : Australia
Creator Work Email : ross.funnell@funnellchiropractic.com
Creator Address : 23 Chalgrove Ave
Creator Work URL : funnell.com.au
Creator : Ross Funnell
Rights : Ross Funnell
Subject : wellard
Tone Curve : 0, 0, 32, 22, 64, 56, 128, 128, 192, 196, 255, 255
Image Width : 300
Image Height : 200
Bits Per Sample : 8
Color Components : 3
Aperture : 3.4
Blue Balance : 0.773962
Image Size : 300x200
Lens ID : Leica Summicron-M 35mm f/2 ASPH.
Megapixels : 0.060
Red Balance : 0.437023
Scale Factor To 35 mm Equivalent : 1.0
Shutter Speed : 1/3000
Flash : No Flash
Circle Of Confusion : 0.030 mm
Field Of View : 54.4 deg
Focal Length : 35.0 mm (35 mm equivalent: 35.0 mm)
Hyperfocal Distance : 11.99 m
Light Value : 14.4