Uber Exif Photo
Photometric Interpretation : RGB
Make : SONY
Camera Model Name : NEX-5N
Orientation : Horizontal (normal)
Software : Adobe Photoshop CS6 (Windows)
Modify Date : 2012:10:06 18:38:42
Exposure Time : 1/80
F Number : 2.2
Exposure Program : Aperture-priority AE
ISO : 320
Sensitivity Type : Recommended Exposure Index
Recommended Exposure Index : 320
Date/Time Original : 2012:10:04 16:25:55
Create Date : 2012:10:04 16:25:55
Shutter Speed Value : 1/80
Aperture Value : 2.2
Brightness Value : 0.85703125
Exposure Compensation : -0.3
Max Aperture Value : 1.8
Metering Mode : Multi-segment
Light Source : Unknown
Flash : Off, Did not fire
Focal Length : 50.0 mm
Color Space : sRGB
Exif Image Width : 1920
Exif Image Height : 1276
Scene Type : Directly photographed
Custom Rendered : Normal
Exposure Mode : Auto
White Balance : Auto
Focal Length In 35mm Format : 75 mm
Scene Capture Type : Standard
Contrast : Normal
Saturation : Normal
Sharpness : Normal
Lens Info : 50mm f/1.8
Lens Model : E 50mm F1.8 OSS
Profile Description : sRGB IEC61966-2.1
Rating : 0
Label : Creator Tool : Adobe Photoshop CS6 (Windows)
Lens : E 50mm F1.8 OSS
Date Created : 2012:10:04 16:25:55
Color Mode : RGB
ICC Profile Name : sRGB IEC61966-2.1
Raw File Name : DSC08965.ARW
Version : 7.1
Process Version : 6.7
Color Temperature : 3650
Tint : +32
Luminance Smoothing : 0
Color Noise Reduction : 25
Vignette Amount : -42
Vignette Midpoint : 33
Shadow Tint : 0
Red Hue : 0
Red Saturation : 0
Green Hue : 0
Green Saturation : 0
Blue Hue : 0
Blue Saturation : 0
Vibrance : +13
Hue Adjustment Red : +20
Hue Adjustment Orange : 0
Hue Adjustment Yellow : +15
Hue Adjustment Green : +10
Hue Adjustment Aqua : 0
Hue Adjustment Blue : -10
Hue Adjustment Purple : +15
Hue Adjustment Magenta : +40
Saturation Adjustment Red : -12
Saturation Adjustment Orange : -22
Saturation Adjustment Yellow : -8
Saturation Adjustment Green : -50
Saturation Adjustment Aqua : -40
Saturation Adjustment Blue : -20
Saturation Adjustment Purple : -35
Saturation Adjustment Magenta : -25
Luminance Adjustment Red : -20
Luminance Adjustment Orange : -8
Luminance Adjustment Yellow : -8
Luminance Adjustment Green : -10
Luminance Adjustment Aqua : +10
Luminance Adjustment Blue : -15
Luminance Adjustment Purple : 0
Luminance Adjustment Magenta : 0
Split Toning Shadow Hue : 0
Split Toning Shadow Saturation : 0
Split Toning Highlight Hue : 0
Split Toning Highlight Saturation : 0
Split Toning Balance : 0
Parametric Shadows : -70
Parametric Darks : -4
Parametric Lights : +32
Parametric Highlights : -50
Parametric Shadow Split : 26
Parametric Midtone Split : 46
Parametric Highlight Split : 84
Sharpen Radius : +1.0
Sharpen Detail : 25
Sharpen Edge Masking : 0
Post Crop Vignette Amount : 0
Grain Amount : 0
Color Noise Reduction Detail : 50
Lens Profile Enable : 0
Lens Manual Distortion Amount : 0
Perspective Vertical : 0
Perspective Horizontal : 0
Perspective Rotate : 0.0
Perspective Scale : 100
Auto Lateral CA : 0
Exposure 2012 : 0.00
Contrast 2012 : 0
Highlights 2012 : -20
Shadows 2012 : +25
Whites 2012 : -10
Blacks 2012 : +25
Clarity 2012 : +15
Defringe Purple Amount : 0
Defringe Purple Hue Lo : 30
Defringe Purple Hue Hi : 70
Defringe Green Amount : 0
Defringe Green Hue Lo : 40
Defringe Green Hue Hi : 60
Convert To Grayscale : False
Tone Curve Name 2012 : Custom
Camera Profile : Adobe Standard
Lens Profile Setup : LensDefaults
Has Settings : True
Crop Top : 0
Crop Left : 0
Crop Bottom : 1
Crop Right : 1
Crop Angle : 0
Crop Constrain To Warp : 0
Has Crop : True
Already Applied : True
Format : image/jpeg
Tone Curve PV2012 : 0, 35, 59, 72, 127, 128, 192, 181, 255, 222
Tone Curve PV2012 Red : 0, 0, 56, 47, 126, 128, 186, 190, 255, 255
Tone Curve PV2012 Green : 0, 0, 53, 46, 130, 130, 180, 184, 224, 224, 255, 255
Tone Curve PV2012 Blue : 0, 0, 44, 40, 129, 130, 187, 190, 255, 255
Image Width : 300
Image Height : 199
Bits Per Sample : 8
Color Components : 3
Aperture : 2.2
Image Size : 300x199
Megapixels : 0.060
Scale Factor To 35 mm Equivalent : 1.5
Shutter Speed : 1/80
Circle Of Confusion : 0.020 mm
Field Of View : 27.0 deg
Focal Length : 50.0 mm (35 mm equivalent: 75.0 mm)
Hyperfocal Distance : 56.73 m
Light Value : 6.9
Lens ID : E 50mm F1.8 OSS