Uber Exif Photo
Caption-Abstract : OLYMPUS DIGITAL CAMERA
Image Description : OLYMPUS DIGITAL CAMERA
Make : OLYMPUS IMAGING CORP.
Camera Model Name : E-M5
Software : Adobe Photoshop Lightroom 4.4 (Macintosh)
Modify Date : 2013:06:13 22:51:50
Exposure Time : 1/25
F Number : 1.4
Exposure Program : Manual
ISO : 200
Sensitivity Type : Standard Output Sensitivity
Date/Time Original : 2013:06:13 10:37:07
Create Date : 2013:06:13 10:37:07
Shutter Speed Value : 1/25
Aperture Value : 1.4
Exposure Compensation : 0
Max Aperture Value : 1.4
Metering Mode : Multi-segment
Light Source : Unknown
Flash : On, Did not fire
Focal Length : 25.0 mm
CFA Pattern : [Red,Green][Green,Blue]
Custom Rendered : Normal
Exposure Mode : Manual
White Balance : Auto
Digital Zoom Ratio : 1
Focal Length In 35mm Format : 50 mm
Scene Capture Type : Standard
Gain Control : None
Contrast : High
Saturation : Normal
Sharpness : Soft
Serial Number : BF3512136
Lens Info : 25mm f/1.4
Lens Model : LEICA DG SUMMILUX 25/F1.4
Lens Serial Number : 12091102204
Format : image/jpeg
Creator Tool : Adobe Photoshop Lightroom 4.4 (Macintosh)
Lens : LEICA DG SUMMILUX 25/F1.4
Approximate Focus Distance : 0.76
Flash Compensation : 0
Date Created : 2013:06:13 10:37:07
Version : 7.4
Process Version : 6.7
Color Temperature : 4800
Tint : +3
Luminance Smoothing : 0
Color Noise Reduction : 25
Vignette Amount : 0
Shadow Tint : 0
Red Hue : 0
Red Saturation : 0
Green Hue : 0
Green Saturation : 0
Blue Hue : 0
Blue Saturation : 0
Gray Mixer Red : -5
Gray Mixer Orange : -15
Gray Mixer Yellow : -19
Gray Mixer Green : -25
Gray Mixer Aqua : -20
Gray Mixer Blue : +7
Gray Mixer Purple : +15
Gray Mixer Magenta : +6
Split Toning Shadow Hue : 0
Split Toning Shadow Saturation : 0
Split Toning Highlight Hue : 0
Split Toning Highlight Saturation : 0
Split Toning Balance : 0
Parametric Shadows : 0
Parametric Darks : 0
Parametric Lights : 0
Parametric Highlights : 0
Parametric Shadow Split : 25
Parametric Midtone Split : 50
Parametric Highlight Split : 75
Sharpen Radius : +1.0
Sharpen Detail : 25
Sharpen Edge Masking : 0
Post Crop Vignette Amount : 0
Grain Amount : 0
Color Noise Reduction Detail : 50
Lens Profile Enable : 0
Lens Manual Distortion Amount : 0
Perspective Vertical : 0
Perspective Horizontal : 0
Perspective Rotate : 0.0
Perspective Scale : 100
Auto Lateral CA : 0
Exposure 2012 : 0.00
Contrast 2012 : -8
Highlights 2012 : +10
Shadows 2012 : +22
Whites 2012 : -36
Blacks 2012 : 0
Clarity 2012 : +4
Convert To Grayscale : True
Tone Curve Name 2012 : Linear
Camera Profile : Adobe Standard
Lens Profile Setup : LensDefaults
Has Settings : True
Has Crop : False
Already Applied : True
Description : OLYMPUS DIGITAL CAMERA
Tone Curve PV2012 : 0, 0, 255, 255
Tone Curve PV2012 Red : 0, 0, 255, 255
Tone Curve PV2012 Green : 0, 0, 255, 255
Tone Curve PV2012 Blue : 0, 0, 255, 255
Image Width : 300
Image Height : 200
Bits Per Sample : 8
Color Components : 1
Aperture : 1.4
Image Size : 300x200
Megapixels : 0.060
Scale Factor To 35 mm Equivalent : 2.0
Shutter Speed : 1/25
Circle Of Confusion : 0.015 mm
Depth Of Field : 0.04 m (0.74 - 0.78 m)
Field Of View : 39.6 deg
Focal Length : 25.0 mm (35 mm equivalent: 50.0 mm)
Hyperfocal Distance : 29.72 m
Light Value : 4.6
Lens ID : LEICA DG SUMMILUX 25mm F1.4