Uber Exif Photo
Make : Leica Camera AG
Camera Model Name : M Monochrom
Software : Adobe Photoshop Lightroom Classic 8.1 (Macintosh)
Modify Date : 2018:12:23 21:57:12
Exposure Time : 1/180
F Number : 3.4
Exposure Program : Aperture-priority AE
ISO : 320
Date/Time Original : 2018:10:19 09:18:12
Create Date : 2018:10:19 09:18:12
Shutter Speed Value : 1/180
Aperture Value : 3.4
Exposure Compensation : -0.332
Max Aperture Value : 1.4
Metering Mode : Center-weighted average
Light Source : Unknown
Flash : No Flash
Focal Length : 50.0 mm
Contrast : Normal
Sharpening : Normal
Saturation : Normal
White Balance : Auto
JPEG Quality : Fine
WB RGB Levels : 1 1 1
User Profile : Profile 1
JPEG Size : 5216x3472
Firmware Version : 1.022
Base ISO : 320
Sensor Width : 5270
Sensor Height : 3516
Sensor Bit Depth : 14
Camera Temperature : 17 C
Lens Type : Summilux-M 50mm f/1.4 (II)
Approximate F Number : 3.5
Measured LV : 3.54
External Sensor Brightness Value : 2.46
Color Space : Uncalibrated
Scene Type : Directly photographed
Exposure Mode : Manual
Digital Zoom Ratio : 0
Focal Length In 35mm Format : 50 mm
Scene Capture Type : Standard
Serial Number : 4343944
Lens Model : Leica Summilux-M 50mm f/1.4 (II)
Maker Note Safety : Safe
Profile Description : ProPhoto RGB
Creator Tool : Adobe Photoshop Lightroom Classic 8.1 (Macintosh)
Lens : Leica Summilux-M 50mm f/1.4 (II)
Date Created : 2018:10:19 09:18:12
Format : image/jpeg
Raw File Name : Version : 11.1
Process Version : 11.0
Sharpness : 11
Luminance Smoothing : 0
Vignette Amount : 0
Split Toning Shadow Hue : 0
Split Toning Shadow Saturation : 0
Split Toning Highlight Hue : 0
Split Toning Highlight Saturation : 0
Split Toning Balance : 0
Parametric Shadows : -11
Parametric Darks : -2
Parametric Lights : +9
Parametric Highlights : +6
Parametric Shadow Split : 25
Parametric Midtone Split : 50
Parametric Highlight Split : 75
Sharpen Radius : +1.0
Sharpen Detail : 25
Sharpen Edge Masking : 0
Post Crop Vignette Amount : -24
Post Crop Vignette Midpoint : 69
Post Crop Vignette Feather : 52
Post Crop Vignette Roundness : +48
Post Crop Vignette Style : Highlight Priority
Post Crop Vignette Highlight Contrast : 0
Grain Amount : 0
Lens Profile Enable : 0
Lens Manual Distortion Amount : 0
Perspective Vertical : 0
Perspective Horizontal : 0
Perspective Rotate : 0.0
Perspective Scale : 100
Perspective Aspect : 0
Perspective Upright : Off
Perspective X : 0.00
Perspective Y : 0.00
Exposure 2012 : +0.40
Contrast 2012 : +42
Highlights 2012 : +5
Shadows 2012 : +34
Whites 2012 : +10
Blacks 2012 : -19
Clarity 2012 : +25
Dehaze : +17
Tone Map Strength : 0
Convert To Grayscale : False
Override Look Vignette : False
Tone Curve Name : Linear
Tone Curve Name 2012 : Linear
Lens Profile Setup : LensDefaults
Has Settings : True
Has Crop : False
Already Applied : True
Tone Curve : 0, 0, 255, 255
Tone Curve Red : 0, 0, 255, 255
Tone Curve Green : 0, 0, 255, 255
Tone Curve Blue : 0, 0, 255, 255
Tone Curve PV2012 : 0, 0, 255, 255
Tone Curve PV2012 Red : 0, 0, 255, 255
Tone Curve PV2012 Green : 0, 0, 255, 255
Tone Curve PV2012 Blue : 0, 0, 255, 255
Paint Correction What : Correction
Paint Correction Amount : 1.000000
Paint Correction Active : true
Paint Correction Saturation : -0.202171
Paint Correction Sharpness : -0.010079
Paint Correction Brightness : 0.000000
Paint Correction Toning Hue : 240.000000
Paint Correction Toning Saturation : 0.000000
Paint Correction Exposure 2012 : 0.283127
Paint Correction Contrast 2012 : 0.153404
Paint Correction Highlights 2012 : 0.102592
Paint Correction Shadows 2012 : 0.225351
Paint Correction Whites 2012 : -0.012294
Paint Correction Blacks 2012 : 0.001514
Paint Correction Clarity 2012 : 0.271231
Paint Correction Dehaze : 0.211180
Paint Correction Luminance Noise : 0.000000
Paint Correction Moire : 0.000000
Paint Correction Defringe : 0.000000
Paint Correction Temperature : 0.000000
Paint Correction Tint : 0.000000
Paint Correction Mask What : Mask/Paint
Paint Correction Mask Value : 0.560591
Paint Correction Mask Radius : 0.474371
Paint Correction Mask Flow : 0.790729
Paint Correction Mask Center Weight : 0.043233
Paint Correction Range Mask Version : +2
Paint Correction Range Mask Type : 0
Paint Correction Range Mask Color Amount : 0.500000
Paint Correction Range Mask Lum Min : 0.000000
Paint Correction Range Mask Lum Max : 1.000000
Paint Correction Range Mask Lum Feather : 0.500000
Paint Correction Range Mask Depth Min : 0.000000
Paint Correction Range Mask Depth Max : 1.000000
Paint Correction Range Mask Depth Feather : 0.500000
Gradient Based Corr What : Correction
Gradient Based Corr Amount : 1.000000
Gradient Based Corr Active : true
Gradient Based Corr Saturation : -0.202171
Gradient Based Corr Sharpness : -0.010079
Gradient Based Corr Brightness : 0.000000
Gradient Based Corr Toning Hue : 240.000000
Gradient Based Corr Toning Saturation : 0.000000
Gradient Based Corr Exposure 2012 : 0.170240
Gradient Based Corr Contrast 2012 : 0.077217
Gradient Based Corr Highlights 2012 : 0.295724
Gradient Based Corr Shadows 2012 : 0.116037
Gradient Based Corr Whites 2012 : -0.012294
Gradient Based Corr Blacks 2012 : 0.038275
Gradient Based Corr Clarity 2012 : 0.124758
Gradient Based Corr Dehaze : 0.004542
Gradient Based Corr Luminance Noise : 0.000000
Gradient Based Corr Moire : 0.000000
Gradient Based Corr Defringe : 0.000000
Gradient Based Corr Temperature : 0.000000
Gradient Based Corr Tint : 0.000000
Gradient Based Corr Mask What : Mask/Gradient
Gradient Based Corr Mask Value : 1.000000
Gradient Based Corr Mask Zero X : 0.411160
Gradient Based Corr Mask Zero Y : 0.850866
Gradient Based Corr Mask Full X : 0.409670
Gradient Based Corr Mask Full Y : 1.014090
Gradient Based Corr Range Mask Version : +2
Gradient Based Corr Range Mask Type : 0
Gradient Based Corr Range Mask Color Amount : 0.500000
Gradient Based Corr Range Mask Lum Min : 0.000000
Gradient Based Corr Range Mask Lum Max : 1.000000
Gradient Based Corr Range Mask Lum Feather : 0.500000
Gradient Based Corr Range Mask Depth Min : 0.000000
Gradient Based Corr Range Mask Depth Max : 1.000000
Gradient Based Corr Range Mask Depth Feather : 0.500000
Circ Grad Based Corr What : Correction
Circ Grad Based Corr Amount : 1.000000
Circ Grad Based Corr Active : true
Circ Grad Based Corr Saturation : -0.202171
Circ Grad Based Corr Sharpness : -0.010079
Circ Grad Based Corr Brightness : 0.000000
Circ Grad Based Corr Toning Hue : 240.000000
Circ Grad Based Corr Toning Saturation : 0.000000
Circ Grad Based Corr Exposure 2012 : 0.163336
Circ Grad Based Corr Contrast 2012 : -0.034460
Circ Grad Based Corr Highlights 2012 : 0.146136
Circ Grad Based Corr Shadows 2012 : 0.116037
Circ Grad Based Corr Whites 2012 : -0.195918
Circ Grad Based Corr Blacks 2012 : 0.038275
Circ Grad Based Corr Clarity 2012 : 0.276647
Circ Grad Based Corr Dehaze : 0.038336
Circ Grad Based Corr Luminance Noise : 0.000000
Circ Grad Based Corr Moire : 0.000000
Circ Grad Based Corr Defringe : 0.000000
Circ Grad Based Corr Temperature : 0.000000
Circ Grad Based Corr Tint : 0.000000
Circ Grad Based Corr Mask What : Mask/CircularGradient
Circ Grad Based Corr Mask Value : 1.000000
Circ Grad Based Corr Mask Top : -0.087226
Circ Grad Based Corr Mask Left : 0.164560
Circ Grad Based Corr Mask Bottom : 1.066720
Circ Grad Based Corr Mask Right : 0.639115
Circ Grad Based Corr Mask Angle : 0.000000
Circ Grad Based Corr Mask Midpoint : +50
Circ Grad Based Corr Mask Roundness : 0
Circ Grad Based Corr Mask Feather : +69
Circ Grad Based Corr Mask Flipped : true
Circ Grad Based Corr Mask Version : +2
Circ Grad Based Corr Range Mask Version : +2
Circ Grad Based Corr Range Mask Type : 0
Circ Grad Based Corr Range Mask Color Amount : 0.500000
Circ Grad Based Corr Range Mask Lum Min : 0.000000
Circ Grad Based Corr Range Mask Lum Max : 1.000000
Circ Grad Based Corr Range Mask Lum Feather : 0.500000
Circ Grad Based Corr Range Mask Depth Min : 0.000000
Circ Grad Based Corr Range Mask Depth Max : 1.000000
Circ Grad Based Corr Range Mask Depth Feather : 0.500000
Look Name : Image Width : 350
Image Height : 233
Bits Per Sample : 8
Color Components : 3
Aperture : 3.4
Blue Balance : 1
Image Size : 350x233
Lens ID : Leica Summilux-M 50mm f/1.4 (II)
Megapixels : 0.082
Red Balance : 1
Scale Factor To 35 mm Equivalent : 1.0
Shutter Speed : 1/180
Circle Of Confusion : 0.030 mm
Field Of View : 39.6 deg
Focal Length : 50.0 mm (35 mm equivalent: 50.0 mm)
Hyperfocal Distance : 24.47 m
Light Value : 9.3