Uber Exif Photo
By-line : Charles Zewe
Caption-Abstract : christmas 2010
Copyright Notice : Charles Zewe
Image Description : christmas 2010
Make : LEICA
Camera Model Name : D-LUX 4
Orientation : Horizontal (normal)
Software : Adobe Photoshop Lightroom 6.14 (Macintosh)
Modify Date : 2021:08:04 15:35:23
Artist : Charles Zewe
Copyright : Charles Zewe
Exposure Time : 1/1000
F Number : 4.0
Exposure Program : Landscape
ISO : 80
Date/Time Original : 2010:12:29 12:44:30
Create Date : 2010:12:29 12:44:30
Shutter Speed Value : 1/1000
Aperture Value : 4.0
Exposure Compensation : -0.33
Max Aperture Value : 2.0
Metering Mode : Multi-segment
Light Source : Unknown
Flash : Off, Did not fire
Focal Length : 5.1 mm
Color Space : sRGB
Exif Image Width : 3404
Exif Image Height : 1831
Sensing Method : One-chip color area
Scene Type : Directly photographed
Exposure Mode : Auto
White Balance : Auto
Contrast : Normal
Saturation : Normal
Sharpness : Normal
Sharpen Detail : 25
Blacks 2012 : -61
Luminance Adjustment Orange : 0
Hue Adjustment Yellow : 0
Saturation Adjustment Blue : -47
Parametric Highlight Split : 75
Lens Profile Enable : 0
Split Toning Shadow Saturation : 0
Convert To Grayscale : False
Contrast 2012 : 0
Highlights 2012 : -100
Split Toning Highlight Hue : 0
Saturation Adjustment Aqua : -23
Perspective Scale : 100
Luminance Noise Reduction Contrast : 0
Perspective Vertical : 0
Parametric Shadow Split : 25
Luminance Adjustment Green : -40
Perspective Rotate : 0.0
Split Toning Shadow Hue : 0
Luminance Adjustment Yellow : 0
Shadows 2012 : +100
Lens Profile Setup : LensDefaults
Whites 2012 : +24
Perspective Horizontal : 0
Camera Profile : Embedded
Saturation Adjustment Yellow : 0
Parametric Midtone Split : 50
Luminance Noise Reduction Detail : 50
Parametric Highlights : -100
Defringe Green Amount : 0
Parametric Darks : -12
Incremental Tint : 0
Sharpen Radius : +1.0
Vibrance : +5
Shadow Tint : 0
Has Crop : False
Luminance Smoothing : 46
Tone Curve Name 2012 : Linear
Split Toning Highlight Saturation : 0
Defringe Purple Hue Hi : 70
Saturation Adjustment Orange : 0
Sharpen Edge Masking : 0
Hue Adjustment Green : -60
Vignette Amount : 0
Blue Saturation : 0
Red Saturation : 0
Parametric Lights : +42
Red Hue : 0
Split Toning Balance : 0
Hue Adjustment Purple : 0
Dehaze : 0
Tone Curve Name : Linear
Exposure 2012 : +0.40
Saturation Adjustment Green : -30
Hue Adjustment Blue : -7
Luminance Adjustment Purple : 0
Perspective Y : 0.00
Perspective Aspect : 0
Perspective Upright : Off
Parametric Shadows : +32
Post Crop Vignette Amount : 0
Blue Hue : 0
Clarity 2012 : 0
Grain Amount : 0
Auto Lateral CA : 0
Hue Adjustment Aqua : -36
Process Version : 6.7
Already Applied : True
Auto White Version : 134348800
Luminance Adjustment Blue : -25
Tone Map Strength : 0
Luminance Adjustment Red : 0
Incremental Temperature : 0
Color Noise Reduction : 0
Green Hue : 0
Hue Adjustment Magenta : 0
Has Settings : True
Saturation Adjustment Red : 0
Hue Adjustment Red : 0
Hue Adjustment Orange : 0
Lens Manual Distortion Amount : 0
Green Saturation : 0
Defringe Purple Hue Lo : 30
Defringe Green Hue Hi : 60
Saturation Adjustment Purple : 0
Saturation Adjustment Magenta : 0
Luminance Adjustment Aqua : -40
Version : 10.1
Perspective X : 0.00
Defringe Green Hue Lo : 40
Defringe Purple Amount : 0
Luminance Adjustment Magenta : 0
Creator Tool : Adobe Photoshop Lightroom 6.14 (Macintosh)
Format : image/jpeg
Marked : True
Date Created : 2010:12:29 12:44:30-06:00
Tone Curve Blue : 0, 0, 255, 255
Tone Curve Green : 0, 0, 255, 255
Tone Curve PV2012 Red : 0, 0, 255, 255
Tone Curve PV2012 : 0, 0, 255, 255
Tone Curve : 0, 0, 255, 255
Tone Curve Red : 0, 0, 255, 255
Tone Curve PV2012 Green : 0, 0, 255, 255
Tone Curve PV2012 Blue : 0, 0, 255, 255
Creator Region : LA
Creator Work Telephone : 504-251-5400
Creator Country : USA
Creator City : New Orleans
Creator Postal Code : 70124
Creator Work Email : czewe@bellsouth.net
Creator : Charles Zewe
Rights : Charles Zewe
Description : christmas 2010
Usage Terms : With written permission from Charles Zewe
Image Width : 400
Image Height : 215
Bits Per Sample : 8
Color Components : 3
Aperture : 4.0
Image Size : 400x215
Megapixels : 0.086
Shutter Speed : 1/1000
Light Value : 14.3