Uber Exif Photo
Copyright Notice : © 2010 by Daniel Roznovjak, Roeschibachstr. 24, 8037 Zurich, Switzerland. +41795044192.This photo may not be published, alienta
Copyright Flag : True
Photometric Interpretation : RGB
Make : LEICA CAMERA AG
Camera Model Name : LEICA X1
Orientation : Horizontal (normal)
Software : Adobe Photoshop CS5 Macintosh
Modify Date : 2012:12:04 13:10:16
Copyright : © 2010 by Daniel Roznovjak, Roeschibachstr. 24, 8037 Zurich, Switzerland. +41795044192.This photo may not be published, alientated or used otherwise without my permission!
Maker Note Safety : Safe
Exposure Time : 6
F Number : 3.5
Exposure Program : Aperture-priority AE
ISO : 1600
Date/Time Original : 2010:02:05 18:50:18
Create Date : 2010:02:05 18:50:18
Shutter Speed Value : 6
Aperture Value : 3.5
Exposure Compensation : -1
Max Aperture Value : 2.8
Subject Distance : 40 m
Metering Mode : Multi-segment
Light Source : Unknown
Flash : Off, Did not fire
Focal Length : 24.0 mm
Color Space : Uncalibrated
Exif Image Width : 2250
Exif Image Height : 1500
Sensing Method : One-chip color area
Custom Rendered : Normal
White Balance : Auto
Digital Zoom Ratio : 1
Focal Length In 35mm Format : 35 mm
Scene Capture Type : Landscape
Contrast : Normal
Saturation : Normal
Sharpness : Normal
Profile Description : Adobe RGB (1998)
Creator Tool : Adobe Photoshop CS5 Macintosh
Rating : 4
Serial Number : 000003824131
Lens Info : 24mm f/2.8
Lens : 24.0 mm f/2.8
Approximate Focus Distance : 40
Raw File Name : L1001171.DNG
Version : 6.0
Process Version : 5.7
Color Temperature : 3600
Tint : 0
Exposure : 0.00
Shadows : 5
Brightness : +50
Luminance Smoothing : 35
Color Noise Reduction : 25
Chromatic Aberration R : 0
Chromatic Aberration B : 0
Vignette Amount : 0
Shadow Tint : 0
Red Hue : 0
Red Saturation : 0
Green Hue : 0
Green Saturation : 0
Blue Hue : 0
Blue Saturation : 0
Fill Light : 0
Vibrance : 0
Highlight Recovery : 19
Clarity : +11
Defringe : 0
Hue Adjustment Red : 0
Hue Adjustment Orange : 0
Hue Adjustment Yellow : 0
Hue Adjustment Green : 0
Hue Adjustment Aqua : 0
Hue Adjustment Blue : 0
Hue Adjustment Purple : 0
Hue Adjustment Magenta : 0
Saturation Adjustment Red : 0
Saturation Adjustment Orange : 0
Saturation Adjustment Yellow : 0
Saturation Adjustment Green : 0
Saturation Adjustment Aqua : 0
Saturation Adjustment Blue : 0
Saturation Adjustment Purple : 0
Saturation Adjustment Magenta : 0
Luminance Adjustment Red : 0
Luminance Adjustment Orange : 0
Luminance Adjustment Yellow : 0
Luminance Adjustment Green : 0
Luminance Adjustment Aqua : 0
Luminance Adjustment Blue : -19
Luminance Adjustment Purple : -51
Luminance Adjustment Magenta : -17
Split Toning Shadow Hue : 0
Split Toning Shadow Saturation : 0
Split Toning Highlight Hue : 0
Split Toning Highlight Saturation : 0
Split Toning Balance : 0
Parametric Shadows : 0
Parametric Darks : 0
Parametric Lights : 0
Parametric Highlights : 0
Parametric Shadow Split : 25
Parametric Midtone Split : 50
Parametric Highlight Split : 75
Sharpen Radius : +0.8
Sharpen Detail : 50
Sharpen Edge Masking : 0
Post Crop Vignette Amount : 0
Grain Amount : 0
Luminance Noise Reduction Detail : 50
Color Noise Reduction Detail : 50
Luminance Noise Reduction Contrast : 0
Convert To Grayscale : False
Tone Curve Name : Medium Contrast
Camera Profile : Adobe Standard
Has Settings : True
Has Crop : False
Already Applied : True
Format : image/jpeg
Date Created : 2010:02:05 18:50:18
Color Mode : RGB
ICC Profile Name : Adobe RGB (1998)
Marked : True
Tone Curve : 0, 0, 32, 22, 64, 56, 128, 128, 192, 196, 255, 255
Rights : © 2010 by Daniel Roznovjak, Roeschibachstr. 24, 8037 Zurich, Switzerland. +41795044192.This photo may not be published, alientated or used otherwise without my permission!
Image Width : 300
Image Height : 200
Bits Per Sample : 8
Color Components : 3
Aperture : 3.5
Image Size : 300x200
Megapixels : 0.060
Scale Factor To 35 mm Equivalent : 1.5
Shutter Speed : 6
Circle Of Confusion : 0.021 mm
Depth Of Field : inf (6.66 m - inf)
Field Of View : 54.4 deg
Focal Length : 24.0 mm (35 mm equivalent: 35.0 mm)
Hyperfocal Distance : 7.99 m
Light Value : -3.0
Lens ID : 24.0mm f/2.8