Uber Exif Photo
Camera Model Name : LEICA X (Typ 113)
Orientation : Horizontal (normal)
Software : Adobe Photoshop Lightroom 5.7 (Macintosh)
Modify Date : 2015:11:24 10:00:26
ISO : 100
Date/Time Original : 2015:11:23 13:41:10
Focal Length : 23.0 mm
Color Space : sRGB
Exif Image Width : 3000
Exif Image Height : 1986
Profile Description : sRGB IEC61966-2.1
Luminance Adjustment Green : 0
Hue Adjustment Green : 0
Saturation Adjustment Yellow : 0
Parametric Darks : 0
Perspective Scale : 100
Clarity 2012 : 0
Hue Adjustment Magenta : 0
Color Noise Reduction : 0
Perspective Upright : Off
Has Crop : False
Hue Adjustment Aqua : 0
Red Saturation : 0
Parametric Shadows : 0
Hue Adjustment Orange : 0
White Balance : As Shot
Hue Adjustment Yellow : 0
Split Toning Shadow Saturation : 0
Lens Manual Distortion Amount : 0
Tone Curve Name : Linear
Shadows 2012 : 0
Hue Adjustment Blue : 0
Blacks 2012 : -16
Tone Curve Name 2012 : Linear
Luminance Adjustment Magenta : 0
Convert To Grayscale : False
Luminance Smoothing : 0
Highlights 2012 : -10
Luminance Adjustment Yellow : 0
Incremental Tint : 0
Parametric Midtone Split : 50
Perspective Aspect : 0
Shadow Tint : 0
Hue Adjustment Red : 0
Split Toning Highlight Saturation : 0
Split Toning Shadow Hue : 0
Has Settings : True
Lens Profile Setup : LensDefaults
Defringe Purple Hue Hi : 70
Saturation Adjustment Orange : 0
Defringe Purple Hue Lo : 30
Post Crop Vignette Amount : 0
Split Toning Balance : 0
Lens Profile Enable : 0
Vignette Amount : 0
Perspective Rotate : 0.0
Process Version : 6.7
Saturation Adjustment Purple : 0
Parametric Highlights : 0
Vibrance : 0
Saturation Adjustment Green : 0
Parametric Shadow Split : 25
Luminance Adjustment Purple : 0
Luminance Adjustment Orange : 0
Green Hue : 0
Perspective Vertical : 0
Green Saturation : 0
Sharpness : 0
Blue Saturation : 0
Perspective Horizontal : 0
Sharpen Detail : 25
Blue Hue : 0
Luminance Adjustment Aqua : 0
Parametric Highlight Split : 75
Auto Lateral CA : 0
Incremental Temperature : 0
Red Hue : 0
Split Toning Highlight Hue : 0
Camera Profile : Embedded
Saturation Adjustment Red : 0
Saturation Adjustment Aqua : 0
Defringe Purple Amount : 0
Parametric Lights : 0
Sharpen Radius : +1.0
Luminance Adjustment Blue : 0
Luminance Adjustment Red : 0
Hue Adjustment Purple : 0
Auto White Version : 134348800
Saturation Adjustment Blue : 0
Contrast 2012 : 0
Saturation : 0
Already Applied : True
Defringe Green Hue Hi : 60
Grain Amount : 0
Version : 8.7
Defringe Green Amount : 0
Whites 2012 : -3
Defringe Green Hue Lo : 40
Sharpen Edge Masking : 0
Exposure 2012 : 0.00
Saturation Adjustment Magenta : 0
Creator Tool : Adobe Photoshop Lightroom 5.7 (Macintosh)
Format : image/jpeg
Date Created : 2015:11:23 13:41:10
Tone Curve PV2012 Red : 0, 0, 255, 255
Tone Curve PV2012 Green : 0, 0, 255, 255
Tone Curve PV2012 : 0, 0, 255, 255
Tone Curve Green : 0, 0, 255, 255
Tone Curve Red : 0, 0, 255, 255
Tone Curve Blue : 0, 0, 255, 255
Tone Curve : 0, 0, 255, 255
Tone Curve PV2012 Blue : 0, 0, 255, 255
Image Width : 255
Image Height : 169
Bits Per Sample : 8
Color Components : 3
Image Size : 255x169
Megapixels : 0.043