Uber Exif Photo
Special Instructions : c4ykOChkQjCC2ammAwoleA
Make : LEICA CAMERA AG
Camera Model Name : LEICA X (Typ 113)
Orientation : Horizontal (normal)
Software : Adobe Photoshop Lightroom 5.7 (Macintosh)
Modify Date : 2015:11:03 15:31:04
Exposure Time : 1/640
F Number : 8.0
Exposure Program : Aperture-priority AE
ISO : 100
Date/Time Original : 2015:09:15 07:17:43
Create Date : 2015:09:15 07:17:43
Shutter Speed Value : 1/640
Aperture Value : 8.0
Exposure Compensation : 0
Max Aperture Value : 1.7
Metering Mode : Center-weighted average
Light Source : Unknown
Flash : Off, Did not fire
Focal Length : 23.0 mm
Color Space : sRGB
Exif Image Width : 1000
Exif Image Height : 593
Sensing Method : One-chip color area
Custom Rendered : Normal
White Balance : Auto
Digital Zoom Ratio : 1
Focal Length In 35mm Format : 35 mm
Scene Capture Type : Landscape
Contrast : Normal
Saturation : Normal
Sharpness : Normal
Profile Description : sRGB IEC61966-2.1
Luminance Adjustment Green : 0
Hue Adjustment Green : 0
Saturation Adjustment Yellow : 0
Parametric Darks : +11
Perspective Scale : 100
Clarity 2012 : 0
Hue Adjustment Magenta : 0
Color Noise Reduction : 0
Perspective Upright : Off
Has Crop : True
Hue Adjustment Aqua : 0
Red Saturation : 0
Parametric Shadows : +1
Hue Adjustment Orange : 0
Hue Adjustment Yellow : 0
Split Toning Shadow Saturation : 0
Lens Manual Distortion Amount : 0
Tone Curve Name : Linear
Shadows 2012 : +42
Hue Adjustment Blue : 0
Blacks 2012 : -3
Tone Curve Name 2012 : Linear
Luminance Adjustment Magenta : 0
Convert To Grayscale : False
Luminance Smoothing : 0
Highlights 2012 : 0
Luminance Adjustment Yellow : 0
Incremental Tint : +13
Parametric Midtone Split : 50
Perspective Aspect : 0
Shadow Tint : 0
Hue Adjustment Red : 0
Split Toning Highlight Saturation : 0
Split Toning Shadow Hue : 0
Has Settings : True
Lens Profile Setup : LensDefaults
Defringe Purple Hue Hi : 70
Saturation Adjustment Orange : 0
Defringe Purple Hue Lo : 30
Post Crop Vignette Amount : 0
Split Toning Balance : 0
Lens Profile Enable : 0
Vignette Amount : 0
Perspective Rotate : 0.0
Crop Right : 0.950823
Process Version : 6.7
Saturation Adjustment Purple : 0
Saturation Adjustment Green : 0
Vibrance : 0
Parametric Highlights : 0
Parametric Shadow Split : 25
Luminance Adjustment Orange : 0
Luminance Adjustment Purple : 0
Green Hue : 0
Perspective Vertical : -15
Crop Left : 0
Crop Bottom : 0.943046
Perspective Horizontal : -11
Green Saturation : 0
Blue Saturation : 0
Sharpen Detail : 25
Blue Hue : 0
Luminance Adjustment Aqua : 0
Parametric Highlight Split : 75
Crop Top : 0.012966
Auto Lateral CA : 0
Incremental Temperature : +4
Crop Angle : 0
Red Hue : 0
Split Toning Highlight Hue : 0
Camera Profile : Embedded
Saturation Adjustment Red : 0
Saturation Adjustment Aqua : 0
Defringe Purple Amount : 0
Parametric Lights : -52
Sharpen Radius : +1.0
Crop Constrain To Warp : 0
Luminance Adjustment Blue : 0
Luminance Adjustment Red : 0
Hue Adjustment Purple : 0
Contrast 2012 : +36
Auto White Version : 134348800
Already Applied : True
Defringe Green Hue Hi : 60
Saturation Adjustment Blue : 0
Grain Amount : 0
Version : 8.7
Defringe Green Amount : 0
Whites 2012 : -30
Defringe Green Hue Lo : 40
Sharpen Edge Masking : 0
Exposure 2012 : +0.15
Saturation Adjustment Magenta : 0
Creator Tool : Adobe Photoshop Lightroom 5.7 (Macintosh)
Instructions : c4ykOChkQjCC2ammAwoleA
Date Created : 2015:09:15 07:17:43
Format : image/jpeg
Tone Curve PV2012 Red : 0, 0, 255, 255
Tone Curve PV2012 Green : 0, 0, 255, 255
Tone Curve PV2012 : 0, 0, 255, 255
Tone Curve Green : 0, 0, 255, 255
Tone Curve Red : 0, 0, 255, 255
Tone Curve Blue : 0, 0, 255, 255
Tone Curve : 0, 0, 255, 255
Tone Curve PV2012 Blue : 0, 0, 255, 255
Image Width : 255
Image Height : 151
Bits Per Sample : 8
Color Components : 3
Aperture : 8.0
Image Size : 255x151
Megapixels : 0.039
Scale Factor To 35 mm Equivalent : 1.5
Shutter Speed : 1/640
Circle Of Confusion : 0.020 mm
Field Of View : 54.4 deg
Focal Length : 23.0 mm (35 mm equivalent: 35.0 mm)
Hyperfocal Distance : 3.35 m
Light Value : 15.3