Uber Exif Photo
Make : Leica Camera AG
Camera Model Name : M9 Digital Camera
Software : Adobe Photoshop Lightroom 4.2 (Macintosh)
Modify Date : 2012:10:14 19:01:14
Exposure Time : 1/45
F Number : 3.4
Exposure Program : Aperture-priority AE
ISO : 160
Date/Time Original : 2011:09:24 14:54:48
Create Date : 2011:09:24 14:54:48
Shutter Speed Value : 1/45
Aperture Value : 3.4
Exposure Compensation : 0
Max Aperture Value : 2.5
Metering Mode : Center-weighted average
Light Source : Daylight
Flash : No Flash
Focal Length : 35.0 mm
Contrast : Normal
Sharpening : Normal
Saturation : Normal
White Balance : Daylight
JPEG Quality : Fine
WB RGB Levels : 0.4370232062 1 0.7434094106
User Profile : JPEG Size : 5216x3472
Firmware Version : 1.162
Base ISO : 160
Sensor Width : 5270
Sensor Height : 3516
Sensor Bit Depth : 14
Camera Temperature : 27 C
Lens Type : Summarit-M 35mm f/2.5
Approximate F Number : 3.5
Measured LV : 3.04
External Sensor Brightness Value : 1.98
Scene Type : Directly photographed
Exposure Mode : Manual
Digital Zoom Ratio : 0
Focal Length In 35mm Format : 35 mm
Scene Capture Type : Standard
Serial Number : 3909876
Lens Model : Leica Summarit-M 35mm f/2.5
Maker Note Safety : Safe
Profile Description : ProPhoto RGB
Creator Tool : Adobe Photoshop Lightroom 4.2 (Macintosh)
Lens : Leica Summarit-M 35mm f/2.5
Date Created : 2011:09:24 14:54:48
Format : image/jpeg
Version : 7.2
Process Version : 6.7
Color Temperature : 5500
Tint : +10
Sharpness : 30
Luminance Smoothing : 0
Color Noise Reduction : 25
Vignette Amount : 0
Shadow Tint : 0
Red Hue : 0
Red Saturation : 0
Green Hue : 0
Green Saturation : 0
Blue Hue : 0
Blue Saturation : 0
Vibrance : +4
Hue Adjustment Red : 0
Hue Adjustment Orange : 0
Hue Adjustment Yellow : 0
Hue Adjustment Green : 0
Hue Adjustment Aqua : 0
Hue Adjustment Blue : 0
Hue Adjustment Purple : 0
Hue Adjustment Magenta : 0
Saturation Adjustment Red : 0
Saturation Adjustment Orange : 0
Saturation Adjustment Yellow : 0
Saturation Adjustment Green : 0
Saturation Adjustment Aqua : 0
Saturation Adjustment Blue : 0
Saturation Adjustment Purple : 0
Saturation Adjustment Magenta : 0
Luminance Adjustment Red : 0
Luminance Adjustment Orange : 0
Luminance Adjustment Yellow : 0
Luminance Adjustment Green : 0
Luminance Adjustment Aqua : 0
Luminance Adjustment Blue : 0
Luminance Adjustment Purple : 0
Luminance Adjustment Magenta : 0
Split Toning Shadow Hue : 0
Split Toning Shadow Saturation : 0
Split Toning Highlight Hue : 0
Split Toning Highlight Saturation : 0
Split Toning Balance : 0
Parametric Shadows : 0
Parametric Darks : 0
Parametric Lights : 0
Parametric Highlights : 0
Parametric Shadow Split : 25
Parametric Midtone Split : 50
Parametric Highlight Split : 75
Sharpen Radius : +0.7
Sharpen Detail : 25
Sharpen Edge Masking : 0
Post Crop Vignette Amount : 0
Grain Amount : 0
Color Noise Reduction Detail : 50
Lens Profile Enable : 1
Lens Manual Distortion Amount : 0
Perspective Vertical : 0
Perspective Horizontal : 0
Perspective Rotate : 0.0
Perspective Scale : 100
Auto Lateral CA : 1
Exposure 2012 : 0.00
Contrast 2012 : +5
Highlights 2012 : -18
Shadows 2012 : 0
Whites 2012 : 0
Blacks 2012 : 0
Clarity 2012 : +10
Defringe Purple Amount : 0
Defringe Purple Hue Lo : 30
Defringe Purple Hue Hi : 70
Defringe Green Amount : 0
Defringe Green Hue Lo : 40
Defringe Green Hue Hi : 60
Convert To Grayscale : False
Tone Curve Name 2012 : Linear
Camera Profile : Adobe Standard
Lens Profile Setup : LensDefaults
Lens Profile Name : Adobe (Leica SUMMARIT-M 35 mm f/2.5)
Lens Profile Filename : Leica Camera AG (Leica SUMMARIT-M 35 mm f2.5) - RAW.lcp
Lens Profile Distortion Scale : 100
Lens Profile Chromatic Aberration Scale : 100
Lens Profile Vignetting Scale : 100
Has Settings : True
Crop Top : 0.031389
Crop Left : 0.008321
Crop Bottom : 0.969404
Crop Right : 0.914811
Crop Angle : -1.30777
Crop Constrain To Warp : 0
Crop Width : 2630
Crop Height : 1901
Crop Unit : pixels
Has Crop : True
Already Applied : True
Tone Curve PV2012 : 0, 0, 255, 255
Tone Curve PV2012 Red : 0, 0, 255, 255
Tone Curve PV2012 Green : 0, 0, 255, 255
Tone Curve PV2012 Blue : 0, 0, 255, 255
Image Width : 300
Image Height : 217
Bits Per Sample : 8
Color Components : 3
Aperture : 3.4
Blue Balance : 0.743409
Image Size : 300x217
Lens ID : Leica Summarit-M 35mm f/2.5
Megapixels : 0.065
Red Balance : 0.437023
Scale Factor To 35 mm Equivalent : 1.0
Shutter Speed : 1/45
Circle Of Confusion : 0.030 mm
Field Of View : 54.4 deg
Focal Length : 35.0 mm (35 mm equivalent: 35.0 mm)
Hyperfocal Distance : 11.99 m
Light Value : 8.3