Uber Exif Photo
Copyright Flag : False
Make : Leica Camera AG
Camera Model Name : M8 Digital Camera
Orientation : Horizontal (normal)
Software : Adobe Photoshop CS3 Windows
Modify Date : 2013:11:20 18:22:36
Exposure Time : 1/1500
Exposure Program : Aperture-priority AE
ISO : 640
Date/Time Original : 2013:11:18 10:28:41
Create Date : 2013:11:18 10:28:41
Shutter Speed Value : 1/1500
Exposure Compensation : 0
Max Aperture Value : 1.0
Metering Mode : Center-weighted average
Light Source : Unknown
Color Space : Uncalibrated
Exif Image Width : 800
Exif Image Height : 538
Scene Type : Directly photographed
White Balance : Auto
Digital Zoom Ratio : 0
Scene Capture Type : Standard
Date/Time Digitized : 2013:11:18 10:28:41+08:00
Creator Tool : Adobe Photoshop CS3 Windows
Rating : 0
Serial Number : 3330919
Raw File Name : L1016623.DNG
Version : 4.6
Color Temperature : 5550
Tint : -2
Exposure : 0.00
Shadows : 5
Brightness : +40
Contrast : +25
Saturation : 0
Sharpness : 0
Luminance Smoothing : 0
Color Noise Reduction : 25
Chromatic Aberration R : 0
Chromatic Aberration B : 0
Vignette Amount : 0
Shadow Tint : 0
Red Hue : 0
Red Saturation : 0
Green Hue : 0
Green Saturation : 0
Blue Hue : 0
Blue Saturation : 0
Fill Light : 24
Vibrance : 0
Highlight Recovery : 33
Clarity : 0
Defringe : 0
Hue Adjustment Red : 0
Hue Adjustment Orange : 0
Hue Adjustment Yellow : 0
Hue Adjustment Green : 0
Hue Adjustment Aqua : 0
Hue Adjustment Blue : 0
Hue Adjustment Purple : 0
Hue Adjustment Magenta : 0
Saturation Adjustment Red : 0
Saturation Adjustment Orange : 0
Saturation Adjustment Yellow : 0
Saturation Adjustment Green : 0
Saturation Adjustment Aqua : 0
Saturation Adjustment Blue : 0
Saturation Adjustment Purple : 0
Saturation Adjustment Magenta : 0
Luminance Adjustment Red : 0
Luminance Adjustment Orange : 0
Luminance Adjustment Yellow : 0
Luminance Adjustment Green : 0
Luminance Adjustment Aqua : 0
Luminance Adjustment Blue : 0
Luminance Adjustment Purple : 0
Luminance Adjustment Magenta : 0
Split Toning Shadow Hue : 0
Split Toning Shadow Saturation : 0
Split Toning Highlight Hue : 0
Split Toning Highlight Saturation : 0
Split Toning Balance : 0
Parametric Shadows : 0
Parametric Darks : 0
Parametric Lights : 0
Parametric Highlights : 0
Parametric Shadow Split : 25
Parametric Midtone Split : 50
Parametric Highlight Split : 75
Sharpen Radius : +1.0
Sharpen Detail : 25
Sharpen Edge Masking : 0
Post Crop Vignette Amount : 0
Convert To Grayscale : False
Tone Curve Name : Medium Contrast
Camera Profile : ACR 4.4
Has Settings : True
Has Crop : False
Already Applied : True
Format : image/jpeg
Color Mode : Grayscale
ICC Profile Name : Dot Gain 20%
Flash Fired : False
Flash Return : No return detection
Flash Mode : Auto
Flash Function : False
Flash Red Eye Mode : False
Tone Curve : 0, 0, 32, 22, 64, 56, 128, 128, 192, 196, 255, 255
Image Width : 300
Image Height : 202
Bits Per Sample : 8
Color Components : 1
Image Size : 300x202
Megapixels : 0.061
Scale Factor To 35 mm Equivalent : 6.6
Shutter Speed : 1/1500
Flash : Auto, Did not fire
Circle Of Confusion : 0.005 mm