Uber Exif Photo
By-line : VINCENT VAN KLEEF
Copyright Notice : SOUL2SOULPHOTOGRAPHY
Make : Leica Camera AG
Camera Model Name : LEICA M10
Orientation : Horizontal (normal)
Software : Adobe Photoshop Lightroom 6.0 (Macintosh)
Modify Date : 2018:04:04 19:37:52
Artist : VINCENT VAN KLEEF
Copyright : SOUL2SOULPHOTOGRAPHY
Exposure Time : 1/1000
Exposure Program : Aperture-priority AE
ISO : 400
Date/Time Original : 2018:04:04 15:44:44
Create Date : 2018:04:04 15:44:44
Shutter Speed Value : 1/1000
Exposure Compensation : 0
Max Aperture Value : 1.4
Metering Mode : Center-weighted average
Light Source : Unknown
Flash : No Flash
Focal Length : 50.0 mm
Color Space : sRGB
Scene Type : Directly photographed
Custom Rendered : Normal
Exposure Mode : Auto
White Balance : Auto
Digital Zoom Ratio : 0
Scene Capture Type : Standard
Contrast : Normal
Saturation : Normal
Sharpness : Normal
Serial Number : 5182027
Lens Info : 50mm f/248
Lens Make : Leica Camera AG
Lens Model : Summilux-M 1:1.4/50 ASPH.
Profile Description : sRGB IEC61966-2.1
Creator Tool : Adobe Photoshop Lightroom 6.0 (Macintosh)
Label : Red
Format : image/jpeg
Lens : Summilux-M 1:1.4/50 ASPH.
Date Created : 2018:04:04 15:44:44
Version : 9.0
Process Version : 6.7
Auto White Version : 134348800
Color Temperature : 5050
Tint : +11
Luminance Smoothing : 0
Color Noise Reduction : 25
Vignette Amount : 0
Shadow Tint : 0
Red Hue : 0
Red Saturation : +20
Green Hue : 0
Green Saturation : +5
Blue Hue : 0
Blue Saturation : -40
Gray Mixer Red : 0
Gray Mixer Orange : -12
Gray Mixer Yellow : -8
Gray Mixer Green : -20
Gray Mixer Aqua : -15
Gray Mixer Blue : +10
Gray Mixer Purple : +25
Gray Mixer Magenta : +15
Split Toning Shadow Hue : 0
Split Toning Shadow Saturation : 0
Split Toning Highlight Hue : 0
Split Toning Highlight Saturation : 0
Split Toning Balance : 0
Parametric Shadows : 0
Parametric Darks : 0
Parametric Lights : 0
Parametric Highlights : 0
Parametric Shadow Split : 25
Parametric Midtone Split : 50
Parametric Highlight Split : 75
Sharpen Radius : +1.4
Sharpen Detail : 48
Sharpen Edge Masking : 53
Post Crop Vignette Amount : 0
Grain Amount : 0
Color Noise Reduction Detail : 50
Color Noise Reduction Smoothness : 50
Lens Profile Enable : 0
Lens Manual Distortion Amount : 0
Perspective Vertical : 0
Perspective Horizontal : 0
Perspective Rotate : 0.0
Perspective Scale : 100
Perspective Aspect : 0
Perspective Upright : Off
Auto Lateral CA : 0
Exposure 2012 : 0.00
Contrast 2012 : 0
Highlights 2012 : -46
Shadows 2012 : +36
Whites 2012 : +28
Blacks 2012 : -34
Clarity 2012 : 0
Convert To Grayscale : True
Tone Curve Name : Linear
Tone Curve Name 2012 : TRI-X+3
Camera Profile : LEICA M10
Lens Profile Setup : LensDefaults
Has Settings : True
Crop Top : 0.050228
Crop Left : 0.016455
Crop Bottom : 0.999135
Crop Right : 0.773827
Crop Angle : 1.18513
Crop Constrain To Warp : 0
Has Crop : True
Already Applied : True
Raw File Name : Amy_Dex_Sam_Westdogs_WEBONLY_04042018_Vincent van Kleef_Soul2Soul Photography (62 of 92).jpg
Creator : VINCENT VAN KLEEF
Rights : SOUL2SOULPHOTOGRAPHY
Tone Curve : 0, 0, 255, 255
Tone Curve Red : 0, 0, 255, 255
Tone Curve Green : 0, 0, 255, 255
Tone Curve Blue : 0, 0, 255, 255
Tone Curve PV2012 : 0, 9, 39, 26, 105, 97, 168, 179, 255, 255
Tone Curve PV2012 Red : 0, 0, 255, 255
Tone Curve PV2012 Green : 0, 0, 255, 255
Tone Curve PV2012 Blue : 0, 0, 255, 255
Image Width : 350
Image Height : 280
Bits Per Sample : 8
Color Components : 3
Image Size : 350x280
Megapixels : 0.098
Shutter Speed : 1/1000
Lens ID : Summilux-M 1:1.4/50 ASPH.