Uber Exif Photo
Make : Leica Camera AG
Camera Model Name : M9 Digital Camera
Software : Adobe Photoshop Lightroom 4.4 (Macintosh)
Modify Date : 2013:07:08 10:36:34
Exposure Time : 1/125
F Number : 1.7
Exposure Program : Aperture-priority AE
ISO : 160
Date/Time Original : 2011:06:03 13:28:09
Create Date : 2011:06:03 13:28:09
Shutter Speed Value : 1/125
Aperture Value : 1.7
Exposure Compensation : +0.664
Max Aperture Value : 1.4
Metering Mode : Center-weighted average
Light Source : Unknown
Flash : No Flash
Focal Length : 35.0 mm
Scene Type : Directly photographed
Exposure Mode : Manual
White Balance : Auto
Digital Zoom Ratio : 0
Focal Length In 35mm Format : 35 mm
Scene Capture Type : Standard
Serial Number : 3841174
Lens Model : Leica Summilux-M 35mm f/1.4 ASPH.
Lens : Leica Summilux-M 35mm f/1.4 ASPH.
Creator Tool : Adobe Photoshop Lightroom 4.4 (Macintosh)
Date Created : 2011:06:03 13:28:09
Version : 7.4
Process Version : 5.7
Incremental Temperature : 0
Incremental Tint : 0
Exposure : -0.25
Shadows : 10
Brightness : 0
Contrast : -16
Sharpness : 0
Luminance Smoothing : 0
Color Noise Reduction : 0
Vignette Amount : 0
Shadow Tint : 0
Red Hue : 0
Red Saturation : 0
Green Hue : 0
Green Saturation : 0
Blue Hue : 0
Blue Saturation : 0
Fill Light : 0
Highlight Recovery : 0
Clarity : +17
Gray Mixer Red : -9
Gray Mixer Orange : -19
Gray Mixer Yellow : -22
Gray Mixer Green : -27
Gray Mixer Aqua : -18
Gray Mixer Blue : +9
Gray Mixer Purple : +15
Gray Mixer Magenta : +4
Split Toning Shadow Hue : 0
Split Toning Shadow Saturation : 0
Split Toning Highlight Hue : 0
Split Toning Highlight Saturation : 0
Split Toning Balance : 0
Parametric Shadows : 0
Parametric Darks : -16
Parametric Lights : +53
Parametric Highlights : 0
Parametric Shadow Split : 25
Parametric Midtone Split : 50
Parametric Highlight Split : 75
Sharpen Radius : +1.0
Sharpen Detail : 25
Sharpen Edge Masking : 0
Post Crop Vignette Amount : 0
Grain Amount : 0
Lens Profile Enable : 0
Lens Manual Distortion Amount : 0
Perspective Vertical : 0
Perspective Horizontal : 0
Perspective Rotate : 0.0
Perspective Scale : 100
Auto Lateral CA : 0
Convert To Grayscale : True
Tone Curve Name : Linear
Camera Profile : Embedded
Lens Profile Setup : LensDefaults
Has Settings : True
Has Crop : False
Already Applied : True
Format : image/jpeg
Tone Curve : 0, 0, 255, 255
Tone Curve Red : 0, 0, 255, 255
Tone Curve Green : 0, 0, 255, 255
Tone Curve Blue : 0, 0, 255, 255
Derived From : Image Width : 200
Image Height : 300
Bits Per Sample : 8
Color Components : 1
Aperture : 1.7
Image Size : 200x300
Megapixels : 0.060
Scale Factor To 35 mm Equivalent : 1.0
Shutter Speed : 1/125
Circle Of Confusion : 0.030 mm
Field Of View : 54.4 deg
Focal Length : 35.0 mm (35 mm equivalent: 35.0 mm)
Hyperfocal Distance : 23.98 m
Light Value : 7.8
Lens ID : Summilux-M 35mm f/1.4 ASPH.