Uber Exif Photo
By-line : JME
Copyright Notice : Elario2016
Make : Leica Camera AG
Camera Model Name : LEICA M MONOCHROM (Typ 246)
Software : Adobe Photoshop Lightroom Classic 8.2.1 (Macintosh)
Modify Date : 2019:05:05 14:31:50
Artist : JME
Copyright : Elario2016
Exposure Time : 1/125
F Number : 9.5
Exposure Program : Manual
ISO : 640
Date/Time Original : 2019:05:05 12:35:25
Create Date : 2019:05:05 12:35:25
Shutter Speed Value : 1/125
Aperture Value : 9.5
Exposure Compensation : +0.664
Max Aperture Value : 1.4
Metering Mode : Center-weighted average
Light Source : Unknown
Flash : No Flash
Focal Length : 24.0 mm
Color Space : sRGB
Scene Type : Directly photographed
Custom Rendered : Normal
Exposure Mode : Manual
Digital Zoom Ratio : 0
Scene Capture Type : Standard
Contrast : High
Sharpness : Normal
Serial Number : 4948445
Lens Info : 24mm f/1.4-16
Lens Make : Leica Camera AG
Lens Model : Summilux-M 1:1.4/24 ASPH.
Lens Serial Number : -------
GPS Version ID : 2.2.0.0
GPS Altitude Ref : Above Sea Level
GPS Status : Measurement Void
GPS Dilution Of Precision : 0
GPS Speed : 0
GPS Track : 0
Profile Description : sRGB IEC61966-2.1
Format : image/jpeg
Creator Tool : Adobe Photoshop Lightroom Classic 8.2.1 (Macintosh)
Lens : Summilux-M 1:1.4/24 ASPH.
Date Created : 2019:05:05 12:35:25
Raw File Name : Version : 11.2.1
Process Version : 11.0
Luminance Smoothing : 0
Vignette Amount : 0
Split Toning Shadow Hue : 0
Split Toning Shadow Saturation : 0
Split Toning Highlight Hue : 0
Split Toning Highlight Saturation : 0
Split Toning Balance : 0
Parametric Shadows : 0
Parametric Darks : 0
Parametric Lights : 0
Parametric Highlights : 0
Parametric Shadow Split : 25
Parametric Midtone Split : 50
Parametric Highlight Split : 75
Sharpen Radius : +1.0
Sharpen Detail : 25
Sharpen Edge Masking : 0
Post Crop Vignette Amount : -3
Post Crop Vignette Midpoint : 50
Post Crop Vignette Feather : 50
Post Crop Vignette Roundness : 0
Post Crop Vignette Style : Highlight Priority
Post Crop Vignette Highlight Contrast : 0
Grain Amount : 0
Lens Profile Enable : 0
Lens Manual Distortion Amount : 0
Perspective Vertical : 0
Perspective Horizontal : 0
Perspective Rotate : 0.0
Perspective Scale : 100
Perspective Aspect : 0
Perspective Upright : Off
Perspective X : 0.00
Perspective Y : 0.00
Exposure 2012 : -0.40
Contrast 2012 : +69
Highlights 2012 : -57
Shadows 2012 : +32
Whites 2012 : +16
Blacks 2012 : -33
Clarity 2012 : 0
Dehaze : 0
Tone Map Strength : 0
Convert To Grayscale : False
Override Look Vignette : False
Tone Curve Name : Linear
Tone Curve Name 2012 : Linear
Lens Profile Setup : LensDefaults
Has Settings : True
Crop Top : 0.260698
Crop Left : 0
Crop Bottom : 0.881119
Crop Right : 1
Crop Angle : -4.73321
Crop Constrain To Warp : 0
Has Crop : True
Already Applied : True
Creator : JME
Rights : Elario2016
Tone Curve : 0, 0, 255, 255
Tone Curve Red : 0, 0, 255, 255
Tone Curve Green : 0, 0, 255, 255
Tone Curve Blue : 0, 0, 255, 255
Tone Curve PV2012 : 0, 0, 255, 255
Tone Curve PV2012 Red : 0, 0, 255, 255
Tone Curve PV2012 Green : 0, 0, 255, 255
Tone Curve PV2012 Blue : 0, 0, 255, 255
Look Name : Image Width : 350
Image Height : 180
Bits Per Sample : 8
Color Components : 3
Aperture : 9.5
Image Size : 350x180
Megapixels : 0.063
Scale Factor To 35 mm Equivalent : 18.2
Shutter Speed : 1/125
GPS Altitude : 0 m Above Sea Level
Circle Of Confusion : 0.002 mm
Field Of View : 4.7 deg
Focal Length : 24.0 mm (35 mm equivalent: 436.2 mm)
Hyperfocal Distance : 36.68 m
Light Value : 10.8
Lens ID : Summilux-M 1:1.4/24 ASPH.