Uber Exif Photo
By-line : jmelario@mac.com 2013ELAIO
Copyright Notice : 2013ELAIO _1250
Make : Leica Camera AG
Camera Model Name : LEICA M (Typ 240)
Software : Adobe Photoshop Lightroom 5.0 (Macintosh)
Modify Date : 2013:08:18 14:51:42
Artist : jmelario@mac.com 2013ELAIO _1250
Copyright : 2013ELAIO _1250
Exposure Time : 1/1000
F Number : 9.5
Exposure Program : Aperture-priority AE
ISO : 400
Date/Time Original : 2013:08:17 16:30:00
Create Date : 2013:08:17 16:30:00
Shutter Speed Value : 1/1000
Aperture Value : 9.5
Exposure Compensation : 0
Max Aperture Value : 1.4
Metering Mode : Multi-spot
Light Source : Unknown
Flash : No Flash
Focal Length : 35.0 mm
Scene Type : Directly photographed
Custom Rendered : Normal
Exposure Mode : Auto
White Balance : Auto
Digital Zoom Ratio : 0
Scene Capture Type : Standard
Contrast : Normal
Saturation : Normal
Sharpness : Normal
Serial Number : 4701640
Lens Model : Summilux-M 1:1.4/35 ASPH.
Profile Description : sRGB IEC61966-2.1
Format : image/jpeg
Creator Tool : Adobe Photoshop Lightroom 5.0 (Macintosh)
Lens : Summilux-M 1:1.4/35 ASPH.
Date Created : 2013:08:17 16:30:00
Version : 8.1
Process Version : 6.7
Color Temperature : 5500
Tint : +10
Luminance Smoothing : 0
Color Noise Reduction : 25
Vignette Amount : 0
Shadow Tint : 0
Red Hue : 0
Red Saturation : 0
Green Hue : 0
Green Saturation : 0
Blue Hue : 0
Blue Saturation : 0
Vibrance : 0
Hue Adjustment Red : 0
Hue Adjustment Orange : 0
Hue Adjustment Yellow : 0
Hue Adjustment Green : 0
Hue Adjustment Aqua : 0
Hue Adjustment Blue : 0
Hue Adjustment Purple : 0
Hue Adjustment Magenta : 0
Saturation Adjustment Red : 0
Saturation Adjustment Orange : 0
Saturation Adjustment Yellow : 0
Saturation Adjustment Green : 0
Saturation Adjustment Aqua : 0
Saturation Adjustment Blue : 0
Saturation Adjustment Purple : 0
Saturation Adjustment Magenta : 0
Luminance Adjustment Red : 0
Luminance Adjustment Orange : 0
Luminance Adjustment Yellow : 0
Luminance Adjustment Green : 0
Luminance Adjustment Aqua : 0
Luminance Adjustment Blue : 0
Luminance Adjustment Purple : 0
Luminance Adjustment Magenta : 0
Split Toning Shadow Hue : 0
Split Toning Shadow Saturation : 0
Split Toning Highlight Hue : 0
Split Toning Highlight Saturation : 0
Split Toning Balance : 0
Parametric Shadows : 0
Parametric Darks : 0
Parametric Lights : 0
Parametric Highlights : 0
Parametric Shadow Split : 25
Parametric Midtone Split : 50
Parametric Highlight Split : 75
Sharpen Radius : +1.0
Sharpen Detail : 25
Sharpen Edge Masking : 0
Post Crop Vignette Amount : 0
Grain Amount : 0
Color Noise Reduction Detail : 50
Lens Profile Enable : 0
Lens Manual Distortion Amount : 0
Perspective Vertical : 0
Perspective Horizontal : 0
Perspective Rotate : 0.0
Perspective Scale : 100
Perspective Aspect : 0
Perspective Upright : Off
Auto Lateral CA : 0
Exposure 2012 : -0.35
Contrast 2012 : -25
Highlights 2012 : -29
Shadows 2012 : +29
Whites 2012 : +30
Blacks 2012 : 0
Clarity 2012 : 0
Defringe Purple Amount : 0
Defringe Purple Hue Lo : 30
Defringe Purple Hue Hi : 70
Defringe Green Amount : 0
Defringe Green Hue Lo : 40
Defringe Green Hue Hi : 60
Convert To Grayscale : False
Tone Curve Name 2012 : Linear
Camera Profile : Adobe Standard
Lens Profile Setup : LensDefaults
Has Settings : True
Crop Top : 0.127981
Crop Left : 0.065614
Crop Bottom : 1
Crop Right : 1
Crop Angle : 0
Crop Constrain To Warp : 0
Has Crop : True
Already Applied : True
Creator : jmelario@mac.com 2013ELAIO _1250
Rights : 2013ELAIO _1250
Tone Curve PV2012 : 0, 0, 255, 255
Tone Curve PV2012 Red : 0, 0, 255, 255
Tone Curve PV2012 Green : 0, 0, 255, 255
Tone Curve PV2012 Blue : 0, 0, 255, 255
Image Width : 300
Image Height : 187
Bits Per Sample : 8
Color Components : 3
Aperture : 9.5
Image Size : 300x187
Megapixels : 0.056
Scale Factor To 35 mm Equivalent : 20.2
Shutter Speed : 1/1000
Circle Of Confusion : 0.001 mm
Field Of View : 2.9 deg
Focal Length : 35.0 mm (35 mm equivalent: 708.2 mm)
Hyperfocal Distance : 86.84 m
Light Value : 14.5
Lens ID : Summilux-M 1:1.4/35 ASPH.