Uber Exif Photo
Make : Leica Camera AG
Camera Model Name : M9 Digital Camera
Software : 1.138
Modify Date : 2011:01:09 22:51:24
Exposure Time : 1/15
F Number : 4.0
Exposure Program : Manual
ISO : 800
Sensitivity Type : Unknown
Date/Time Original : 2011:01:08 20:55:46
Create Date : 2011:01:08 20:55:46
Shutter Speed Value : 1/15
Aperture Value : 4.0
Exposure Compensation : 0
Max Aperture Value : 1.4
Metering Mode : Center-weighted average
Light Source : Other
Focal Length : 75.0 mm
Contrast : Normal
Sharpening : Normal
Saturation : Normal
White Balance : Manual
JPEG Quality : Fine
WB RGB Levels : 0.7177465282 1 0.4809205119
User Profile : LvgookPF
JPEG Size : 5216x3472
Firmware Version : 1.138
Base ISO : 160
Sensor Width : 5270
Sensor Height : 3516
Sensor Bit Depth : 14
Camera Temperature : 19 C
Lens Type : Summilux-M 75mm f/1.4
Approximate F Number : 4.0
Measured LV : -1.47
External Sensor Brightness Value : -3.66
Scene Type : Directly photographed
Exposure Mode : Manual
Digital Zoom Ratio : 0
Focal Length In 35mm Format : 75 mm
Scene Capture Type : Standard
Serial Number : 3904902
Lens Model : Leica Summilux-M 75mm f/1.4
Maker Note Safety : Safe
Profile Description : sRGB IEC61966-2.1
Date/Time Digitized : 2011:01:08 20:55:46+01:00
Exif Image Width : 950
Exif Image Height : 632
Creator Tool : Adobe Photoshop Lightroom 3.3
Lens : Leica Summilux-M 75mm f/1.4
Version : 6.3
Process Version : 5.7
Color Temperature : 3217
Tint : -5
Exposure : +1.00
Shadows : 0
Brightness : +27
Sharpness : 70
Luminance Smoothing : 45
Color Noise Reduction : 100
Chromatic Aberration R : 0
Chromatic Aberration B : 0
Vignette Amount : 0
Shadow Tint : 0
Red Hue : 0
Red Saturation : 0
Green Hue : 0
Green Saturation : 0
Blue Hue : 0
Blue Saturation : 0
Fill Light : 0
Vibrance : +51
Highlight Recovery : 0
Clarity : +100
Defringe : 0
Hue Adjustment Red : 0
Hue Adjustment Orange : 0
Hue Adjustment Yellow : 0
Hue Adjustment Green : 0
Hue Adjustment Aqua : 0
Hue Adjustment Blue : 0
Hue Adjustment Purple : 0
Hue Adjustment Magenta : 0
Saturation Adjustment Red : 0
Saturation Adjustment Orange : 0
Saturation Adjustment Yellow : 0
Saturation Adjustment Green : 0
Saturation Adjustment Aqua : 0
Saturation Adjustment Blue : 0
Saturation Adjustment Purple : 0
Saturation Adjustment Magenta : 0
Luminance Adjustment Red : 0
Luminance Adjustment Orange : 0
Luminance Adjustment Yellow : 0
Luminance Adjustment Green : 0
Luminance Adjustment Aqua : 0
Luminance Adjustment Blue : 0
Luminance Adjustment Purple : 0
Luminance Adjustment Magenta : 0
Split Toning Shadow Hue : 247
Split Toning Shadow Saturation : 0
Split Toning Highlight Hue : 38
Split Toning Highlight Saturation : 0
Split Toning Balance : 0
Parametric Shadows : -27
Parametric Darks : -22
Parametric Lights : +36
Parametric Highlights : +39
Parametric Shadow Split : 25
Parametric Midtone Split : 50
Parametric Highlight Split : 75
Sharpen Radius : +1.6
Sharpen Detail : 35
Sharpen Edge Masking : 0
Post Crop Vignette Amount : 0
Grain Amount : 0
Luminance Noise Reduction Detail : 21
Color Noise Reduction Detail : 14
Luminance Noise Reduction Contrast : 41
Lens Profile Enable : 0
Lens Manual Distortion Amount : 0
Perspective Vertical : 0
Perspective Horizontal : 0
Perspective Rotate : 0.0
Perspective Scale : 100
Convert To Grayscale : False
Tone Curve Name : Medium Contrast
Camera Profile : Adobe Standard
Lens Profile Setup : LensDefaults
Has Settings : True
Has Crop : False
Already Applied : True
Flash Fired : False
Flash Return : No return detection
Flash Mode : Unknown
Flash Function : False
Flash Red Eye Mode : False
Tone Curve : 0, 0, 32, 22, 64, 56, 128, 128, 192, 196, 255, 255
Image Width : 300
Image Height : 200
Bits Per Sample : 8
Color Components : 3
Aperture : 4.0
Blue Balance : 0.480921
Image Size : 300x200
Lens ID : Leica Summilux-M 75mm f/1.4
Megapixels : 0.060
Red Balance : 0.717747
Scale Factor To 35 mm Equivalent : 1.0
Shutter Speed : 1/15
Flash : No Flash
Circle Of Confusion : 0.030 mm
Field Of View : 27.0 deg
Focal Length : 75.0 mm (35 mm equivalent: 75.0 mm)
Hyperfocal Distance : 46.80 m
Light Value : 4.9