Uber Exif Photo
Keywords : Skye
Make : LEICA CAMERA AG
Camera Model Name : V-Lux 5
Software : Adobe Photoshop Lightroom Classic 10.3 (Macintosh)
Modify Date : 2021:08:19 19:06:14
Exposure Time : 1/1600
F Number : 4.5
Exposure Program : Aperture-priority AE
ISO : 200
Sensitivity Type : Standard Output Sensitivity
Standard Output Sensitivity : 200
Date/Time Original : 2021:05:25 16:35:58
Create Date : 2021:05:25 16:35:58
Shutter Speed Value : 1/1600
Aperture Value : 4.5
Exposure Compensation : 0
Max Aperture Value : 2.8
Metering Mode : Multi-segment
Light Source : Unknown
Flash : Off, Did not fire
Focal Length : 9.1 mm
Color Space : sRGB
Sensing Method : One-chip color area
Scene Type : Directly photographed
Custom Rendered : Normal
Exposure Mode : Auto
White Balance : Auto
Digital Zoom Ratio : 0
Focal Length In 35mm Format : 25 mm
Scene Capture Type : Standard
Gain Control : Low gain up
Contrast : Normal
Saturation : Normal
Sharpness : Normal
Profile Description : sRGB IEC61966-2.1
Creator Tool : Adobe Photoshop Lightroom Classic 10.3 (Macintosh)
Preserved File Name : L1001112.JPG
Date Created : 2021:05:25 16:35:58.094Z
Format : image/jpeg
Raw File Name : Version : 13.3
Process Version : 11.0
Incremental Temperature : 0
Incremental Tint : 0
Exposure 2012 : 0.00
Contrast 2012 : +85
Highlights 2012 : +10
Shadows 2012 : +56
Whites 2012 : +19
Blacks 2012 : -47
Texture : 0
Clarity 2012 : +100
Dehaze : +51
Parametric Shadows : 0
Parametric Darks : 0
Parametric Lights : 0
Parametric Highlights : 0
Parametric Shadow Split : 25
Parametric Midtone Split : 50
Parametric Highlight Split : 75
Sharpen Radius : +1.0
Sharpen Detail : 25
Sharpen Edge Masking : 0
Luminance Smoothing : 55
Luminance Noise Reduction Detail : 50
Luminance Noise Reduction Contrast : 0
Color Noise Reduction : 0
Gray Mixer Red : 0
Gray Mixer Orange : 0
Gray Mixer Yellow : 0
Gray Mixer Green : 0
Gray Mixer Aqua : 0
Gray Mixer Blue : 0
Gray Mixer Purple : 0
Gray Mixer Magenta : 0
Split Toning Shadow Hue : 0
Split Toning Shadow Saturation : 0
Split Toning Highlight Hue : 0
Split Toning Highlight Saturation : 0
Split Toning Balance : 0
Color Grade Midtone Hue : 0
Color Grade Midtone Sat : 0
Color Grade Shadow Lum : 0
Color Grade Midtone Lum : 0
Color Grade Highlight Lum : 0
Color Grade Blending : 50
Color Grade Global Hue : 0
Color Grade Global Sat : 0
Color Grade Global Lum : 0
Auto Lateral CA : 0
Lens Profile Enable : 0
Lens Manual Distortion Amount : 0
Vignette Amount : 0
Perspective Upright : Off
Perspective Vertical : 0
Perspective Horizontal : 0
Perspective Rotate : 0.0
Perspective Aspect : 0
Perspective Scale : 100
Perspective X : 0.00
Perspective Y : 0.00
Grain Amount : 0
Post Crop Vignette Amount : 0
Shadow Tint : 0
Red Hue : 0
Red Saturation : 0
Green Hue : 0
Green Saturation : 0
Blue Hue : 0
Blue Saturation : 0
Convert To Grayscale : True
Override Look Vignette : False
Tone Curve Name 2012 : Linear
Camera Profile : Embedded
Has Settings : True
Crop Top : 0
Crop Left : 0
Crop Bottom : 1
Crop Right : 1
Crop Angle : 0
Crop Constrain To Warp : 0
Has Crop : False
Already Applied : True
Subject : Skye
Tone Curve PV2012 : 0, 0, 255, 255
Tone Curve PV2012 Red : 0, 0, 255, 255
Tone Curve PV2012 Green : 0, 0, 255, 255
Tone Curve PV2012 Blue : 0, 0, 255, 255
Image Width : 400
Image Height : 267
Bits Per Sample : 8
Color Components : 1
Aperture : 4.5
Image Size : 400x267
Megapixels : 0.107
Scale Factor To 35 mm Equivalent : 2.7
Shutter Speed : 1/1600
Create Date : 2021:05:25 16:35:58.094+00:00
Date/Time Original : 2021:05:25 16:35:58.094+00:00
Modify Date : 2021:08:19 19:06:14+01:00
Circle Of Confusion : 0.011 mm
Field Of View : 71.5 deg
Focal Length : 9.1 mm (35 mm equivalent: 25.0 mm)
Hyperfocal Distance : 1.69 m
Light Value : 14.0