Uber Exif Photo
Make : Canon
Camera Model Name : Canon EOS 5D Mark II
Orientation : Horizontal (normal)
Software : Adobe Photoshop CS4 Windows
Modify Date : 2011:02:14 07:15:39
Exposure Time : 1/200
F Number : 2.0
Exposure Program : Aperture-priority AE
ISO : 100
Date/Time Original : 2010:10:16 11:43:32
Create Date : 2010:10:16 11:43:32
Shutter Speed Value : 1/200
Aperture Value : 2.0
Exposure Compensation : 0
Max Aperture Value : 2.0
Metering Mode : Center-weighted average
Focal Length : 35.0 mm
Color Space : sRGB
Exif Image Width : 5616
Exif Image Height : 3744
Custom Rendered : Normal
Exposure Mode : Auto
White Balance : Auto
Scene Capture Type : Standard
Profile Description : sRGB IEC61966-2.1
Date/Time Digitized : 2010:10:16 11:43:32.33+08:00
Creator Tool : Adobe Photoshop Lightroom
Serial Number : 630324465
Lens Info : 35mm f/?
Lens : Zeiss Distagon T* 2/35 ZE
Image Number : 0
Flash Compensation : 0
Firmware : 2.0.3
Version : 5.6.1
Color Temperature : 3950
Tint : +25
Exposure : +1.32
Shadows : 5
Brightness : +50
Contrast : +25
Saturation : 0
Sharpness : 25
Luminance Smoothing : 0
Color Noise Reduction : 25
Chromatic Aberration R : 0
Chromatic Aberration B : 0
Vignette Amount : 0
Shadow Tint : 0
Red Hue : 0
Red Saturation : 0
Green Hue : 0
Green Saturation : 0
Blue Hue : 0
Blue Saturation : 0
Fill Light : 0
Vibrance : +45
Highlight Recovery : 0
Clarity : +50
Defringe : 0
Hue Adjustment Red : 0
Hue Adjustment Orange : 0
Hue Adjustment Yellow : 0
Hue Adjustment Green : 0
Hue Adjustment Aqua : 0
Hue Adjustment Blue : 0
Hue Adjustment Purple : 0
Hue Adjustment Magenta : 0
Saturation Adjustment Red : 0
Saturation Adjustment Orange : 0
Saturation Adjustment Yellow : 0
Saturation Adjustment Green : 0
Saturation Adjustment Aqua : 0
Saturation Adjustment Blue : 0
Saturation Adjustment Purple : 0
Saturation Adjustment Magenta : 0
Luminance Adjustment Red : 0
Luminance Adjustment Orange : 0
Luminance Adjustment Yellow : 0
Luminance Adjustment Green : 0
Luminance Adjustment Aqua : 0
Luminance Adjustment Blue : 0
Luminance Adjustment Purple : 0
Luminance Adjustment Magenta : 0
Split Toning Shadow Hue : 0
Split Toning Shadow Saturation : 0
Split Toning Highlight Hue : 0
Split Toning Highlight Saturation : 0
Split Toning Balance : 0
Parametric Shadows : 0
Parametric Darks : 0
Parametric Lights : 0
Parametric Highlights : 0
Parametric Shadow Split : 25
Parametric Midtone Split : 50
Parametric Highlight Split : 75
Sharpen Radius : +1.0
Sharpen Detail : 25
Sharpen Edge Masking : 0
Post Crop Vignette Amount : 0
Convert To Grayscale : False
Tone Curve Name : Medium Contrast
Camera Profile : Adobe Standard
Has Settings : True
Has Crop : False
Already Applied : True
Format : image/jpeg
Color Mode : RGB
ICC Profile Name : sRGB IEC61966-2.1
Flash Fired : False
Flash Return : No return detection
Flash Mode : Off
Flash Function : False
Flash Red Eye Mode : False
Tone Curve : 0, 0, 32, 22, 64, 56, 128, 128, 192, 196, 255, 255
Image Width : 300
Image Height : 200
Bits Per Sample : 8
Color Components : 3
Aperture : 2.0
Image Size : 300x200
Megapixels : 0.060
Scale Factor To 35 mm Equivalent : 1.0
Shutter Speed : 1/200
Create Date : 2010:10:16 11:43:32.33
Date/Time Original : 2010:10:16 11:43:32.33
Flash : Off, Did not fire
Circle Of Confusion : 0.031 mm
Field Of View : 55.6 deg
Focal Length : 35.0 mm (35 mm equivalent: 34.2 mm)
Hyperfocal Distance : 19.89 m
Light Value : 9.6
Lens ID : Carl Zeiss Distagon T* 35mm f/2 ZE