Uber Exif Photo
Make : Leica Camera AG
Camera Model Name : LEICA M (Typ 240)
Software : Adobe Photoshop Lightroom 5.0 (Macintosh)
Modify Date : 2014:01:20 10:05:32
Exposure Time : 1/1000
F Number : 4.8
Exposure Program : Aperture-priority AE
ISO : 200
Date/Time Original : 2014:01:18 12:20:51
Create Date : 2014:01:18 12:20:51
Shutter Speed Value : 1/1000
Aperture Value : 4.8
Exposure Compensation : 0
Max Aperture Value : 2.0
Metering Mode : Center-weighted average
Light Source : Unknown
Flash : No Flash
Focal Length : 75.0 mm
Color Space : sRGB
Scene Type : Directly photographed
Custom Rendered : Normal
Exposure Mode : Auto
White Balance : Auto
Digital Zoom Ratio : 0
Scene Capture Type : Standard
Contrast : Normal
Saturation : Normal
Sharpness : Normal
Serial Number : 4787516
Lens Model : Apo-Summicron-M 1:2/75 ASPH .
GPS Version ID : 2.2.0.0
GPS Altitude Ref : Above Sea Level
GPS Status : Measurement Void
GPS Dilution Of Precision : 0
GPS Speed : 0
GPS Track : 0
Creator Tool : Adobe Photoshop Lightroom 5.0 (Macintosh)
Lens : Apo-Summicron-M 1:2/75 ASPH .
Date Created : 2014:01:18 12:20:51
Format : image/jpeg
Version : 8.2
Process Version : 6.7
Auto White Version : 134348800
Color Temperature : 5050
Tint : -7
Luminance Smoothing : 40
Color Noise Reduction : 25
Vignette Amount : 0
Shadow Tint : 0
Red Hue : 0
Red Saturation : 0
Green Hue : 0
Green Saturation : 0
Blue Hue : 0
Blue Saturation : 0
Gray Mixer Red : +39
Gray Mixer Orange : +78
Gray Mixer Yellow : -100
Gray Mixer Green : -6
Gray Mixer Aqua : -57
Gray Mixer Blue : -24
Gray Mixer Purple : +38
Gray Mixer Magenta : +100
Split Toning Shadow Hue : 0
Split Toning Shadow Saturation : 0
Split Toning Highlight Hue : 0
Split Toning Highlight Saturation : 0
Split Toning Balance : 0
Parametric Shadows : -18
Parametric Darks : -14
Parametric Lights : +16
Parametric Highlights : 0
Parametric Shadow Split : 25
Parametric Midtone Split : 50
Parametric Highlight Split : 75
Sharpen Radius : +1.4
Sharpen Detail : 45
Sharpen Edge Masking : 60
Post Crop Vignette Amount : -14
Post Crop Vignette Midpoint : 50
Post Crop Vignette Feather : 50
Post Crop Vignette Roundness : 0
Post Crop Vignette Style : Highlight Priority
Post Crop Vignette Highlight Contrast : 0
Grain Amount : 0
Luminance Noise Reduction Detail : 50
Color Noise Reduction Detail : 50
Luminance Noise Reduction Contrast : 0
Color Noise Reduction Smoothness : 50
Lens Profile Enable : 1
Lens Manual Distortion Amount : 0
Perspective Vertical : 0
Perspective Horizontal : 0
Perspective Rotate : 0.0
Perspective Scale : 100
Perspective Aspect : 0
Perspective Upright : Off
Auto Lateral CA : 1
Exposure 2012 : -0.40
Contrast 2012 : 0
Highlights 2012 : -65
Shadows 2012 : +100
Whites 2012 : +30
Blacks 2012 : -34
Clarity 2012 : +16
Convert To Grayscale : True
Tone Curve Name 2012 : Linear
Camera Profile : Adobe Standard
Lens Profile Setup : LensDefaults
Lens Profile Name : Adobe (Leica APO-SUMMICRON-M 75 mm f/2 ASPH.)
Lens Profile Filename : Leica Camera AG (Leica APO-SUMMICRON-M 75 mm f2 ASPH.) - RAW.lcp
Lens Profile Distortion Scale : 100
Lens Profile Chromatic Aberration Scale : 100
Lens Profile Vignetting Scale : 100
Has Settings : True
Crop Top : 0.009434
Crop Left : 0.155879
Crop Bottom : 0.972485
Crop Right : 0.791406
Crop Angle : 5.14069
Crop Constrain To Warp : 0
Has Crop : True
Already Applied : True
Tone Curve PV2012 : 0, 0, 255, 255
Tone Curve PV2012 Red : 0, 0, 255, 255
Tone Curve PV2012 Green : 0, 0, 255, 255
Tone Curve PV2012 Blue : 0, 0, 255, 255
Image Width : 300
Image Height : 254
Bits Per Sample : 8
Color Components : 1
Aperture : 4.8
Image Size : 300x254
Megapixels : 0.076
Scale Factor To 35 mm Equivalent : 18.2
Shutter Speed : 1/1000
GPS Altitude : 0 m Above Sea Level
Circle Of Confusion : 0.002 mm
Field Of View : 1.5 deg
Focal Length : 75.0 mm (35 mm equivalent: 1364.9 mm)
Hyperfocal Distance : 709.77 m
Light Value : 13.5
Lens ID : Apo-Summicron-M 1:2/75 ASPH .