Uber Exif Photo
Make : Leica Camera AG
Camera Model Name : LEICA M (Typ 240)
Software : Adobe Photoshop Lightroom 5.0 (Macintosh)
Modify Date : 2013:12:20 22:37:28
Exposure Time : 1/250
F Number : 6.8
Exposure Program : Manual
ISO : 200
Date/Time Original : 2013:12:20 11:38:15
Create Date : 2013:12:20 11:38:15
Shutter Speed Value : 1/250
Aperture Value : 6.8
Exposure Compensation : 0
Max Aperture Value : 3.4
Metering Mode : Center-weighted average
Light Source : Unknown
Flash : No Flash
Focal Length : 21.0 mm
Color Space : sRGB
Scene Type : Directly photographed
Custom Rendered : Normal
Exposure Mode : Manual
White Balance : Auto
Digital Zoom Ratio : 0
Scene Capture Type : Standard
Contrast : Normal
Saturation : Normal
Sharpness : Normal
Serial Number : 4787516
Lens Model : Super-Elmar-M 1:3.4/21 ASPH.
GPS Version ID : 2.2.0.0
GPS Altitude Ref : Above Sea Level
GPS Status : Measurement Void
GPS Dilution Of Precision : 0
GPS Speed : 0
GPS Track : 0
Creator Tool : Adobe Photoshop Lightroom 5.0 (Macintosh)
Lens : Super-Elmar-M 1:3.4/21 ASPH.
Date Created : 2013:12:20 11:38:15
Format : image/jpeg
Version : 8.2
Process Version : 6.7
Auto White Version : 134348800
Color Temperature : 4950
Tint : -6
Luminance Smoothing : 0
Color Noise Reduction : 25
Vignette Amount : 0
Shadow Tint : 0
Red Hue : 0
Red Saturation : 0
Green Hue : 0
Green Saturation : 0
Blue Hue : 0
Blue Saturation : 0
Gray Mixer Red : +100
Gray Mixer Orange : -68
Gray Mixer Yellow : +70
Gray Mixer Green : +100
Gray Mixer Aqua : -10
Gray Mixer Blue : -100
Gray Mixer Purple : -100
Gray Mixer Magenta : +100
Split Toning Shadow Hue : 0
Split Toning Shadow Saturation : 0
Split Toning Highlight Hue : 0
Split Toning Highlight Saturation : 0
Split Toning Balance : 0
Parametric Shadows : +8
Parametric Darks : +34
Parametric Lights : 0
Parametric Highlights : +18
Parametric Shadow Split : 25
Parametric Midtone Split : 50
Parametric Highlight Split : 75
Sharpen Radius : +1.4
Sharpen Detail : 40
Sharpen Edge Masking : 70
Post Crop Vignette Amount : -9
Post Crop Vignette Midpoint : 50
Post Crop Vignette Feather : 50
Post Crop Vignette Roundness : 0
Post Crop Vignette Style : Highlight Priority
Post Crop Vignette Highlight Contrast : 0
Grain Amount : 0
Color Noise Reduction Detail : 50
Color Noise Reduction Smoothness : 50
Lens Profile Enable : 1
Lens Manual Distortion Amount : 0
Perspective Vertical : +68
Perspective Horizontal : 0
Perspective Rotate : 0.0
Perspective Scale : 100
Perspective Aspect : 0
Perspective Upright : Off
Auto Lateral CA : 1
Exposure 2012 : 0.00
Contrast 2012 : 0
Highlights 2012 : 0
Shadows 2012 : +45
Whites 2012 : +33
Blacks 2012 : -17
Clarity 2012 : +100
Convert To Grayscale : True
Tone Curve Name 2012 : Linear
Camera Profile : Adobe Standard
Lens Profile Setup : LensDefaults
Lens Profile Name : Adobe (Leica SUPER-ELMAR-M 21 mm f/3.4 ASPH.)
Lens Profile Filename : Leica Camera AG (Leica SUPER-ELMAR-M 21 mm f3.4 ASPH.) - RAW.lcp
Lens Profile Distortion Scale : 100
Lens Profile Chromatic Aberration Scale : 100
Lens Profile Vignetting Scale : 100
Has Settings : True
Crop Top : 0.114878
Crop Left : 0.09015
Crop Bottom : 1
Crop Right : 0.911167
Crop Angle : 0
Crop Constrain To Warp : 0
Has Crop : True
Already Applied : True
Tone Curve PV2012 : 0, 0, 255, 255
Tone Curve PV2012 Red : 0, 0, 255, 255
Tone Curve PV2012 Green : 0, 0, 255, 255
Tone Curve PV2012 Blue : 0, 0, 255, 255
Image Width : 300
Image Height : 216
Bits Per Sample : 8
Color Components : 1
Aperture : 6.8
Image Size : 300x216
Megapixels : 0.065
Scale Factor To 35 mm Equivalent : 19.4
Shutter Speed : 1/250
GPS Altitude : 0 m Above Sea Level
Circle Of Confusion : 0.002 mm
Field Of View : 5.1 deg
Focal Length : 21.0 mm (35 mm equivalent: 406.4 mm)
Hyperfocal Distance : 41.77 m
Light Value : 12.5