Uber Exif Photo
Make : Leica Camera AG
Camera Model Name : LEICA M (Typ 240)
Software : Adobe Photoshop Lightroom 5.0 (Macintosh)
Modify Date : 2013:12:17 23:39:32
Exposure Time : 1/750
F Number : 9.5
Exposure Program : Aperture-priority AE
ISO : 200
Date/Time Original : 2013:12:17 11:14:02
Create Date : 2013:12:17 11:14:02
Shutter Speed Value : 1/750
Aperture Value : 9.5
Exposure Compensation : 0
Max Aperture Value : 4.0
Metering Mode : Center-weighted average
Light Source : Unknown
Flash : No Flash
Focal Length : 28.0 mm
Color Space : sRGB
Scene Type : Directly photographed
Custom Rendered : Normal
Exposure Mode : Auto
White Balance : Auto
Digital Zoom Ratio : 0
Scene Capture Type : Standard
Contrast : Normal
Saturation : Normal
Sharpness : Normal
Serial Number : 4787516
Lens Model : Tri-Elmar-M 1:4/28-35-50 ASPH.
GPS Version ID : 2.2.0.0
GPS Altitude Ref : Above Sea Level
GPS Status : Measurement Void
GPS Dilution Of Precision : 0
GPS Speed : 0
GPS Track : 0
Creator Tool : Adobe Photoshop Lightroom 5.0 (Macintosh)
Lens : Tri-Elmar-M 1:4/28-35-50 ASPH.
Date Created : 2013:12:17 11:14:02
Format : image/jpeg
Version : 8.2
Process Version : 6.7
Auto White Version : 134348800
Color Temperature : 4850
Tint : -3
Luminance Smoothing : 0
Color Noise Reduction : 25
Vignette Amount : 0
Shadow Tint : 0
Red Hue : 0
Red Saturation : 0
Green Hue : 0
Green Saturation : 0
Blue Hue : 0
Blue Saturation : 0
Gray Mixer Red : -100
Gray Mixer Orange : +100
Gray Mixer Yellow : +95
Gray Mixer Green : +96
Gray Mixer Aqua : -100
Gray Mixer Blue : +4
Gray Mixer Purple : -40
Gray Mixer Magenta : -67
Split Toning Shadow Hue : 0
Split Toning Shadow Saturation : 0
Split Toning Highlight Hue : 0
Split Toning Highlight Saturation : 0
Split Toning Balance : 0
Parametric Shadows : 0
Parametric Darks : -24
Parametric Lights : -34
Parametric Highlights : 0
Parametric Shadow Split : 25
Parametric Midtone Split : 50
Parametric Highlight Split : 75
Sharpen Radius : +1.4
Sharpen Detail : 40
Sharpen Edge Masking : 30
Post Crop Vignette Amount : -4
Post Crop Vignette Midpoint : 50
Post Crop Vignette Feather : 50
Post Crop Vignette Roundness : 0
Post Crop Vignette Style : Highlight Priority
Post Crop Vignette Highlight Contrast : 0
Grain Amount : 0
Color Noise Reduction Detail : 50
Color Noise Reduction Smoothness : 50
Lens Profile Enable : 1
Lens Manual Distortion Amount : 0
Perspective Vertical : 0
Perspective Horizontal : 0
Perspective Rotate : 0.0
Perspective Scale : 100
Perspective Aspect : 0
Perspective Upright : Off
Auto Lateral CA : 1
Exposure 2012 : 0.00
Contrast 2012 : 0
Highlights 2012 : -29
Shadows 2012 : +77
Whites 2012 : +13
Blacks 2012 : -30
Clarity 2012 : +43
Convert To Grayscale : True
Tone Curve Name 2012 : Linear
Camera Profile : Adobe Standard
Lens Profile Setup : LensDefaults
Has Settings : True
Has Crop : False
Already Applied : True
Tone Curve PV2012 : 0, 0, 255, 255
Tone Curve PV2012 Red : 0, 0, 255, 255
Tone Curve PV2012 Green : 0, 0, 255, 255
Tone Curve PV2012 Blue : 0, 0, 255, 255
Image Width : 300
Image Height : 200
Bits Per Sample : 8
Color Components : 1
Aperture : 9.5
Image Size : 300x200
Megapixels : 0.060
Scale Factor To 35 mm Equivalent : 19.8
Shutter Speed : 1/750
GPS Altitude : 0 m Above Sea Level
Circle Of Confusion : 0.002 mm
Field Of View : 3.7 deg
Focal Length : 28.0 mm (35 mm equivalent: 555.5 mm)
Hyperfocal Distance : 54.49 m
Light Value : 15.0