Uber Exif Photo
Make : Leica Camera AG
Camera Model Name : M9 Digital Camera
Software : Adobe Photoshop Lightroom 4.4 (Macintosh)
Modify Date : 2013:06:21 19:25:26
Exposure Time : 1/180
F Number : 6.7
Exposure Program : Aperture-priority AE
ISO : 640
Date/Time Original : 2013:03:27 15:40:53
Create Date : 2013:03:27 15:40:53
Shutter Speed Value : 1/180
Aperture Value : 6.7
Exposure Compensation : 0
Max Aperture Value : 4.0
Metering Mode : Center-weighted average
Light Source : Unknown
Flash : No Flash
Focal Length : 35.0 mm
Contrast : Normal
Sharpening : Normal
Saturation : Normal
White Balance : Auto
JPEG Quality : Fine
WB RGB Levels : 0.5088040744 1 0.7121620447
User Profile : 640
JPEG Size : 5216x3472
Firmware Version : 1.196
Base ISO : 160
Sensor Width : 5270
Sensor Height : 3516
Sensor Bit Depth : 14
Camera Temperature : 22 C
Lens Type : Tri-Elmar-M 28-35-50mm f/4 ASPH. (at 35mm)
Approximate F Number : 5.5
Measured LV : 3.21
External Sensor Brightness Value : 3.55
Scene Type : Directly photographed
Exposure Mode : Manual
Digital Zoom Ratio : 0
Focal Length In 35mm Format : 35 mm
Scene Capture Type : Standard
Serial Number : 3836988
Lens Model : Leica Tri-Elmar-M 28-35-50mm f/4 ASPH.
Maker Note Safety : Safe
Profile Description : sRGB IEC61966-2.1
Creator Tool : Adobe Photoshop Lightroom 4.4 (Macintosh)
Lens : Leica Tri-Elmar-M 28-35-50mm f/4 ASPH.
Date Created : 2013:03:27 15:40:53
Format : image/jpeg
Version : 7.4
Process Version : 6.7
Color Temperature : 3798
Tint : -7
Sharpness : 80
Luminance Smoothing : 0
Color Noise Reduction : 25
Vignette Amount : 0
Shadow Tint : 0
Red Hue : 0
Red Saturation : 0
Green Hue : 0
Green Saturation : 0
Blue Hue : 0
Blue Saturation : 0
Vibrance : +62
Hue Adjustment Red : 0
Hue Adjustment Orange : 0
Hue Adjustment Yellow : 0
Hue Adjustment Green : 0
Hue Adjustment Aqua : 0
Hue Adjustment Blue : 0
Hue Adjustment Purple : 0
Hue Adjustment Magenta : 0
Saturation Adjustment Red : 0
Saturation Adjustment Orange : -23
Saturation Adjustment Yellow : -29
Saturation Adjustment Green : 0
Saturation Adjustment Aqua : +2
Saturation Adjustment Blue : -100
Saturation Adjustment Purple : 0
Saturation Adjustment Magenta : -100
Luminance Adjustment Red : 0
Luminance Adjustment Orange : 0
Luminance Adjustment Yellow : 0
Luminance Adjustment Green : 0
Luminance Adjustment Aqua : 0
Luminance Adjustment Blue : 0
Luminance Adjustment Purple : 0
Luminance Adjustment Magenta : 0
Split Toning Shadow Hue : 0
Split Toning Shadow Saturation : 0
Split Toning Highlight Hue : 0
Split Toning Highlight Saturation : 0
Split Toning Balance : 0
Parametric Shadows : 0
Parametric Darks : 0
Parametric Lights : 0
Parametric Highlights : 0
Parametric Shadow Split : 25
Parametric Midtone Split : 50
Parametric Highlight Split : 75
Sharpen Radius : +1.5
Sharpen Detail : 35
Sharpen Edge Masking : 51
Post Crop Vignette Amount : 0
Grain Amount : 0
Color Noise Reduction Detail : 50
Lens Profile Enable : 0
Lens Manual Distortion Amount : +8
Perspective Vertical : -12
Perspective Horizontal : 0
Perspective Rotate : -2.5
Perspective Scale : 100
Auto Lateral CA : 0
Exposure 2012 : 0.00
Contrast 2012 : 0
Highlights 2012 : -30
Shadows 2012 : +22
Whites 2012 : 0
Blacks 2012 : -26
Clarity 2012 : +78
Defringe Purple Amount : 0
Defringe Purple Hue Lo : 30
Defringe Purple Hue Hi : 70
Defringe Green Amount : 0
Defringe Green Hue Lo : 40
Defringe Green Hue Hi : 60
Convert To Grayscale : False
Tone Curve Name 2012 : Linear
Camera Profile : Adobe Standard
Lens Profile Setup : LensDefaults
Has Settings : True
Crop Top : 0.011616
Crop Left : 0.146973
Crop Bottom : 0.935572
Crop Right : 0.869255
Crop Angle : 0
Crop Constrain To Warp : 0
Crop Width : 2400
Crop Height : 2043
Crop Unit : pixels
Has Crop : True
Already Applied : True
Tone Curve PV2012 : 0, 0, 255, 255
Tone Curve PV2012 Red : 0, 0, 255, 255
Tone Curve PV2012 Green : 0, 0, 255, 255
Tone Curve PV2012 Blue : 0, 0, 255, 255
Gradient Based Corr What : Correction
Gradient Based Corr Amount : 1.000000
Gradient Based Corr Active : true
Gradient Based Corr Saturation : 0.000000
Gradient Based Corr Sharpness : 0.000000
Gradient Based Corr Brightness : 0.000000
Gradient Based Corr Toning Hue : 0.000000
Gradient Based Corr Toning Saturation : 0.000000
Gradient Based Corr Exposure 2012 : -0.095857
Gradient Based Corr Contrast 2012 : 0.000000
Gradient Based Corr Highlights 2012 : -1.000000
Gradient Based Corr Shadows 2012 : 0.000000
Gradient Based Corr Clarity 2012 : 0.000000
Gradient Based Corr Luminance Noise : 0.000000
Gradient Based Corr Moire : 0.000000
Gradient Based Corr Defringe : 0.000000
Gradient Based Corr Temperature : 0.000000
Gradient Based Corr Tint : 0.000000
Gradient Based Corr Mask What : Mask/Gradient
Gradient Based Corr Mask Value : 1.000000
Gradient Based Corr Mask Zero X : 0.596770
Gradient Based Corr Mask Zero Y : 0.527957
Gradient Based Corr Mask Full X : 0.690937
Gradient Based Corr Mask Full Y : 1.077930
Image Width : 300
Image Height : 255
Bits Per Sample : 8
Color Components : 3
Aperture : 6.7
Blue Balance : 0.712162
Image Size : 300x255
Lens ID : Tri-Elmar-M 28-35-50mm f/4 ASPH. (at 35mm)
Megapixels : 0.076
Red Balance : 0.508804
Scale Factor To 35 mm Equivalent : 1.0
Shutter Speed : 1/180
Circle Of Confusion : 0.030 mm
Field Of View : 54.4 deg
Focal Length : 35.0 mm (35 mm equivalent: 35.0 mm)
Hyperfocal Distance : 6.09 m
Light Value : 10.3