Uber Exif Photo
Make : Leica Camera AG
Camera Model Name : LEICA M (Typ 240)
Software : Adobe Photoshop Lightroom 5.0 (Macintosh)
Modify Date : 2014:01:27 12:02:30
Exposure Time : 1/3000
F Number : 5.6
Exposure Program : Aperture-priority AE
ISO : 200
Date/Time Original : 2014:01:24 13:35:35
Create Date : 2014:01:24 13:35:35
Shutter Speed Value : 1/3000
Aperture Value : 5.6
Exposure Compensation : -0.332
Max Aperture Value : 3.4
Metering Mode : Center-weighted average
Light Source : Unknown
Flash : No Flash
Focal Length : 135.0 mm
Color Space : sRGB
Scene Type : Directly photographed
Custom Rendered : Normal
Exposure Mode : Auto
White Balance : Auto
Digital Zoom Ratio : 0
Scene Capture Type : Standard
Contrast : Normal
Saturation : Normal
Sharpness : Normal
Serial Number : 4787516
Lens Model : Apo-Telyt-M 1:3.4/135
GPS Version ID : 2.2.0.0
GPS Altitude Ref : Above Sea Level
GPS Status : Measurement Void
GPS Dilution Of Precision : 0
GPS Speed : 0
GPS Track : 0
Profile Description : sRGB IEC61966-2.1
Creator Tool : Adobe Photoshop Lightroom 5.0 (Macintosh)
Lens : Apo-Telyt-M 1:3.4/135
Date Created : 2014:01:24 13:35:35
Format : image/jpeg
Version : 8.2
Process Version : 6.7
Auto White Version : 134348800
Color Temperature : 4850
Tint : -2
Luminance Smoothing : 0
Color Noise Reduction : 25
Vignette Amount : 0
Shadow Tint : 0
Red Hue : 0
Red Saturation : 0
Green Hue : 0
Green Saturation : 0
Blue Hue : 0
Blue Saturation : 0
Vibrance : +16
Hue Adjustment Red : 0
Hue Adjustment Orange : 0
Hue Adjustment Yellow : 0
Hue Adjustment Green : 0
Hue Adjustment Aqua : 0
Hue Adjustment Blue : 0
Hue Adjustment Purple : 0
Hue Adjustment Magenta : 0
Saturation Adjustment Red : 0
Saturation Adjustment Orange : 0
Saturation Adjustment Yellow : +56
Saturation Adjustment Green : 0
Saturation Adjustment Aqua : 0
Saturation Adjustment Blue : +21
Saturation Adjustment Purple : 0
Saturation Adjustment Magenta : 0
Luminance Adjustment Red : 0
Luminance Adjustment Orange : 0
Luminance Adjustment Yellow : -81
Luminance Adjustment Green : 0
Luminance Adjustment Aqua : 0
Luminance Adjustment Blue : -36
Luminance Adjustment Purple : 0
Luminance Adjustment Magenta : 0
Split Toning Shadow Hue : 0
Split Toning Shadow Saturation : 0
Split Toning Highlight Hue : 0
Split Toning Highlight Saturation : 0
Split Toning Balance : 0
Parametric Shadows : -26
Parametric Darks : +15
Parametric Lights : +29
Parametric Highlights : -11
Parametric Shadow Split : 25
Parametric Midtone Split : 50
Parametric Highlight Split : 75
Sharpen Radius : +1.4
Sharpen Detail : 40
Sharpen Edge Masking : 30
Post Crop Vignette Amount : 0
Grain Amount : 0
Color Noise Reduction Detail : 50
Color Noise Reduction Smoothness : 50
Lens Profile Enable : 1
Lens Manual Distortion Amount : -3
Perspective Vertical : 0
Perspective Horizontal : 0
Perspective Rotate : -0.9
Perspective Scale : 100
Perspective Aspect : 0
Perspective Upright : Level
Auto Lateral CA : 1
Exposure 2012 : +0.60
Contrast 2012 : 0
Highlights 2012 : -69
Shadows 2012 : +69
Whites 2012 : +40
Blacks 2012 : -7
Clarity 2012 : +100
Defringe Purple Amount : 0
Defringe Purple Hue Lo : 30
Defringe Purple Hue Hi : 70
Defringe Green Amount : 0
Defringe Green Hue Lo : 40
Defringe Green Hue Hi : 60
Convert To Grayscale : False
Tone Curve Name 2012 : Linear
Camera Profile : Adobe Standard
Lens Profile Setup : LensDefaults
Lens Profile Name : Adobe (Leica APO-TELYT-M 135 mm f/3.4)
Lens Profile Filename : Leica Camera AG (Leica APO-TELYT-M 135 mm f3.4) - RAW.lcp
Lens Profile Distortion Scale : 100
Lens Profile Chromatic Aberration Scale : 100
Lens Profile Vignetting Scale : 100
Has Settings : True
Crop Top : 0.026087
Crop Left : 0
Crop Bottom : 0.981624
Crop Right : 0.751306
Crop Angle : 0
Crop Constrain To Warp : 0
Has Crop : True
Already Applied : True
Tone Curve PV2012 : 0, 0, 255, 255
Tone Curve PV2012 Red : 0, 0, 255, 255
Tone Curve PV2012 Green : 0, 0, 255, 255
Tone Curve PV2012 Blue : 0, 0, 255, 255
Image Width : 300
Image Height : 255
Bits Per Sample : 8
Color Components : 3
Aperture : 5.6
Image Size : 300x255
Megapixels : 0.076
Scale Factor To 35 mm Equivalent : 18.2
Shutter Speed : 1/3000
GPS Altitude : 0 m Above Sea Level
Circle Of Confusion : 0.002 mm
Field Of View : 0.8 deg
Focal Length : 135.0 mm (35 mm equivalent: 2452.7 mm)
Hyperfocal Distance : 1967.89 m
Light Value : 15.5