Uber Exif Photo
Keywords : Fuji Neopan Acros 100, Ilfosol-3, Leica, M6 TTL, Minneapolis, analog, black and white, self-developed
Software : Adobe Photoshop Lightroom 3.4.1
Modify Date : 2011:09:12 20:44:39
Creator Tool : Adobe Photoshop Lightroom 3.4.1
Version : 6.4.1
Process Version : 5.7
White Balance : As Shot
Incremental Temperature : 0
Incremental Tint : 0
Exposure : +0.06
Shadows : 3
Brightness : 0
Contrast : 0
Sharpness : 0
Luminance Smoothing : 0
Color Noise Reduction : 0
Chromatic Aberration R : 0
Chromatic Aberration B : 0
Vignette Amount : 0
Shadow Tint : 0
Red Hue : 0
Red Saturation : 0
Green Hue : 0
Green Saturation : 0
Blue Hue : 0
Blue Saturation : 0
Fill Light : 0
Highlight Recovery : 0
Clarity : 0
Defringe : 0
Gray Mixer Red : 0
Gray Mixer Orange : 0
Gray Mixer Yellow : 0
Gray Mixer Green : 0
Gray Mixer Aqua : 0
Gray Mixer Blue : 0
Gray Mixer Purple : 0
Gray Mixer Magenta : 0
Split Toning Shadow Hue : 0
Split Toning Shadow Saturation : 0
Split Toning Highlight Hue : 0
Split Toning Highlight Saturation : 0
Split Toning Balance : 0
Parametric Shadows : 0
Parametric Darks : -3
Parametric Lights : +8
Parametric Highlights : 0
Parametric Shadow Split : 25
Parametric Midtone Split : 50
Parametric Highlight Split : 75
Sharpen Radius : +1.0
Sharpen Detail : 25
Sharpen Edge Masking : 0
Post Crop Vignette Amount : 0
Grain Amount : 0
Lens Profile Enable : 0
Lens Manual Distortion Amount : 0
Perspective Vertical : 0
Perspective Horizontal : 0
Perspective Rotate : 0.0
Perspective Scale : 100
Convert To Grayscale : True
Tone Curve Name : Linear
Camera Profile : Embedded
Lens Profile Setup : LensDefaults
Has Settings : True
Crop Top : 0.022736
Crop Left : 0.011604
Crop Bottom : 0.99679
Crop Right : 0.985658
Crop Angle : 0
Crop Constrain To Warp : 0
Crop Width : 1000
Crop Height : 657
Crop Unit : pixels
Has Crop : True
Already Applied : True
Subject : Fuji Neopan Acros 100, Ilfosol-3, Leica, M6 TTL, Minneapolis, analog, black and white, self-developed
Tone Curve : 0, 0, 255, 255
Image Width : 300
Image Height : 197
Bits Per Sample : 8
Color Components : 1
Image Size : 300x197
Megapixels : 0.059