Uber Exif Photo
By-line : Tim Owen
Copyright Notice : Tim Owen
Caption-Abstract : OLYMPUS DIGITAL CAMERA
Image Description : OLYMPUS DIGITAL CAMERA
Make : OLYMPUS IMAGING CORP.
Camera Model Name : E-PL3
Software : Adobe Photoshop Lightroom 3.6 (Windows)
Modify Date : 2011:12:27 19:30:06
Artist : Tim Owen
Copyright : Tim Owen
Exposure Time : 1/160
F Number : 1.4
Exposure Program : Aperture-priority AE
ISO : 400
Date/Time Original : 2011:12:25 13:14:38
Create Date : 2011:12:25 13:14:38
Shutter Speed Value : 1/160
Aperture Value : 1.4
Exposure Compensation : 0
Max Aperture Value : 1.4
Subject Distance : 0.72 m
Metering Mode : Multi-segment
Light Source : Unknown
Flash : On, Did not fire
Focal Length : 25.0 mm
CFA Pattern : [Red,Green][Green,Blue]
Custom Rendered : Custom
Exposure Mode : Auto
White Balance : Manual
Digital Zoom Ratio : 1
Focal Length In 35mm Format : 50 mm
Scene Capture Type : Standard
Gain Control : Low gain up
Contrast : Normal
Saturation : Normal
Sharpness : Normal
Serial Number : BAH504230
Lens Info : 25mm f/1.4
Lens Model : LEICA DG SUMMILUX 25/F1.4
Lens Serial Number : 11101100266
Profile Description : sRGB IEC61966-2.1
Format : image/jpeg
Creator Tool : Adobe Photoshop Lightroom 3.6 (Windows)
Lens : LEICA DG SUMMILUX 25/F1.4
Approximate Focus Distance : 0.72
Flash Compensation : 0
Date Created : 2011:12:25 13:14:38
Version : 6.6
Process Version : 5.7
Color Temperature : 4800
Tint : +13
Exposure : 0.00
Shadows : 6
Brightness : +91
Luminance Smoothing : 24
Color Noise Reduction : 25
Chromatic Aberration R : 0
Chromatic Aberration B : 0
Vignette Amount : 0
Shadow Tint : 0
Red Hue : 0
Red Saturation : 0
Green Hue : 0
Green Saturation : 0
Blue Hue : 0
Blue Saturation : 0
Fill Light : 9
Highlight Recovery : 0
Clarity : -68
Defringe : 0
Gray Mixer Red : -7
Gray Mixer Orange : -16
Gray Mixer Yellow : -20
Gray Mixer Green : -25
Gray Mixer Aqua : -19
Gray Mixer Blue : +7
Gray Mixer Purple : +14
Gray Mixer Magenta : +5
Split Toning Shadow Hue : 46
Split Toning Shadow Saturation : 8
Split Toning Highlight Hue : 50
Split Toning Highlight Saturation : 0
Split Toning Balance : 0
Parametric Shadows : 0
Parametric Darks : 0
Parametric Lights : 0
Parametric Highlights : 0
Parametric Shadow Split : 25
Parametric Midtone Split : 50
Parametric Highlight Split : 75
Sharpen Radius : +1.2
Sharpen Detail : 0
Sharpen Edge Masking : 41
Post Crop Vignette Amount : -20
Post Crop Vignette Midpoint : 50
Post Crop Vignette Feather : 50
Post Crop Vignette Roundness : 0
Post Crop Vignette Style : Highlight Priority
Post Crop Vignette Highlight Contrast : 0
Grain Amount : 0
Luminance Noise Reduction Detail : 50
Color Noise Reduction Detail : 50
Luminance Noise Reduction Contrast : 0
Lens Profile Enable : 0
Lens Manual Distortion Amount : 0
Perspective Vertical : 0
Perspective Horizontal : 0
Perspective Rotate : 0.0
Perspective Scale : 100
Convert To Grayscale : True
Tone Curve Name : Custom
Camera Profile : Adobe Standard
Lens Profile Setup : LensDefaults
Has Settings : True
Crop Top : 0
Crop Left : 0.028874
Crop Bottom : 1
Crop Right : 0.966374
Crop Angle : 0
Crop Constrain To Warp : 0
Crop Width : 3780
Crop Height : 3024
Crop Unit : pixels
Has Crop : True
Already Applied : True
Description : OLYMPUS DIGITAL CAMERA
Creator : Tim Owen
Rights : Tim Owen
Creator Work Email : tim@timowen.com
Creator Work URL : www.timowen.com
Tone Curve : 0, 0, 32, 22, 65, 51, 128, 128, 191, 207, 255, 255
Image Width : 240
Image Height : 300
Bits Per Sample : 8
Color Components : 3
Aperture : 1.4
Image Size : 240x300
Megapixels : 0.072
Scale Factor To 35 mm Equivalent : 2.0
Shutter Speed : 1/160
Circle Of Confusion : 0.015 mm
Depth Of Field : 0.03 m (0.70 - 0.74 m)
Field Of View : 39.6 deg
Focal Length : 25.0 mm (35 mm equivalent: 50.0 mm)
Hyperfocal Distance : 29.72 m
Light Value : 6.3
Lens ID : LEICA DG SUMMILUX 25mm F1.4