Uber Exif Photo
By-line : Tim Owen
Copyright Notice : Tim Owen
Make : Panasonic
Camera Model Name : DMC-GH1
Software : Adobe Photoshop Lightroom 3.4.1
Modify Date : 2011:11:04 21:15:06
Artist : Tim Owen
Copyright : Tim Owen
Exposure Time : 1/10
F Number : 10.0
Exposure Program : Aperture-priority AE
ISO : 100
Date/Time Original : 2011:09:24 08:37:42
Create Date : 2011:09:24 08:37:42
Shutter Speed Value : 1/10
Aperture Value : 10.0
Exposure Compensation : +1.33
Max Aperture Value : 2.8
Metering Mode : Multi-segment
Light Source : Unknown
Flash : Off, Did not fire
Focal Length : 45.0 mm
Sensing Method : One-chip color area
Scene Type : Directly photographed
Custom Rendered : Normal
Exposure Mode : Auto
White Balance : Auto
Digital Zoom Ratio : 0
Focal Length In 35mm Format : 90 mm
Scene Capture Type : Standard
Gain Control : None
Contrast : Normal
Saturation : Normal
Sharpness : Normal
Lens Model : LEICA DG MACRO-ELMARIT 45/F2.8
Lens Serial Number : 10080601767
Profile Description : sRGB IEC61966-2.1
Lens : LEICA DG MACRO-ELMARIT 45/F2.8
Label : Potential
Creator Tool : Adobe Photoshop Lightroom 3.4.1
Date Created : 2011:09:24 08:37:42
Version : 6.4.1
Process Version : 5.7
Color Temperature : 5150
Tint : -2
Exposure : -1.31
Shadows : 86
Brightness : +50
Luminance Smoothing : 0
Color Noise Reduction : 25
Chromatic Aberration R : 0
Chromatic Aberration B : 0
Vignette Amount : 0
Shadow Tint : 0
Red Hue : 0
Red Saturation : 0
Green Hue : 0
Green Saturation : 0
Blue Hue : 0
Blue Saturation : 0
Fill Light : 0
Vibrance : +20
Highlight Recovery : 0
Clarity : -8
Defringe : 0
Hue Adjustment Red : 0
Hue Adjustment Orange : 0
Hue Adjustment Yellow : 0
Hue Adjustment Green : 0
Hue Adjustment Aqua : 0
Hue Adjustment Blue : 0
Hue Adjustment Purple : 0
Hue Adjustment Magenta : 0
Saturation Adjustment Red : 0
Saturation Adjustment Orange : 0
Saturation Adjustment Yellow : 0
Saturation Adjustment Green : 0
Saturation Adjustment Aqua : 0
Saturation Adjustment Blue : 0
Saturation Adjustment Purple : 0
Saturation Adjustment Magenta : 0
Luminance Adjustment Red : 0
Luminance Adjustment Orange : 0
Luminance Adjustment Yellow : 0
Luminance Adjustment Green : 0
Luminance Adjustment Aqua : 0
Luminance Adjustment Blue : 0
Luminance Adjustment Purple : 0
Luminance Adjustment Magenta : 0
Split Toning Shadow Hue : 0
Split Toning Shadow Saturation : 0
Split Toning Highlight Hue : 0
Split Toning Highlight Saturation : 0
Split Toning Balance : 0
Parametric Shadows : 0
Parametric Darks : 0
Parametric Lights : 0
Parametric Highlights : 0
Parametric Shadow Split : 25
Parametric Midtone Split : 50
Parametric Highlight Split : 75
Sharpen Radius : +1.0
Sharpen Detail : 25
Sharpen Edge Masking : 0
Post Crop Vignette Amount : 0
Grain Amount : 0
Color Noise Reduction Detail : 50
Lens Profile Enable : 0
Lens Manual Distortion Amount : 0
Perspective Vertical : 0
Perspective Horizontal : 0
Perspective Rotate : 0.0
Perspective Scale : 100
Convert To Grayscale : False
Tone Curve Name : Medium Contrast
Camera Profile : Adobe Standard
Lens Profile Setup : LensDefaults
Has Settings : True
Crop Top : 0
Crop Left : 0
Crop Bottom : 1
Crop Right : 0.833334
Crop Angle : 0
Crop Constrain To Warp : 0
Crop Width : 3440
Crop Height : 2752
Crop Unit : pixels
Has Crop : True
Already Applied : True
Creator Work Email : tim@timowen.com
Creator Work URL : www.timowen.com
Creator : Tim Owen
Rights : Tim Owen
Tone Curve : 0, 0, 32, 22, 64, 56, 128, 128, 192, 196, 255, 255
Image Width : 240
Image Height : 300
Bits Per Sample : 8
Color Components : 3
Aperture : 10.0
Image Size : 240x300
Megapixels : 0.072
Scale Factor To 35 mm Equivalent : 2.0
Shutter Speed : 1/10
Circle Of Confusion : 0.015 mm
Field Of View : 22.6 deg
Focal Length : 45.0 mm (35 mm equivalent: 90.0 mm)
Hyperfocal Distance : 13.48 m
Light Value : 10.0
Lens ID : LEICA DG MACRO-ELMARIT 45mm F2.8