Uber Exif Photo
Keywords : ballerina, lake, leica, m9, taiping
Make : Leica Camera AG
Camera Model Name : M9 Digital Camera
Software : 1.138
Modify Date : 2011:03:01 14:35:15
Exposure Time : 1/2000
F Number : 2.8
Exposure Program : Aperture-priority AE
ISO : 160
Sensitivity Type : Unknown
Date/Time Original : 2011:02:27 09:37:28
Create Date : 2011:02:27 09:37:28
Shutter Speed Value : 1/2000
Aperture Value : 2.8
Exposure Compensation : 0
Max Aperture Value : 1.0
Metering Mode : Center-weighted average
Light Source : Daylight
Contrast : Normal
Sharpening : Normal
Saturation : Normal
White Balance : Daylight
JPEG Quality : Fine
WB RGB Levels : 0.4956137697 1 0.7202391419
User Profile : JPEG Size : 5216x3472
Firmware Version : 1.138
Base ISO : 160
Sensor Width : 5270
Sensor Height : 3516
Sensor Bit Depth : 14
Camera Temperature : 35 C
Lens Type : Uncoded lens
Approximate F Number : 3.0
Measured LV : 6.70
External Sensor Brightness Value : 5.45
Scene Type : Directly photographed
Exposure Mode : Manual
Digital Zoom Ratio : 0
Scene Capture Type : Standard
Serial Number : 3903227
Maker Note Safety : Safe
Profile Description : sRGB IEC61966-2.1
Date/Time Digitized : 2011:02:27 09:37:28+08:00
Exif Image Width : 1600
Exif Image Height : 1065
Creator Tool : Adobe Photoshop Lightroom
Version : 6.2
Process Version : 5.7
Color Temperature : 5450
Tint : 0
Exposure : +0.10
Shadows : 14
Brightness : +68
Sharpness : 65
Luminance Smoothing : 35
Color Noise Reduction : 25
Chromatic Aberration R : 0
Chromatic Aberration B : 0
Vignette Amount : -80
Vignette Midpoint : 0
Shadow Tint : +17
Red Hue : +48
Red Saturation : +45
Green Hue : -100
Green Saturation : +2
Blue Hue : -100
Blue Saturation : -81
Fill Light : 39
Vibrance : +36
Highlight Recovery : 61
Clarity : -45
Defringe : 2
Hue Adjustment Red : 0
Hue Adjustment Orange : 0
Hue Adjustment Yellow : 0
Hue Adjustment Green : 0
Hue Adjustment Aqua : 0
Hue Adjustment Blue : 0
Hue Adjustment Purple : 0
Hue Adjustment Magenta : 0
Saturation Adjustment Red : +23
Saturation Adjustment Orange : -54
Saturation Adjustment Yellow : -79
Saturation Adjustment Green : +25
Saturation Adjustment Aqua : 0
Saturation Adjustment Blue : +4
Saturation Adjustment Purple : +35
Saturation Adjustment Magenta : -69
Luminance Adjustment Red : 0
Luminance Adjustment Orange : 0
Luminance Adjustment Yellow : +35
Luminance Adjustment Green : 0
Luminance Adjustment Aqua : -6
Luminance Adjustment Blue : 0
Luminance Adjustment Purple : +67
Luminance Adjustment Magenta : +19
Split Toning Shadow Hue : 82
Split Toning Shadow Saturation : 5
Split Toning Highlight Hue : 74
Split Toning Highlight Saturation : 3
Split Toning Balance : +55
Parametric Shadows : -33
Parametric Darks : +62
Parametric Lights : +7
Parametric Highlights : +10
Parametric Shadow Split : 25
Parametric Midtone Split : 50
Parametric Highlight Split : 75
Sharpen Radius : +1.0
Sharpen Detail : 25
Sharpen Edge Masking : 0
Post Crop Vignette Amount : 0
Grain Amount : 0
Luminance Noise Reduction Detail : 50
Color Noise Reduction Detail : 50
Luminance Noise Reduction Contrast : 0
Lens Profile Enable : 0
Lens Manual Distortion Amount : 0
Perspective Vertical : 0
Perspective Horizontal : 0
Perspective Rotate : 0.0
Perspective Scale : 100
Convert To Grayscale : False
Tone Curve Name : Linear
Camera Profile : Embedded
Lens Profile Setup : LensDefaults
Has Settings : True
Crop Top : 0.14264
Crop Left : 0.177988
Crop Bottom : 0.929304
Crop Right : 0.964652
Crop Angle : 0
Crop Constrain To Warp : 0
Crop Width : 1600
Crop Height : 1065
Crop Unit : pixels
Has Crop : True
Already Applied : True
Flash Fired : False
Flash Return : No return detection
Flash Mode : Unknown
Flash Function : False
Flash Red Eye Mode : False
Subject : ballerina, lake, leica, m9, taiping
Tone Curve : 0, 0, 255, 255
Paint Correction What : Correction
Paint Correction Amount : 1.000000
Paint Correction Active : true
Paint Correction Exposure : 0.105882
Paint Correction Saturation : 0.000000
Paint Correction Contrast : 0.000000
Paint Correction Clarity : 0.000000
Paint Correction Sharpness : 0.000000
Paint Correction Brightness : 0.000000
Paint Correction Toning Hue : 240.000000
Paint Correction Toning Saturation : 0.000000
Paint Correction Mask What : Mask/Paint
Paint Correction Mask Value : 0.781609
Paint Correction Mask Radius : 0.023848
Paint Correction Mask Flow : 0.203448
Paint Correction Mask Center Weight : 0.000000
Gradient Based Corr What : Correction
Gradient Based Corr Amount : 1.000000
Gradient Based Corr Active : true
Gradient Based Corr Exposure : 0.223529
Gradient Based Corr Saturation : 0.000000
Gradient Based Corr Contrast : 0.552941
Gradient Based Corr Clarity : 0.317647
Gradient Based Corr Sharpness : 0.000000
Gradient Based Corr Brightness : 0.000000
Gradient Based Corr Toning Hue : 240.000000
Gradient Based Corr Toning Saturation : 0.000000
Gradient Based Corr Mask What : Mask/Gradient
Gradient Based Corr Mask Value : 1.000000
Gradient Based Corr Mask Zero X : 0.510823
Gradient Based Corr Mask Zero Y : 0.693032
Gradient Based Corr Mask Full X : 0.512124
Gradient Based Corr Mask Full Y : 0.997067
Image Width : 300
Image Height : 200
Bits Per Sample : 8
Color Components : 3
Aperture : 2.8
Blue Balance : 0.720239
Image Size : 300x200
Lens ID : Uncoded lens
Megapixels : 0.060
Red Balance : 0.495614
Scale Factor To 35 mm Equivalent : 3.3
Shutter Speed : 1/2000
Flash : No Flash
Circle Of Confusion : 0.009 mm
Light Value : 13.3