Uber Exif Photo
Date Created : 2017:09:27
Photometric Interpretation : RGB
Make : LEICA CAMERA AG
Camera Model Name : LEICA SL (Typ 601)
Orientation : Horizontal (normal)
Samples Per Pixel : 3
Software : Adobe Photoshop CS5 Windows
Modify Date : 2017:09:28 23:05:17
Exposure Time : 1/160
F Number : 9.0
Exposure Program : Aperture-priority AE
ISO : 1250
Sensitivity Type : Standard Output Sensitivity
Date/Time Original : 2017:09:27 12:45:13
Create Date : 2017:09:27 12:45:13
Shutter Speed Value : 1/160
Aperture Value : 9.0
Exposure Compensation : 0
Max Aperture Value : 2.8
Metering Mode : Multi-segment
Light Source : Unknown
Focal Length : 280.0 mm
Color Space : sRGB
Exif Image Width : 720
Exif Image Height : 480
Sensing Method : One-chip color area
Custom Rendered : Normal
White Balance : Auto
Focal Length In 35mm Format : 280 mm
Scene Capture Type : Standard
Contrast : Normal
Saturation : Normal
Sharpness : Normal
Serial Number : 4966568
Lens Info : 90-280mm f/3
Lens Make : LEICA CAMERA AG
Lens Model : APO-VARIO-ELMARIT-SL 1:2.8-4/90-280
Lens Serial Number : 4571192
Lens : APO-VARIO-ELMARIT-SL 1:2.8-4/90-280
Format : image/jpeg
Flash Fired : False
Flash Function : False
Flash Mode : Off
Flash Red Eye Mode : False
Flash Return : No return detection
Color Mode : RGB
ICC Profile Name : sRGB IEC61966-2.1
Creator Tool : Adobe Photoshop CS5 Windows
Already Applied : True
Auto Lateral CA : 0
Blacks 2012 : 0
Blue Hue : 0
Blue Saturation : 0
Brightness : +50
Camera Profile : Embedded
Clarity : +13
Clarity 2012 : 0
Color Noise Reduction : 25
Color Noise Reduction Detail : 50
Contrast 2012 : 0
Convert To Grayscale : False
Defringe : 0
Exposure : -0.70
Exposure 2012 : 0.00
Fill Light : 0
Grain Amount : 0
Green Hue : 0
Green Saturation : 0
Has Crop : False
Has Settings : True
Highlight Recovery : 0
Highlights 2012 : 0
Hue Adjustment Aqua : 0
Hue Adjustment Blue : 0
Hue Adjustment Green : 0
Hue Adjustment Magenta : 0
Hue Adjustment Orange : 0
Hue Adjustment Purple : 0
Hue Adjustment Red : 0
Hue Adjustment Yellow : 0
Lens Manual Distortion Amount : 0
Lens Profile Enable : 0
Lens Profile Setup : LensDefaults
Luminance Adjustment Aqua : 0
Luminance Adjustment Blue : 0
Luminance Adjustment Green : 0
Luminance Adjustment Magenta : 0
Luminance Adjustment Orange : 0
Luminance Adjustment Purple : 0
Luminance Adjustment Red : 0
Luminance Adjustment Yellow : 0
Luminance Smoothing : 0
Parametric Darks : 0
Parametric Highlight Split : 75
Parametric Highlights : 0
Parametric Lights : 0
Parametric Midtone Split : 50
Parametric Shadow Split : 25
Parametric Shadows : 0
Perspective Horizontal : 0
Perspective Rotate : 0.0
Perspective Scale : 100
Perspective Vertical : 0
Post Crop Vignette Amount : 0
Process Version : 5.7
Raw File Name : L1040438.DNG
Red Hue : 0
Red Saturation : 0
Saturation Adjustment Aqua : 0
Saturation Adjustment Blue : 0
Saturation Adjustment Green : 0
Saturation Adjustment Magenta : 0
Saturation Adjustment Orange : 0
Saturation Adjustment Purple : 0
Saturation Adjustment Red : 0
Saturation Adjustment Yellow : 0
Shadow Tint : 0
Shadows : 5
Shadows 2012 : 0
Sharpen Detail : 25
Sharpen Edge Masking : 0
Sharpen Radius : +1.0
Split Toning Balance : 0
Split Toning Highlight Hue : 0
Split Toning Highlight Saturation : 0
Split Toning Shadow Hue : 0
Split Toning Shadow Saturation : 0
Tint : +5
Tone Curve : 0, 0, 32, 22, 64, 56, 128, 128, 192, 196, 255, 255
Tone Curve Blue : 0, 0, 255, 255
Tone Curve Green : 0, 0, 255, 255
Tone Curve Name : Medium Contrast
Tone Curve Name 2012 : Linear
Tone Curve PV2012 : 0, 0, 255, 255
Tone Curve PV2012 Blue : 0, 0, 255, 255
Tone Curve PV2012 Green : 0, 0, 255, 255
Tone Curve PV2012 Red : 0, 0, 255, 255
Tone Curve Red : 0, 0, 255, 255
Version : 6.7.1
Vibrance : +13
Vignette Amount : 0
Whites 2012 : 0
Image Width : 300
Image Height : 200
Bits Per Sample : 8
Color Components : 3
Aperture : 9.0
Image Size : 300x200
Megapixels : 0.060
Scale Factor To 35 mm Equivalent : 1.0
Shutter Speed : 1/160
Flash : Off, Did not fire
Circle Of Confusion : 0.030 mm
Field Of View : 7.4 deg
Focal Length : 280.0 mm (35 mm equivalent: 280.0 mm)
Hyperfocal Distance : 289.92 m
Light Value : 10.0