Uber Exif Photo
Photometric Interpretation : RGB
Make : Leica Camera AG
Camera Model Name : M9 Digital Camera
Orientation : Horizontal (normal)
Software : Adobe Photoshop CS5 Windows
Modify Date : 2013:06:06 09:56:15
Maker Note Safety : Safe
Exposure Time : 1/30
F Number : 19.0
Exposure Program : Aperture-priority AE
ISO : 250
Date/Time Original : 2011:11:13 10:03:18
Create Date : 2011:11:13 10:03:18
Shutter Speed Value : 1/30
Aperture Value : 19.0
Exposure Compensation : +0.664
Max Aperture Value : 2.8
Metering Mode : Center-weighted average
Light Source : Unknown
Flash : No Flash
Focal Length : 28.0 mm
Color Space : sRGB
Exif Image Width : 960
Exif Image Height : 640
Scene Type : Directly photographed
Exposure Mode : Manual
White Balance : Auto
Digital Zoom Ratio : 0
Focal Length In 35mm Format : 28 mm
Scene Capture Type : Standard
Serial Number : 4200881
Lens Model : Leica Elmarit-M 28mm f/2.8 ASPH.
Profile Description : sRGB IEC61966-2.1
Creator Tool : Adobe Photoshop CS5 Windows
Lens : Leica Elmarit-M 28mm f/2.8 ASPH.
Date Created : 2011:11:13 10:03:18
Color Mode : RGB
ICC Profile Name : sRGB IEC61966-2.1
Format : image/jpeg
Raw File Name : L1001231.DNG
Version : 6.5
Process Version : 5.7
Color Temperature : 3950
Tint : +2
Exposure : -0.25
Shadows : 5
Brightness : +50
Contrast : +38
Saturation : 0
Sharpness : 25
Luminance Smoothing : 0
Color Noise Reduction : 25
Chromatic Aberration R : 0
Chromatic Aberration B : 0
Vignette Amount : 0
Shadow Tint : 0
Red Hue : 0
Red Saturation : 0
Green Hue : 0
Green Saturation : 0
Blue Hue : 0
Blue Saturation : 0
Fill Light : 0
Vibrance : +15
Highlight Recovery : 0
Clarity : +29
Defringe : 0
Hue Adjustment Red : 0
Hue Adjustment Orange : 0
Hue Adjustment Yellow : 0
Hue Adjustment Green : 0
Hue Adjustment Aqua : 0
Hue Adjustment Blue : 0
Hue Adjustment Purple : 0
Hue Adjustment Magenta : 0
Saturation Adjustment Red : 0
Saturation Adjustment Orange : 0
Saturation Adjustment Yellow : 0
Saturation Adjustment Green : 0
Saturation Adjustment Aqua : 0
Saturation Adjustment Blue : 0
Saturation Adjustment Purple : 0
Saturation Adjustment Magenta : 0
Luminance Adjustment Red : 0
Luminance Adjustment Orange : 0
Luminance Adjustment Yellow : 0
Luminance Adjustment Green : 0
Luminance Adjustment Aqua : 0
Luminance Adjustment Blue : 0
Luminance Adjustment Purple : 0
Luminance Adjustment Magenta : 0
Split Toning Shadow Hue : 0
Split Toning Shadow Saturation : 0
Split Toning Highlight Hue : 0
Split Toning Highlight Saturation : 0
Split Toning Balance : 0
Parametric Shadows : 0
Parametric Darks : 0
Parametric Lights : 0
Parametric Highlights : 0
Parametric Shadow Split : 25
Parametric Midtone Split : 50
Parametric Highlight Split : 75
Sharpen Radius : +1.0
Sharpen Detail : 25
Sharpen Edge Masking : 0
Post Crop Vignette Amount : 0
Grain Amount : 0
Color Noise Reduction Detail : 50
Lens Profile Enable : 0
Lens Manual Distortion Amount : 0
Perspective Vertical : 0
Perspective Horizontal : 0
Perspective Rotate : 0.0
Perspective Scale : 100
Convert To Grayscale : False
Tone Curve Name : Medium Contrast
Camera Profile : Adobe Standard
Lens Profile Setup : LensDefaults
Has Settings : True
Has Crop : False
Already Applied : True
Tone Curve : 0, 0, 32, 22, 64, 56, 128, 128, 192, 196, 255, 255
Image Width : 300
Image Height : 200
Bits Per Sample : 8
Color Components : 3
Aperture : 19.0
Image Size : 300x200
Megapixels : 0.060
Scale Factor To 35 mm Equivalent : 1.0
Shutter Speed : 1/30
Circle Of Confusion : 0.030 mm
Field Of View : 65.5 deg
Focal Length : 28.0 mm (35 mm equivalent: 28.0 mm)
Hyperfocal Distance : 1.37 m
Light Value : 12.1
Lens ID : Elmarit-M 28mm f/2.8 ASPH.