Uber Exif Photo
Photometric Interpretation : RGB
Make : LEICA
Camera Model Name : DIGILUX 3
Orientation : Horizontal (normal)
Software : Adobe Photoshop CS5 Windows
Modify Date : 2011:06:29 18:58:56
Exposure Time : 1/10
F Number : 1.4
Exposure Program : Program AE
ISO : 100
Sensitivity Type : Unknown
Date/Time Original : 2011:06:25 11:00:05
Create Date : 2011:06:25 11:00:05
Shutter Speed Value : 1/10
Aperture Value : 1.4
Exposure Compensation : 0
Max Aperture Value : 2.8
Metering Mode : Multi-segment
Flash : Off, Did not fire
Focal Length : 25.0 mm
Color Space : sRGB
Exif Image Width : 1000
Exif Image Height : 509
Creator Tool : Adobe Photoshop CS5 Windows
Version : 6.3
Process Version : 5.7
White Balance : Custom
Color Temperature : 4900
Tint : -3
Exposure : +1.44
Shadows : 28
Brightness : +50
Contrast : +44
Sharpness : 25
Luminance Smoothing : 0
Color Noise Reduction : 25
Chromatic Aberration R : 0
Chromatic Aberration B : 0
Vignette Amount : 0
Shadow Tint : 0
Red Hue : 0
Red Saturation : 0
Green Hue : 0
Green Saturation : 0
Blue Hue : 0
Blue Saturation : 0
Fill Light : 51
Highlight Recovery : 23
Clarity : +4
Defringe : 0
Gray Mixer Red : 0
Gray Mixer Orange : -8
Gray Mixer Yellow : -11
Gray Mixer Green : -20
Gray Mixer Aqua : -21
Gray Mixer Blue : +1
Gray Mixer Purple : +10
Gray Mixer Magenta : +6
Split Toning Shadow Hue : 0
Split Toning Shadow Saturation : 0
Split Toning Highlight Hue : 0
Split Toning Highlight Saturation : 0
Split Toning Balance : 0
Parametric Shadows : 0
Parametric Darks : 0
Parametric Lights : 0
Parametric Highlights : 0
Parametric Shadow Split : 25
Parametric Midtone Split : 50
Parametric Highlight Split : 75
Sharpen Radius : +1.0
Sharpen Detail : 25
Sharpen Edge Masking : 0
Post Crop Vignette Amount : 0
Grain Amount : 0
Color Noise Reduction Detail : 50
Lens Profile Enable : 0
Lens Manual Distortion Amount : 0
Perspective Vertical : 0
Perspective Horizontal : 0
Perspective Rotate : 0.0
Perspective Scale : 100
Convert To Grayscale : True
Tone Curve Name : Strong Contrast
Camera Profile : Adobe Standard
Lens Profile Setup : LensDefaults
Has Settings : True
Crop Top : 0
Crop Left : 0
Crop Bottom : 0.678295
Crop Right : 1
Crop Angle : 0
Crop Constrain To Warp : 0
Crop Width : 3136
Crop Height : 1595
Crop Unit : pixels
Has Crop : True
Already Applied : True
Date Created : 2011:06:25 11:00:05
Color Mode : RGB
ICC Profile Name : sRGB IEC61966-2.1
Format : image/jpeg
Tone Curve : 0, 0, 32, 16, 64, 50, 128, 128, 192, 202, 255, 255
Image Width : 300
Image Height : 153
Bits Per Sample : 8
Color Components : 1
Aperture : 1.4
Image Size : 300x153
Megapixels : 0.046
Shutter Speed : 1/10
Light Value : 4.3