Uber Exif Photo
Keywords : Toneleria-2
Make : LEICA
Camera Model Name : D-LUX 4
Orientation : Horizontal (normal)
Software : Adobe Photoshop CS4 Windows
Modify Date : 2011:01:09 00:38:57
Exposure Time : 1/80
F Number : 2.5
Exposure Program : Program AE
ISO : 200
Date/Time Original : 2009:10:02 12:26:14
Create Date : 2009:10:02 12:26:14
Shutter Speed Value : 1/80
Aperture Value : 2.5
Exposure Compensation : 0
Max Aperture Value : 2.0
Metering Mode : Multi-segment
Light Source : Unknown
Focal Length : 8.8 mm
Color Space : sRGB
Exif Image Width : 452
Exif Image Height : 602
Sensing Method : One-chip color area
Scene Type : Directly photographed
Custom Rendered : Normal
Exposure Mode : Auto
White Balance : Auto
Digital Zoom Ratio : 0
Focal Length In 35mm Format : 41 mm
Scene Capture Type : Standard
Gain Control : Low gain up
Contrast : Normal
Saturation : Normal
Sharpness : Normal
Profile Description : sRGB IEC61966-2.1
Date/Time Digitized : 2009:10:02 12:26:14+02:00
Creator Tool : Adobe Photoshop Lightroom
Version : 5.2
Incremental Temperature : 0
Incremental Tint : 0
Exposure : +0.37
Shadows : 1
Brightness : 0
Luminance Smoothing : 11
Color Noise Reduction : 0
Chromatic Aberration R : 0
Chromatic Aberration B : 0
Vignette Amount : 0
Shadow Tint : 0
Red Hue : 0
Red Saturation : 0
Green Hue : 0
Green Saturation : 0
Blue Hue : 0
Blue Saturation : 0
Fill Light : 13
Highlight Recovery : 20
Clarity : 0
Defringe : 0
Gray Mixer Red : -9
Gray Mixer Orange : -18
Gray Mixer Yellow : -22
Gray Mixer Green : -26
Gray Mixer Aqua : -69
Gray Mixer Blue : -42
Gray Mixer Purple : -35
Gray Mixer Magenta : +4
Split Toning Shadow Hue : 54
Split Toning Shadow Saturation : 26
Split Toning Highlight Hue : 59
Split Toning Highlight Saturation : 25
Split Toning Balance : 0
Parametric Shadows : 0
Parametric Darks : 0
Parametric Lights : 0
Parametric Highlights : 0
Parametric Shadow Split : 25
Parametric Midtone Split : 50
Parametric Highlight Split : 75
Sharpen Radius : +1.2
Sharpen Detail : 37
Sharpen Edge Masking : 10
Post Crop Vignette Amount : -79
Post Crop Vignette Midpoint : 59
Post Crop Vignette Feather : 69
Post Crop Vignette Roundness : +82
Convert To Grayscale : True
Tone Curve Name : Linear
Camera Profile : Embedded
Has Settings : True
Has Crop : False
Already Applied : True
Color Mode : RGB
ICC Profile Name : sRGB IEC61966-2.1
Format : image/jpeg
Flash Fired : False
Flash Return : No return detection
Flash Mode : Off
Flash Function : False
Flash Red Eye Mode : False
Tone Curve : 0, 0, 255, 255
Subject : Toneleria-2
Image Width : 225
Image Height : 300
Bits Per Sample : 8
Color Components : 3
Aperture : 2.5
Image Size : 225x300
Megapixels : 0.068
Scale Factor To 35 mm Equivalent : 4.7
Shutter Speed : 1/80
Flash : Off, Did not fire
Circle Of Confusion : 0.006 mm
Field Of View : 47.4 deg
Focal Length : 8.8 mm (35 mm equivalent: 41.0 mm)
Hyperfocal Distance : 4.80 m
Light Value : 8.0