Uber Exif Photo
By-line : Antonio Pereira
Keywords : Angelica
Copyright Notice : © 2009 Antonio Pereira
Copyright Flag : True
Make : LEICA
Camera Model Name : D-LUX 4
Orientation : Horizontal (normal)
Software : Adobe Photoshop CS4 Windows
Modify Date : 2011:01:09 11:50:29
Artist : Antonio Pereira
Copyright : © 2009 Antonio Pereira
Exposure Time : 1/100
F Number : 2.8
Exposure Program : Aperture-priority AE
ISO : 160
Date/Time Original : 2010:08:16 14:54:53
Create Date : 2010:08:16 14:54:53
Shutter Speed Value : 1/100
Aperture Value : 2.8
Exposure Compensation : 0
Max Aperture Value : 2.0
Metering Mode : Multi-segment
Light Source : Unknown
Focal Length : 12.1 mm
Color Space : Uncalibrated
Exif Image Width : 452
Exif Image Height : 632
Sensing Method : One-chip color area
Scene Type : Directly photographed
Custom Rendered : Normal
Exposure Mode : Auto
White Balance : Auto
Digital Zoom Ratio : 0
Focal Length In 35mm Format : 57 mm
Scene Capture Type : Standard
Gain Control : Low gain up
Contrast : Normal
Saturation : Normal
Sharpness : Normal
Profile Description : Adobe RGB (1998)
Date/Time Digitized : 2010:08:16 14:54:53+02:00
Creator Tool : Adobe Photoshop Lightroom
Marked : True
Version : 6.1
Process Version : 5.7
Incremental Temperature : -68
Incremental Tint : 0
Exposure : +0.74
Shadows : 49
Brightness : +7
Luminance Smoothing : 58
Color Noise Reduction : 0
Chromatic Aberration R : 0
Chromatic Aberration B : 0
Vignette Amount : 0
Shadow Tint : 0
Red Hue : 0
Red Saturation : 0
Green Hue : 0
Green Saturation : 0
Blue Hue : 0
Blue Saturation : 0
Fill Light : 27
Highlight Recovery : 77
Clarity : +79
Defringe : 0
Gray Mixer Red : -10
Gray Mixer Orange : -19
Gray Mixer Yellow : -23
Gray Mixer Green : -27
Gray Mixer Aqua : -17
Gray Mixer Blue : +10
Gray Mixer Purple : +16
Gray Mixer Magenta : +4
Split Toning Shadow Hue : 55
Split Toning Shadow Saturation : 44
Split Toning Highlight Hue : 51
Split Toning Highlight Saturation : 45
Split Toning Balance : 0
Parametric Shadows : -14
Parametric Darks : -16
Parametric Lights : -100
Parametric Highlights : -21
Parametric Shadow Split : 25
Parametric Midtone Split : 50
Parametric Highlight Split : 75
Sharpen Radius : +1.0
Sharpen Detail : 25
Sharpen Edge Masking : 0
Post Crop Vignette Amount : 0
Grain Amount : 39
Grain Size : 51
Grain Frequency : 50
Luminance Noise Reduction Detail : 57
Luminance Noise Reduction Contrast : 32
Lens Profile Enable : 0
Lens Manual Distortion Amount : 0
Perspective Vertical : 0
Perspective Horizontal : 0
Perspective Rotate : 0.0
Perspective Scale : 100
Convert To Grayscale : True
Tone Curve Name : Linear
Camera Profile : Embedded
Lens Profile Setup : LensDefaults
Has Settings : True
Has Crop : False
Already Applied : True
Color Mode : RGB
ICC Profile Name : Adobe RGB (1998)
Format : image/jpeg
Flash Fired : False
Flash Return : No return detection
Flash Mode : Off
Flash Function : False
Flash Red Eye Mode : False
Tone Curve : 0, 0, 255, 255
Creator : Antonio Pereira
Rights : © 2009 Antonio Pereira
Subject : Angelica
Image Width : 215
Image Height : 300
Bits Per Sample : 8
Color Components : 3
Aperture : 2.8
Image Size : 215x300
Megapixels : 0.065
Scale Factor To 35 mm Equivalent : 4.7
Shutter Speed : 1/100
Flash : Off, Did not fire
Circle Of Confusion : 0.006 mm
Field Of View : 35.1 deg
Focal Length : 12.1 mm (35 mm equivalent: 57.0 mm)
Hyperfocal Distance : 8.20 m
Light Value : 8.9