Uber Exif Photo
Make : LEICA CAMERA AG
Camera Model Name : LEICA X1
Orientation : Horizontal (normal)
Software : Adobe Photoshop CS4 Windows
Modify Date : 2013:04:16 22:20:55
Maker Note Safety : Safe
Exposure Time : 1/800
F Number : 6.3
Exposure Program : Program AE
ISO : 100
Date/Time Original : 2013:04:16 15:08:45
Create Date : 2013:04:16 15:08:45
Shutter Speed Value : 1/800
Aperture Value : 6.3
Exposure Compensation : 0
Max Aperture Value : 2.8
Metering Mode : Multi-segment
Light Source : Unknown
Focal Length : 24.0 mm
Color Space : Uncalibrated
Exif Image Width : 1200
Exif Image Height : 841
Sensing Method : One-chip color area
Custom Rendered : Custom
White Balance : Auto
Digital Zoom Ratio : 1
Focal Length In 35mm Format : 36 mm
Scene Capture Type : Landscape
Contrast : High
Saturation : High
Sharpness : Hard
Profile Description : Adobe RGB (1998)
Date/Time Digitized : 2013:04:16 15:08:45+02:00
Creator Tool : 2.0
Rating : 0
Serial Number : 000003814138
Lens Info : 24mm f/2.8
Lens : 24.0 mm f/2.8
Raw File Name : L9992869.DNG
Version : 5.0
Color Temperature : 4700
Tint : +28
Exposure : -0.75
Shadows : 5
Brightness : +53
Luminance Smoothing : 0
Color Noise Reduction : 25
Chromatic Aberration R : 0
Chromatic Aberration B : 0
Vignette Amount : 0
Shadow Tint : 0
Red Hue : 0
Red Saturation : 0
Green Hue : 0
Green Saturation : 0
Blue Hue : 0
Blue Saturation : 0
Fill Light : 17
Vibrance : 0
Highlight Recovery : 41
Clarity : +44
Defringe : 0
Hue Adjustment Red : 0
Hue Adjustment Orange : 0
Hue Adjustment Yellow : 0
Hue Adjustment Green : 0
Hue Adjustment Aqua : 0
Hue Adjustment Blue : 0
Hue Adjustment Purple : 0
Hue Adjustment Magenta : 0
Saturation Adjustment Red : 0
Saturation Adjustment Orange : 0
Saturation Adjustment Yellow : 0
Saturation Adjustment Green : 0
Saturation Adjustment Aqua : 0
Saturation Adjustment Blue : 0
Saturation Adjustment Purple : 0
Saturation Adjustment Magenta : 0
Luminance Adjustment Red : 0
Luminance Adjustment Orange : 0
Luminance Adjustment Yellow : 0
Luminance Adjustment Green : 0
Luminance Adjustment Aqua : 0
Luminance Adjustment Blue : 0
Luminance Adjustment Purple : 0
Luminance Adjustment Magenta : 0
Split Toning Shadow Hue : 0
Split Toning Shadow Saturation : 0
Split Toning Highlight Hue : 0
Split Toning Highlight Saturation : 0
Split Toning Balance : 0
Parametric Shadows : +10
Parametric Darks : -13
Parametric Lights : +11
Parametric Highlights : 0
Parametric Shadow Split : 25
Parametric Midtone Split : 50
Parametric Highlight Split : 75
Sharpen Radius : +1.6
Sharpen Detail : 42
Sharpen Edge Masking : 39
Post Crop Vignette Amount : 0
Convert To Grayscale : False
Tone Curve Name : Medium Contrast
Camera Profile : Embedded
Has Settings : True
Has Crop : False
Already Applied : True
Format : image/jpeg
Color Mode : RGB
ICC Profile Name : Adobe RGB (1998)
Flash Fired : False
Flash Return : No return detection
Flash Mode : Off
Flash Function : False
Flash Red Eye Mode : False
Tone Curve : 0, 0, 32, 22, 64, 56, 128, 128, 192, 196, 255, 255
Gradient Based Corr What : Correction
Gradient Based Corr Amount : 1.000000
Gradient Based Corr Active : true
Gradient Based Corr Exposure : -0.100000
Gradient Based Corr Saturation : -0.120000
Gradient Based Corr Contrast : 0.720000
Gradient Based Corr Clarity : 0.700000
Gradient Based Corr Brightness : -0.250000
Gradient Based Corr Toning Saturation : 0.040000
Gradient Based Corr Mask What : Mask/Gradient
Gradient Based Corr Mask Value : 1.000000
Gradient Based Corr Mask Zero X : 0.473354
Gradient Based Corr Mask Zero Y : 0.750000
Gradient Based Corr Mask Full X : 0.467085
Gradient Based Corr Mask Full Y : 0.000000
Image Width : 300
Image Height : 210
Bits Per Sample : 8
Color Components : 3
Aperture : 6.3
Image Size : 300x210
Megapixels : 0.063
Scale Factor To 35 mm Equivalent : 1.5
Shutter Speed : 1/800
Flash : Off, Did not fire
Circle Of Confusion : 0.020 mm
Field Of View : 53.1 deg
Focal Length : 24.0 mm (35 mm equivalent: 36.0 mm)
Hyperfocal Distance : 4.56 m
Light Value : 15.0
Lens ID : 24.0mm f/2.8