Uber Exif Photo
Make : LEICA CAMERA AG
Camera Model Name : LEICA X1
Orientation : Horizontal (normal)
Software : Adobe Photoshop CS4 Windows
Modify Date : 2012:01:25 21:55:09
Maker Note Safety : Safe
Exposure Time : 1/250
F Number : 5.0
Exposure Program : Program AE
ISO : 100
Date/Time Original : 2011:06:17 14:42:20
Create Date : 2011:06:17 14:42:20
Shutter Speed Value : 1/250
Aperture Value : 5.0
Exposure Compensation : 0
Max Aperture Value : 2.8
Metering Mode : Multi-segment
Light Source : Cloudy
Focal Length : 24.0 mm
Color Space : Uncalibrated
Exif Image Width : 1800
Exif Image Height : 1200
Sensing Method : One-chip color area
Custom Rendered : Normal
White Balance : Manual
Digital Zoom Ratio : 1
Focal Length In 35mm Format : 36 mm
Scene Capture Type : Landscape
Contrast : Normal
Saturation : Normal
Sharpness : Hard
Profile Description : ProPhoto RGB
Date/Time Digitized : 2011:06:17 14:42:20+02:00
Creator Tool : 2.0
Rating : 0
Serial Number : 000003814138
Lens Info : 24mm f/2.8
Lens : 24.0 mm f/2.8
Raw File Name : L1000825.DNG
Version : 5.0
Color Temperature : 6100
Tint : +14
Exposure : 0.00
Shadows : 5
Brightness : +50
Luminance Smoothing : 0
Color Noise Reduction : 25
Chromatic Aberration R : 0
Chromatic Aberration B : 0
Vignette Amount : -10
Vignette Midpoint : 50
Shadow Tint : 0
Red Hue : 0
Red Saturation : 0
Green Hue : 0
Green Saturation : 0
Blue Hue : 0
Blue Saturation : 0
Fill Light : 9
Vibrance : 0
Highlight Recovery : 30
Clarity : +19
Defringe : 0
Hue Adjustment Red : 0
Hue Adjustment Orange : 0
Hue Adjustment Yellow : 0
Hue Adjustment Green : 0
Hue Adjustment Aqua : 0
Hue Adjustment Blue : 0
Hue Adjustment Purple : 0
Hue Adjustment Magenta : 0
Saturation Adjustment Red : 0
Saturation Adjustment Orange : 0
Saturation Adjustment Yellow : 0
Saturation Adjustment Green : 0
Saturation Adjustment Aqua : 0
Saturation Adjustment Blue : 0
Saturation Adjustment Purple : 0
Saturation Adjustment Magenta : 0
Luminance Adjustment Red : 0
Luminance Adjustment Orange : 0
Luminance Adjustment Yellow : 0
Luminance Adjustment Green : 0
Luminance Adjustment Aqua : 0
Luminance Adjustment Blue : 0
Luminance Adjustment Purple : 0
Luminance Adjustment Magenta : 0
Split Toning Shadow Hue : 0
Split Toning Shadow Saturation : 0
Split Toning Highlight Hue : 0
Split Toning Highlight Saturation : 0
Split Toning Balance : 0
Parametric Shadows : 0
Parametric Darks : 0
Parametric Lights : 0
Parametric Highlights : 0
Parametric Shadow Split : 25
Parametric Midtone Split : 50
Parametric Highlight Split : 75
Sharpen Radius : +1.7
Sharpen Detail : 50
Sharpen Edge Masking : 48
Post Crop Vignette Amount : -73
Post Crop Vignette Midpoint : 37
Post Crop Vignette Feather : 50
Post Crop Vignette Roundness : +6
Convert To Grayscale : False
Tone Curve Name : Medium Contrast
Camera Profile : Adobe Standard
Has Settings : True
Crop Top : 0.078177
Crop Left : 0.336405
Crop Bottom : 0.876544
Crop Right : 0.827869
Crop Angle : 13.671307
Crop Width : 2
Crop Height : 3
Crop Unit : Unknown (3)
Has Crop : True
Already Applied : True
Format : image/jpeg
Color Mode : RGB
ICC Profile Name : ProPhoto RGB
Flash Fired : False
Flash Return : No return detection
Flash Mode : Off
Flash Function : False
Flash Red Eye Mode : False
Tone Curve : 0, 0, 32, 22, 64, 56, 128, 128, 192, 196, 255, 255
Image Width : 300
Image Height : 200
Bits Per Sample : 8
Color Components : 3
Aperture : 5.0
Image Size : 300x200
Megapixels : 0.060
Scale Factor To 35 mm Equivalent : 1.5
Shutter Speed : 1/250
Flash : Off, Did not fire
Circle Of Confusion : 0.020 mm
Field Of View : 53.1 deg
Focal Length : 24.0 mm (35 mm equivalent: 36.0 mm)
Hyperfocal Distance : 5.75 m
Light Value : 12.6
Lens ID : 24.0mm f/2.8