Uber Exif Photo
Make : LEICA CAMERA AG
Camera Model Name : LEICA X1
Orientation : Horizontal (normal)
Software : Adobe Photoshop CS4 Windows
Modify Date : 2011:08:17 22:22:40
Maker Note Safety : Safe
Exposure Time : 1/30
F Number : 2.8
Exposure Program : Program AE
ISO : 160
Date/Time Original : 2011:07:26 14:32:02
Create Date : 2011:07:26 14:32:02
Shutter Speed Value : 1/30
Aperture Value : 2.8
Exposure Compensation : 0
Max Aperture Value : 2.8
Metering Mode : Center-weighted average
Light Source : Unknown
Focal Length : 24.0 mm
Color Space : Uncalibrated
Exif Image Width : 1024
Exif Image Height : 806
Sensing Method : One-chip color area
Custom Rendered : Custom
White Balance : Auto
Digital Zoom Ratio : 1
Focal Length In 35mm Format : 36 mm
Scene Capture Type : Landscape
Contrast : High
Saturation : High
Sharpness : Hard
Date/Time Digitized : 2011:07:26 14:32:02+02:00
Creator Tool : 2.0
Rating : 0
Serial Number : 000003814138
Lens Info : 24mm f/2.8
Lens : 24.0 mm f/2.8
Raw File Name : L1001519.DNG
Version : 5.0
Color Temperature : 4250
Tint : +12
Exposure : -0.55
Shadows : 8
Brightness : +45
Luminance Smoothing : 0
Color Noise Reduction : 17
Chromatic Aberration R : 0
Chromatic Aberration B : 0
Vignette Amount : 0
Shadow Tint : 0
Red Hue : 0
Red Saturation : 0
Green Hue : 0
Green Saturation : 0
Blue Hue : 0
Blue Saturation : 0
Fill Light : 9
Vibrance : 0
Highlight Recovery : 37
Clarity : 0
Defringe : 0
Hue Adjustment Red : 0
Hue Adjustment Orange : 0
Hue Adjustment Yellow : 0
Hue Adjustment Green : 0
Hue Adjustment Aqua : 0
Hue Adjustment Blue : 0
Hue Adjustment Purple : 0
Hue Adjustment Magenta : 0
Saturation Adjustment Red : 0
Saturation Adjustment Orange : 0
Saturation Adjustment Yellow : 0
Saturation Adjustment Green : 0
Saturation Adjustment Aqua : 0
Saturation Adjustment Blue : 0
Saturation Adjustment Purple : 0
Saturation Adjustment Magenta : 0
Luminance Adjustment Red : 0
Luminance Adjustment Orange : 0
Luminance Adjustment Yellow : 0
Luminance Adjustment Green : 0
Luminance Adjustment Aqua : 0
Luminance Adjustment Blue : 0
Luminance Adjustment Purple : 0
Luminance Adjustment Magenta : 0
Split Toning Shadow Hue : 0
Split Toning Shadow Saturation : 0
Split Toning Highlight Hue : 0
Split Toning Highlight Saturation : 0
Split Toning Balance : 0
Parametric Shadows : 0
Parametric Darks : 0
Parametric Lights : 0
Parametric Highlights : 0
Parametric Shadow Split : 25
Parametric Midtone Split : 50
Parametric Highlight Split : 75
Sharpen Radius : +1.6
Sharpen Detail : 51
Sharpen Edge Masking : 41
Post Crop Vignette Amount : 0
Convert To Grayscale : False
Tone Curve Name : Medium Contrast
Camera Profile : Adobe Standard
Has Settings : True
Crop Top : 0
Crop Left : 0.009092
Crop Bottom : 1
Crop Right : 0.990908
Crop Angle : 0.561705
Crop Width : 2
Crop Height : 3
Crop Unit : Unknown (3)
Has Crop : True
Already Applied : True
Format : image/jpeg
Color Mode : RGB
ICC Profile Name : ProPhoto RGB
Flash Fired : False
Flash Return : No return detection
Flash Mode : Off
Flash Function : False
Flash Red Eye Mode : False
Tone Curve : 0, 0, 32, 22, 64, 56, 128, 128, 192, 196, 255, 255
Image Width : 300
Image Height : 236
Bits Per Sample : 8
Color Components : 1
Aperture : 2.8
Image Size : 300x236
Megapixels : 0.071
Scale Factor To 35 mm Equivalent : 1.5
Shutter Speed : 1/30
Flash : Off, Did not fire
Circle Of Confusion : 0.020 mm
Field Of View : 53.1 deg
Focal Length : 24.0 mm (35 mm equivalent: 36.0 mm)
Hyperfocal Distance : 10.27 m
Light Value : 7.2
Lens ID : 24.0mm f/2.8