Uber Exif Photo
Keywords : Color, Horse, Outdoor, Speed
By-line : Peter Gedeon
Country-Primary Location Name : Hungary
Copyright Flag : True
Photometric Interpretation : RGB
Make : Canon
Camera Model Name : Canon EOS REBEL T5i
Orientation : Horizontal (normal)
Samples Per Pixel : 3
Planar Configuration : Chunky
Software : Adobe Photoshop CC (Macintosh)
Modify Date : 2018:09:09 21:33:18
Artist : Peter Gedeon
Exposure Time : 1/8
F Number : 22.0
Exposure Program : Manual
ISO : 100
Sensitivity Type : Recommended Exposure Index
Recommended Exposure Index : 100
Date/Time Original : 2018:07:21 00:10:00
Create Date : 2018:07:21 00:10:00
Shutter Speed Value : 1/8
Aperture Value : 22.0
Exposure Compensation : 0
Max Aperture Value : 2.8
Metering Mode : Multi-segment
Flash : Off, Did not fire
Focal Length : 97.0 mm
Color Space : Uncalibrated
Exif Image Width : 1920
Exif Image Height : 1080
Custom Rendered : Normal
Exposure Mode : Manual
White Balance : Manual
Scene Capture Type : Standard
Serial Number : 132032006942
Lens Info : 70-200mm f/?
Lens Model : 70-200mm
Lens Serial Number : 0000000000
Profile Description : Adobe RGB (1998)
Rating : 5
Label : Select
Creator Tool : Adobe Photoshop CC (Macintosh)
Lens : 70-200mm
Image Number : 0
Approximate Focus Distance : 16.2
Flash Compensation : 0
Firmware : 1.1.3
Date Created : 2018:07:21 00:10:00.031
Country : Hungary
Credit : Photo (c) Gedeon Photography, 2018
Format : image/jpeg
Raw File Name : IMG_8022.CR2
Version : 10.0
Process Version : 10.0
Color Temperature : 5200
Tint : +5
Saturation : 0
Sharpness : 25
Luminance Smoothing : 0
Color Noise Reduction : 25
Vignette Amount : 0
Shadow Tint : 0
Red Hue : 0
Red Saturation : 0
Green Hue : 0
Green Saturation : 0
Blue Hue : 0
Blue Saturation : 0
Vibrance : +9
Hue Adjustment Red : 0
Hue Adjustment Orange : 0
Hue Adjustment Yellow : 0
Hue Adjustment Green : 0
Hue Adjustment Aqua : 0
Hue Adjustment Blue : 0
Hue Adjustment Purple : 0
Hue Adjustment Magenta : 0
Saturation Adjustment Red : 0
Saturation Adjustment Orange : 0
Saturation Adjustment Yellow : 0
Saturation Adjustment Green : 0
Saturation Adjustment Aqua : 0
Saturation Adjustment Blue : 0
Saturation Adjustment Purple : 0
Saturation Adjustment Magenta : 0
Luminance Adjustment Red : 0
Luminance Adjustment Orange : 0
Luminance Adjustment Yellow : 0
Luminance Adjustment Green : 0
Luminance Adjustment Aqua : 0
Luminance Adjustment Blue : 0
Luminance Adjustment Purple : 0
Luminance Adjustment Magenta : 0
Split Toning Shadow Hue : 0
Split Toning Shadow Saturation : 0
Split Toning Highlight Hue : 0
Split Toning Highlight Saturation : 0
Split Toning Balance : 0
Parametric Shadows : 0
Parametric Darks : 0
Parametric Lights : 0
Parametric Highlights : 0
Parametric Shadow Split : 25
Parametric Midtone Split : 50
Parametric Highlight Split : 75
Sharpen Radius : +1.0
Sharpen Detail : 25
Sharpen Edge Masking : 0
Post Crop Vignette Amount : 0
Grain Amount : 0
Color Noise Reduction Detail : 50
Color Noise Reduction Smoothness : 50
Lens Profile Enable : 0
Lens Manual Distortion Amount : 0
Perspective Vertical : 0
Perspective Horizontal : 0
Perspective Rotate : 0.0
Perspective Scale : 100
Perspective Aspect : 0
Perspective Upright : Off
Perspective X : 0.00
Perspective Y : 0.00
Auto Lateral CA : 0
Exposure 2012 : +0.15
Contrast 2012 : +31
Highlights 2012 : -100
Shadows 2012 : 0
Whites 2012 : -33
Blacks 2012 : -45
Clarity 2012 : +23
Defringe Purple Amount : 0
Defringe Purple Hue Lo : 30
Defringe Purple Hue Hi : 70
Defringe Green Amount : 0
Defringe Green Hue Lo : 40
Defringe Green Hue Hi : 60
Dehaze : 0
Convert To Grayscale : False
Tone Curve Name : Medium Contrast
Tone Curve Name 2012 : Linear
Camera Profile : Adobe Standard
Lens Profile Setup : LensDefaults
Has Settings : True
Has Crop : False
Already Applied : True
Marked : True
Creator : Peter Gedeon
Subject : Color, Horse, Outdoor, Speed
Tone Curve : 0, 0, 32, 22, 64, 56, 128, 128, 192, 196, 255, 255
Tone Curve Red : 0, 0, 255, 255
Tone Curve Green : 0, 0, 255, 255
Tone Curve Blue : 0, 0, 255, 255
Tone Curve PV2012 : 0, 0, 255, 255
Tone Curve PV2012 Red : 0, 0, 255, 255
Tone Curve PV2012 Green : 0, 0, 255, 255
Tone Curve PV2012 Blue : 0, 0, 255, 255
Hierarchical Subject : Outdoor, Other Keywords|Color, Horse, Speed
Creator City : Bradenton
Creator Country : USA
Creator Work Email : pGedeonFoto@yahoo.com
Image Width : 350
Image Height : 197
Bits Per Sample : 8
Color Components : 3
Aperture : 22.0
Image Size : 350x197
Megapixels : 0.069
Scale Factor To 35 mm Equivalent : 1.6
Shutter Speed : 1/8
Date/Time Original : 2018:07:21 00:10:00.31
Circle Of Confusion : 0.019 mm
Depth Of Field : 47.18 m (9.45 - 56.63 m)
Field Of View : 13.4 deg
Focal Length : 97.0 mm (35 mm equivalent: 153.7 mm)
Hyperfocal Distance : 22.55 m
Light Value : 11.9
Lens ID : Sigma 70-200mm f/2.8 EX DG APO OS HSM