Uber Exif Photo
Make : Leica Camera AG
Camera Model Name : M8 Digital Camera
Software : Adobe Photoshop Lightroom 4.0 (Windows)
Modify Date : 2013:01:13 20:05:21
Exposure Time : 1/6000
F Number : 2.8
Exposure Program : Aperture-priority AE
ISO : 160
Date/Time Original : 2011:06:05 01:52:49
Create Date : 2011:06:05 01:52:49
Shutter Speed Value : 1/6000
Aperture Value : 2.8
Exposure Compensation : 0
Max Aperture Value : 1.0
Metering Mode : Center-weighted average
Light Source : Unknown
Flash : Auto, Did not fire
Scene Type : Directly photographed
White Balance : Auto
Digital Zoom Ratio : 0
Scene Capture Type : Standard
Serial Number : 3101122
Creator Tool : Adobe Photoshop Lightroom 4.0 (Windows)
Version : 7.0
Process Version : 6.7
Color Temperature : 7287
Tint : -129
Exposure : 0.00
Shadows : 5
Brightness : +50
Contrast : +25
Sharpness : 25
Luminance Smoothing : 0
Color Noise Reduction : 25
Vignette Amount : 0
Shadow Tint : 0
Red Hue : 0
Red Saturation : 0
Green Hue : 0
Green Saturation : 0
Blue Hue : 0
Blue Saturation : 0
Fill Light : 0
Highlight Recovery : 0
Clarity : 0
Defringe : 0
Gray Mixer Red : 0
Gray Mixer Orange : 0
Gray Mixer Yellow : 0
Gray Mixer Green : 0
Gray Mixer Aqua : 0
Gray Mixer Blue : 0
Gray Mixer Purple : 0
Gray Mixer Magenta : 0
Split Toning Shadow Hue : 0
Split Toning Shadow Saturation : 0
Split Toning Highlight Hue : 0
Split Toning Highlight Saturation : 0
Split Toning Balance : 0
Parametric Shadows : +38
Parametric Darks : -10
Parametric Lights : +10
Parametric Highlights : 0
Parametric Shadow Split : 25
Parametric Midtone Split : 50
Parametric Highlight Split : 75
Sharpen Radius : +1.0
Sharpen Detail : 25
Sharpen Edge Masking : 0
Post Crop Vignette Amount : -15
Post Crop Vignette Midpoint : 50
Post Crop Vignette Feather : 50
Post Crop Vignette Roundness : 0
Post Crop Vignette Style : Highlight Priority
Post Crop Vignette Highlight Contrast : 0
Grain Amount : 0
Color Noise Reduction Detail : 50
Lens Profile Enable : 0
Lens Manual Distortion Amount : 0
Perspective Vertical : 0
Perspective Horizontal : 0
Perspective Rotate : 0.0
Perspective Scale : 100
Auto Lateral CA : 0
Exposure 2012 : +0.30
Contrast 2012 : +43
Highlights 2012 : +8
Shadows 2012 : +39
Whites 2012 : +9
Blacks 2012 : -15
Clarity 2012 : +40
Convert To Grayscale : True
Tone Curve Name : Linear
Tone Curve Name 2012 : Linear
Camera Profile : Adobe Standard
Lens Profile Setup : LensDefaults
Has Settings : True
Has Crop : False
Already Applied : True
Format : image/jpeg
Date Created : 2011:06:05 01:52:49-07:00
Tone Curve : 0, 0, 255, 255
Tone Curve Red : 0, 0, 255, 255
Tone Curve Green : 0, 0, 255, 255
Tone Curve Blue : 0, 0, 255, 255
Tone Curve PV2012 : 0, 0, 255, 255
Tone Curve PV2012 Red : 0, 0, 255, 255
Tone Curve PV2012 Green : 0, 0, 255, 255
Tone Curve PV2012 Blue : 0, 0, 255, 255
Derived From : Image Width : 300
Image Height : 202
Bits Per Sample : 8
Color Components : 1
Aperture : 2.8
Image Size : 300x202
Megapixels : 0.061
Scale Factor To 35 mm Equivalent : 17.6
Shutter Speed : 1/6000
Circle Of Confusion : 0.002 mm
Light Value : 14.8