Uber Exif Photo
Writer-Editor : Stéphane POUYLLAU
By-line : Stéphane POUYLLAU
By-line Title : the world of work
Object Name : the world of work
Copyright Flag : False
Make : Leica Camera AG
Camera Model Name : M9 Digital Camera
Orientation : Horizontal (normal)
Software : Adobe Photoshop CS3 Windows
Modify Date : 2011:05:29 12:09:08
Artist : Stéphane POUYLLAU
Maker Note Safety : Safe
Exposure Time : 1/250
F Number : 9.5
Exposure Program : Manual
ISO : 400
Sensitivity Type : Unknown
Date/Time Original : 2011:05:03 08:22:46
Create Date : 2011:05:03 08:22:46
Shutter Speed Value : 1/250
Aperture Value : 9.5
Exposure Compensation : +1
Max Aperture Value : 2.0
Metering Mode : Center-weighted average
Light Source : Unknown
Focal Length : 35.0 mm
Color Space : sRGB
Exif Image Width : 2100
Exif Image Height : 1563
Scene Type : Directly photographed
Exposure Mode : Manual
White Balance : Auto
Digital Zoom Ratio : 0
Focal Length In 35mm Format : 35 mm
Scene Capture Type : Standard
Serial Number : 3973112
Lens Model : Leica Summicron-M 35mm f/2 ASPH.
Date/Time Digitized : 2011:05:03 08:22:46+02:00
Creator Tool : Adobe Photoshop CS3 Windows
Lens : Leica Summicron-M 35mm f/2 ASPH.
Version : 6.3
Process Version : 5.7
Color Temperature : 5000
Tint : +22
Exposure : +0.25
Shadows : 25
Brightness : +70
Contrast : +53
Sharpness : 25
Luminance Smoothing : 0
Color Noise Reduction : 25
Chromatic Aberration R : 0
Chromatic Aberration B : 0
Vignette Amount : 0
Shadow Tint : 0
Red Hue : 0
Red Saturation : 0
Green Hue : 0
Green Saturation : 0
Blue Hue : 0
Blue Saturation : 0
Fill Light : 0
Highlight Recovery : 23
Clarity : 0
Defringe : 0
Gray Mixer Red : -9
Gray Mixer Orange : -16
Gray Mixer Yellow : -19
Gray Mixer Green : -24
Gray Mixer Aqua : -17
Gray Mixer Blue : +7
Gray Mixer Purple : +13
Gray Mixer Magenta : +2
Split Toning Shadow Hue : 0
Split Toning Shadow Saturation : 0
Split Toning Highlight Hue : 0
Split Toning Highlight Saturation : 0
Split Toning Balance : 0
Parametric Shadows : 0
Parametric Darks : 0
Parametric Lights : 0
Parametric Highlights : 0
Parametric Shadow Split : 25
Parametric Midtone Split : 50
Parametric Highlight Split : 75
Sharpen Radius : +1.0
Sharpen Detail : 25
Sharpen Edge Masking : 0
Post Crop Vignette Amount : 0
Grain Amount : 0
Color Noise Reduction Detail : 50
Lens Profile Enable : 0
Lens Manual Distortion Amount : 0
Perspective Vertical : 0
Perspective Horizontal : 0
Perspective Rotate : 0.0
Perspective Scale : 100
Convert To Grayscale : True
Tone Curve Name : Medium Contrast
Camera Profile : Adobe Standard
Lens Profile Setup : LensDefaults
Has Settings : True
Crop Top : 0
Crop Left : 0.062726
Crop Bottom : 0.84058
Crop Right : 0.814234
Crop Angle : 0
Crop Constrain To Warp : 0
Crop Width : 3917
Crop Height : 2915
Crop Unit : pixels
Has Crop : True
Already Applied : True
Format : image/jpeg
Color Mode : RGB
ICC Profile Name : sRGB IEC61966-2.1
Authors Position : the world of work
Caption Writer : Stéphane POUYLLAU
Flash Fired : False
Flash Return : No return detection
Flash Mode : Unknown
Flash Function : False
Flash Red Eye Mode : False
Tone Curve : 0, 0, 32, 22, 64, 56, 128, 128, 192, 196, 255, 255
Creator : Stéphane POUYLLAU
Title : the world of work
Derived From : Creator Work Email : stephane.pouyllau@gmail.com
Image Width : 300
Image Height : 223
Bits Per Sample : 8
Color Components : 1
Aperture : 9.5
Image Size : 300x223
Megapixels : 0.067
Scale Factor To 35 mm Equivalent : 1.0
Shutter Speed : 1/250
Flash : No Flash
Circle Of Confusion : 0.030 mm
Field Of View : 54.4 deg
Focal Length : 35.0 mm (35 mm equivalent: 35.0 mm)
Hyperfocal Distance : 4.29 m
Light Value : 12.5
Lens ID : Summicron-M 35mm f/2 ASPH.