Uber Exif Photo
Make : LEICA CAMERA AG
Camera Model Name : LEICA X1
Software : 2.0
Modify Date : 2011:04:25 07:32:16
Exposure Time : 1/50
F Number : 3.2
Exposure Program : Program AE
ISO : 1600
Date/Time Original : 2011:04:23 15:07:43
Create Date : 2011:04:23 15:07:43
Shutter Speed Value : 1/50
Aperture Value : 3.2
Exposure Compensation : 0
Max Aperture Value : 2.8
Metering Mode : Multi-segment
Light Source : Unknown
Focal Length : 24.0 mm
Original File Name : L9440219.DNG
Original Directory : 944LEICA
Focus Distance : 0.528 m
Exposure Mode : Program AE
File Index : 219
Film Mode : BW High Contrast
WB RGB Levels : 0.7377521614 0.9846153846 0.4776119403
Internal Serial Number : 000000000000
Sensing Method : One-chip color area
Custom Rendered : Custom
White Balance : Auto
Digital Zoom Ratio : 1
Focal Length In 35mm Format : 36 mm
Scene Capture Type : Landscape
Contrast : Normal
Saturation : Normal
Sharpness : Normal
Maker Note Safety : Safe
Profile Description : sRGB IEC61966-2.1
Date/Time Digitized : 2011:04:23 15:07:43+08:00
Exif Image Width : 669
Exif Image Height : 1000
Creator Tool : Adobe Photoshop Lightroom
Serial Number : 000003836724
Lens Info : 24mm f/2.8
Lens : 24.0 mm f/2.8
Version : 5.2
Color Temperature : 2850
Tint : 0
Exposure : -0.33
Shadows : 0
Brightness : +57
Luminance Smoothing : 57
Color Noise Reduction : 43
Chromatic Aberration R : 0
Chromatic Aberration B : 0
Vignette Amount : 0
Shadow Tint : 0
Red Hue : 0
Red Saturation : 0
Green Hue : 0
Green Saturation : 0
Blue Hue : 0
Blue Saturation : 0
Fill Light : 0
Vibrance : 0
Highlight Recovery : 25
Clarity : 0
Defringe : 0
Hue Adjustment Red : 0
Hue Adjustment Orange : 0
Hue Adjustment Yellow : 0
Hue Adjustment Green : 0
Hue Adjustment Aqua : 0
Hue Adjustment Blue : 0
Hue Adjustment Purple : 0
Hue Adjustment Magenta : 0
Saturation Adjustment Red : 0
Saturation Adjustment Orange : 0
Saturation Adjustment Yellow : 0
Saturation Adjustment Green : 0
Saturation Adjustment Aqua : 0
Saturation Adjustment Blue : 0
Saturation Adjustment Purple : 0
Saturation Adjustment Magenta : 0
Luminance Adjustment Red : 0
Luminance Adjustment Orange : 0
Luminance Adjustment Yellow : 0
Luminance Adjustment Green : 0
Luminance Adjustment Aqua : 0
Luminance Adjustment Blue : 0
Luminance Adjustment Purple : 0
Luminance Adjustment Magenta : 0
Split Toning Shadow Hue : 0
Split Toning Shadow Saturation : 0
Split Toning Highlight Hue : 0
Split Toning Highlight Saturation : 0
Split Toning Balance : 0
Parametric Shadows : 0
Parametric Darks : 0
Parametric Lights : 0
Parametric Highlights : 0
Parametric Shadow Split : 25
Parametric Midtone Split : 50
Parametric Highlight Split : 75
Sharpen Radius : +1.7
Sharpen Detail : 8
Sharpen Edge Masking : 17
Post Crop Vignette Amount : 0
Convert To Grayscale : False
Tone Curve Name : Medium Contrast
Camera Profile : Embedded
Has Settings : True
Has Crop : False
Already Applied : True
Flash Fired : False
Flash Return : No return detection
Flash Mode : Off
Flash Function : False
Flash Red Eye Mode : False
Tone Curve : 0, 0, 32, 22, 64, 56, 128, 128, 192, 196, 255, 255
Image Width : 201
Image Height : 300
Bits Per Sample : 8
Color Components : 3
Aperture : 3.2
Blue Balance : 0.485075
Image Size : 201x300
Megapixels : 0.060
Red Balance : 0.74928
Scale Factor To 35 mm Equivalent : 1.5
Shutter Speed : 1/50
Flash : Off, Did not fire
Circle Of Confusion : 0.020 mm
Depth Of Field : 0.06 m (0.50 - 0.56 m)
Field Of View : 51.0 deg (0.50 m)
Focal Length : 24.0 mm (35 mm equivalent: 36.0 mm)
Hyperfocal Distance : 8.99 m
Light Value : 5.0
Lens ID : 24.0mm f/2.8